Workbook

Sheet 115.11月菜單
B5: 11月2日(一) | F5: 11月3日(二) | J5: 11月4日(三) | N5: 11月5日(四) | R5: 11月6日(五)
B6: 香Q米飯 | F6: 五穀飯 | J6: 香Q米飯 | N6: 地瓜飯 | R6: 麻油海苔拌飯
B7: 卡茲鹽酥雞(炸) | F7: 新鮮肉排 | J7: 燒烤雞腿 | N7: 雙拼魚丁(海)(炸)-申請 | R7: 香烤雞翅
B8: 韓式肉片 | F8: 冬瓜燜雞 | J8: 絞肉滷蛋 | N8: 古早味肉燥(醃) | R8: 鍋貼(加)
B9: 小魚炒豆干(豆)(海) | F9: 香菇蒸蛋 | J9: 花椰菜拌蝦仁(海) | N9: 油蔥高麗菜 | R9: 東北豬肉白菜鍋(醃)
B10: 深色蔬菜 | F10: 淺色蔬菜 | J10: 深色蔬菜 | N10: 有機蔬菜 | R10: 深色蔬菜
B11: 紫菜蛋花湯 | F11: 蔬菜肉絲湯 | J11: 菜頭香菇湯 | N11: 柴魚豆腐湯(海)(豆) | R11: 冬瓜鮮菇湯
B12: 熱量: | C12: =第一週明細!W12 -> 716.4 | D12: 脂肪： | E12: =第一週明細!W8 -> 24 | F12: 熱量: | G12: =第一週明細!W20 -> 736.7 | H12: 脂肪： | I12: =第一週明細!W16 -> 23.5 | J12: 熱量: | K12: =第一週明細!W28 -> 721.1 | L12: 脂肪： | M12: =第一週明細!W24 -> 23.5 | N12: 熱量: | O12: =第一週明細!W36 -> 741 | P12: 脂肪： | Q12: =第一週明細!W32 -> 23 | R12: 熱量: | S12: =第一週明細!W44 -> 750.2 | T12: 脂肪： | U12: =第一週明細!W40 -> 23
B13: 醣類： | C13: =第一週明細!W6 -> 97.5 | D13: 蛋白質： | E13: =第一週明細!W10 -> 27.6 | F13: 醣類： | G13: =第一週明細!W14 -> 103.5 | H13: 蛋白質： | I13: =第一週明細!W18 -> 27.8 | J13: 醣類： | K13: =第一週明細!W22 -> 100 | L13: 蛋白質： | M13: =第一週明細!W26 -> 27.4 | N13: 醣類： | O13: =第一週明細!W30 -> 106 | P13: 蛋白質： | Q13: =第一週明細!W34 -> 27.5 | R13: 醣類： | S13: =第一週明細!W38 -> 108 | T13: 蛋白質： | U13: =第一週明細!W42 -> 27.8
B14: 11月9日(一) | F14: 11月10日(二) | J14: 11月11日(三) | N14: 11月12日(四) | R14: 11月13日(五)
B15: 香Q米飯 | F15: 糙米飯 | J15: 香Q米飯 | N15: 地瓜飯 | R15: 香菇肉燥乾麵
B16: 宮保雞丁(豆) | F16: 脆皮雞翅 | J16: 咕咾雞肉丁(炸) | N16: 蒜香中卷(豆)(海)-申請 | R16: 招牌香嫩雞腿
B17: 雙拼魚條(海加)(炸) | F17: 家常豆腐(豆) | J17: 特濃咖哩 | N17: 元氣豬肉排 | R17: 芋泥包(冷)
B18: 蕃茄炒蛋 | F18: 繽紛魷魚丸(海加) | J18: 國宴白菜西魯肉 | N18: 花椰炒菇菇 | R18: 蛋酥高麗菜
B19: 深色蔬菜 | F19: 淺色蔬菜 | J19: 深色蔬菜 | N19: 有機蔬菜 | R19: 深色蔬菜
B20: 竹筍湯 | F20: 香菇雞湯 | J20: 榨菜肉絲湯(醃) | N20: 相思紅豆湯 | R20: 味噌昆布湯/獎勵金豆奶
B21: 熱量: | C21: =第二週明細!W12 -> 726 | D21: 脂肪： | E21: =第二週明細!W8 -> 24 | F21: 熱量: | G21: =第二週明細!W20 -> 718.8 | H21: 脂肪： | I21: =第二週明細!W16 -> 24 | J21: 熱量: | K21: =第二週明細!W28 -> 726 | L21: 脂肪： | M21: =第二週明細!W24 -> 24 | N21: 熱量: | O21: =第二週明細!W36 -> 739 | P21: 脂肪： | Q21: =第二週明細!W32 -> 23 | R21: 熱量: | S21: =第二週明細!W44 -> 747.8 | T21: 脂肪： | U21: =第二週明細!W40 -> 23
B22: 醣類： | C22: =第二週明細!W6 -> 99.5 | D22: 蛋白質： | E22: =第二週明細!W10 -> 28 | F22: 醣類： | G22: =第二週明細!W14 -> 98 | H22: 蛋白質： | I22: =第二週明細!W18 -> 27.7 | J22: 醣類： | K22: =第二週明細!W22 -> 99.5 | L22: 蛋白質： | M22: =第二週明細!W26 -> 28 | N22: 醣類： | O22: =第二週明細!W30 -> 105 | P22: 蛋白質： | Q22: =第二週明細!W34 -> 28 | R22: 醣類： | S22: =第二週明細!W38 -> 107.5 | T22: 蛋白質： | U22: =第二週明細!W42 -> 27.7
B23: 11月16日(一) | F23: 11月17日(二) | J23: 11月18日(三) | N23: 11月19日(四) | R23: 11月20日(五)
B24: 香Q米飯 | F24: 五穀飯 | J24: 香Q米飯 | N24: 地瓜飯 | R24: 夜市鐵板麵
B25: 獨家鹹豬肉 | F25: 霸氣香酥雞腿(炸) | J25: 新鮮豬里肌排 | N25: 魷魚蝦仁總匯(海)-申請 | R25: 日式涮涮肉片
B26: 麥香雞堡肉(加)(炸) | F26: 滷蛋 | J26: 辣炒年糕黑輪(加)(冷) | N26: BBQ雞翅 | R26: 湯包(冷)
B27: 山東白菜滷 | F27: 滷味拼盤(豆) | J27: 北城豆腐鍋(豆) | N27: 銀芽拌肉燥 | R27: 椰菜拌香菇
B28: 深色蔬菜 | F28: 淺色蔬菜 | J28: 深色蔬菜 | N28: 有機蔬菜 | R28: 深色蔬菜
B29: 紫菜蛋花湯 | F29: 麵線糊湯(醃)(芡) | J29: 蘿蔔香菇湯 | N29: 冬瓜菇菇湯 | R29: 日式豆腐湯(豆)
B30: 熱量: | C30: ='第三週明細 '!W12 -> 721.1 | D30: 脂肪： | E30: ='第三週明細 '!W8 -> 23.5 | F30: 熱量: | G30: ='第三週明細 '!W20 -> 736.7 | H30: 脂肪： | I30: ='第三週明細 '!W16 -> 23.5 | J30: 熱量: | K30: ='第三週明細 '!W28 -> 754.6 | L30: 脂肪： | M30: ='第三週明細 '!W24 -> 23 | N30: 熱量: | O30: ='第三週明細 '!W36 -> 745.4 | P30: 脂肪： | Q30: ='第三週明細 '!W32 -> 23 | R30: 熱量: | S30: ='第三週明細 '!W44 -> 723.6 | T30: 脂肪： | U30: ='第三週明細 '!W40 -> 24
B31: 醣類： | C31: ='第三週明細 '!W6 -> 100 | D31: 蛋白質： | E31: ='第三週明細 '!W10 -> 27.4 | F31: 醣類： | G31: ='第三週明細 '!W14 -> 103.5 | H31: 蛋白質： | I31: ='第三週明細 '!W18 -> 27.8 | J31: 醣類： | K31: ='第三週明細 '!W22 -> 109 | L31: 蛋白質： | M31: ='第三週明細 '!W26 -> 27.9 | N31: 醣類： | O31: ='第三週明細 '!W30 -> 107 | P31: 蛋白質： | Q31: ='第三週明細 '!W34 -> 27.6 | R31: 醣類： | S31: ='第三週明細 '!W38 -> 99 | T31: 蛋白質： | U31: ='第三週明細 '!W42 -> 27.9
B32: 11月23日(一) | F32: 11月24日(二) | J32: 11月25日(三) | N32: 11月26日(四) | R32: 11月27日(五)
B33: 香Q米飯 | F33: 糙米飯 | J33: 香Q米飯 | N33: 地瓜飯 | R33: 蝦仁炒飯(海)
B34: 卡啦雞腿堡肉(加)(炸) | F34: 蜜香雞翅 | J34: 功夫烤鴨 | N34: 酥炸魚塊(海)(炸)-申請 | R34: 日式豬里肌
B35: 菜脯蛋(醃) | F35: 蒜香毛豆莢(豆) | J35: 壽喜燒肉片 | N35: 香噴噴肉燥(豆) | R35: 小肉包(冷)
B36: 韓式豆腐(豆) | F36: 咖哩豬肉 | J36: 豆干滷蛋(豆) | N36: 珍味白花菜 | R36: 酢醬高麗菜
B37: 深色蔬菜 | F37: 淺色蔬菜 | J37: 深色蔬菜 | N37: 有機蔬菜 | R37: 深色蔬菜
B38: 蘿蔔香菇湯 | F38: 鮮蔬蛋花湯 | J38: 玉米濃湯(芡) | N38: 綠豆芋圓(加) | R38: 香菇雞湯
B39: 熱量: | C39: ='第四週明細 '!W12 -> 726 | D39: 脂肪： | E39: ='第四週明細 '!W8 -> 24 | F39: 熱量: | G39: ='第四週明細 '!W20 -> 748.4 | H39: 脂肪： | I39: ='第四週明細 '!W16 -> 24 | J39: 熱量: | K39: ='第四週明細 '!W28 -> 734.3 | L39: 脂肪： | M39: ='第四週明細 '!W24 -> 23.5 | N39: 熱量: | O39: ='第四週明細 '!W36 -> 743.5 | P39: 脂肪： | Q39: ='第四週明細 '!W32 -> 23.5 | R39: 熱量: | S39: ='第四週明細 '!W44 -> 747.8 | T39: 脂肪： | U39: ='第四週明細 '!W40 -> 23
B40: 醣類： | C40: ='第四週明細 '!W6 -> 99.5 | D40: 蛋白質： | E40: ='第四週明細 '!W10 -> 28 | F40: 醣類： | G40: ='第四週明細 '!W14 -> 104.5 | H40: 蛋白質： | I40: ='第四週明細 '!W18 -> 28.6 | J40: 醣類： | K40: ='第四週明細 '!W22 -> 103 | L40: 蛋白質： | M40: ='第四週明細 '!W26 -> 27.7 | N40: 醣類： | O40: ='第四週明細 '!W30 -> 105 | P40: 蛋白質： | Q40: ='第四週明細 '!W34 -> 28 | R40: 醣類： | S40: ='第四週明細 '!W38 -> 107.5 | T40: 蛋白質： | U40: ='第四週明細 '!W42 -> 27.7
B41: 11月30日(一)
B42: 香Q米飯
B43: 檸檬雞翅(加)
B44: 家常炒米粉
B45: 川味豆腐(豆)
B46: 深色蔬菜 | O46: 每週供應魚類產品.小心魚刺
B47: 榨菜肉絲湯(醃) | N47: 豬肉來源:臺灣(豬肉及豬可食部位原料之原產地:臺灣)
B48: 熱量: | C48: =第五週明細!W12 -> 738.6 | D48: 脂肪： | E48: =第五週明細!W8 -> 23
B49: 醣類： | C49: =第五週明細!W6 -> 105.5 | D49: 蛋白質： | E49: =第五週明細!W10 -> 27.4

Sheet 第一週明細
B1: 115年11月2日-11月6日第一週菜單明細(員林國小--承富)
B3: 食材以可食量標示 | F3: 豬肉來源:臺灣(豬肉及豬可食部位原料之原產地:臺灣)
B4: 日期 | C4: 星期 | D4: 主食 | E4: 備註 | G4: 主菜 | H4: 備註 | J4: 副菜 | K4: 備註 | M4: 副菜 | N4: 備註 | P4: 副菜 | Q4: 備註 | S4: 湯 | T4: 備註 | V4: 水果/乳品 | W4: 營養分析 | X4: 食物類別 | Y4: 份數
B5: 11 | D5: ='115.11月菜單'!B6 -> 香Q米飯 | E5: 蒸 | F5: 個人量(克) | G5: ='115.11月菜單'!B7 -> 卡茲鹽酥雞(炸) | H5: 炸 | I5: 個人量(克) | J5: ='115.11月菜單'!B8 -> 韓式肉片 | K5: 煮 | L5: 個人量(克) | M5: ='115.11月菜單'!B9 -> 小魚炒豆干(豆)(海) | N5: 炒 | O5: 個人量(克) | P5: ='115.11月菜單'!B10 -> 深色蔬菜 | Q5: 川燙 | R5: 個人量(克) | S5: ='115.11月菜單'!B11 -> 紫菜蛋花湯 | T5: 煮 | U5: 個人量(克) | W5: 醣類： | X5: 主食類 | Y5: 5 | AC5: 蛋白質 | AD5: 脂肪 | AE5: 醣類 | AF5: 熱量
B6: 月 | D6: 白米 | F6: 100 | G6: 生鮮雞肉 | I6: 60 | J6: 甘藍 | L6: 50 | M6: 豆干 | N6: 豆 | O6: 40 | P6: 蔬菜 | R6: 100 | S6: 紫菜 | U6: 1 | W6: =Y5*15+Y6*0+Y7*5+Y8*0+Y9*15+Y10*12+15 -> 97.5 | X6: 豆魚肉蛋類 | Y6: 2.3 | AA6: 主食 | AB6: 6 | AC6: =AB6*2 -> 12 | AE6: =AB6*15 -> 90 | AF6: =AC6*4+AE6*4 -> 408
B7: 2 | J7: 生鮮豬肉片 | L7: 20 | M7: 小魚乾 | N7: 海 | O7: 3 | S7: 雞蛋 | U7: 10 | W7: 脂肪： | X7: 蔬菜類 | Y7: 1.5 | AA7: 肉 | AB7: 2 | AC7: =AB7*7 -> 14 | AD7: =AB7*5 -> 10 | AF7: =AC7*4+AD7*9 -> 146
B8: 日 | J8: 胡蘿蔔 | L8: 1 | S8: 粉薑 | U8: 1 | W8: =Y5*0+Y6*5+Y7*0+Y8*5+Y9*0+Y10*4 -> 24 | X8: 油脂類 | Y8: 2.5 | AA8: 菜 | AB8: 1.5 | AC8: =AB8*1 -> 1.5 | AE8: =AB8*5 -> 7.5 | AF8: =AC8*4+AE8*4 -> 36
B9: 星期一 | J9: 大蒜 | L9: 0.5 | W9: 蛋白質： | X9: 水果類 | Y9: 0 | AA9: 油 | AB9: 2.5 | AD9: =AB9*5 -> 12.5 | AF9: =AD9*9 -> 112.5
J10: 辣椒 | L10: 0.5 | W10: =Y5*2+Y6*7+Y7*1+Y8*0+Y9*0+Y10*8 -> 27.6 | X10: 奶類 | Y10: 0 | AA10: 水果 | AE10: =AB10*15 -> 0
B11: 餐數 | W11: 熱量： | AC11: =SUM(AC6:AC10) -> 27.5 | AD11: =SUM(AD6:AD10) -> 22.5 | AE11: =SUM(AE6:AE10) -> 97.5 | AF11: =AC11*4+AD11*9+AE11*4 -> 702.5
W12: =W6*4+W10*4+W8*9 -> 716.4 | AC12: =AC11*4/AF11 -> 0.15658363 | AD12: =AD11*9/AF11 -> 0.28825623 | AE12: =AE11*4/AF11 -> 0.55516014
B13: 11 | D13: ='115.11月菜單'!F6 -> 五穀飯 | E13: 蒸 | G13: ='115.11月菜單'!F7 -> 新鮮肉排 | H13: 滷 | J13: ='115.11月菜單'!F8 -> 冬瓜燜雞 | K13: 煮 | M13: ='115.11月菜單'!F9 -> 香菇蒸蛋 | N13: 蒸 | P13: ='115.11月菜單'!F10 -> 淺色蔬菜 | Q13: 川燙 | S13: ='115.11月菜單'!F11 -> 蔬菜肉絲湯 | T13: 煮 | W13: 醣類： | X13: 主食類 | Y13: 5.3 | AC13: 蛋白質 | AD13: 脂肪 | AE13: 醣類 | AF13: 熱量
B14: 月 | D14: 白米 | F14: 60 | G14: 生鮮豬里肌肉排 | I14: 40 | J14: 生鮮雞肉 | L14: 40 | M14: 香菇 | O14: 3 | P14: 蔬菜 | R14: 100 | S14: 甘藍 | U14: 30 | W14: =Y13*15+Y14*0+Y15*5+Y16*0+Y17*15+Y18*12+15 -> 103.5 | X14: 豆魚肉蛋類 | Y14: 2.2 | AA14: 主食 | AB14: 6.2 | AC14: =AB14*2 -> 12.4 | AE14: =AB14*15 -> 93 | AF14: =AC14*4+AE14*4 -> 421.6
B15: 3 | D15: 五穀米 | F15: 40 | J15: 冬瓜 | L15: 50 | M15: 雞蛋 | O15: 50 | S15: 生鮮後腿豬肉絲 | U15: 10 | W15: 脂肪： | X15: 蔬菜類 | Y15: 1.8 | AA15: 肉 | AB15: 2 | AC15: =AB15*7 -> 14 | AD15: =AB15*5 -> 10 | AF15: =AC15*4+AD15*9 -> 146
B16: 日 | S16: 胡蘿蔔 | U16: 1 | W16: =Y13*0+Y14*5+Y15*0+Y16*5+Y17*0+Y18*4 -> 23.5 | X16: 油脂類 | Y16: 2.5 | AA16: 菜 | AB16: 1.7 | AC16: =AB16*1 -> 1.7 | AE16: =AB16*5 -> 8.5 | AF16: =AC16*4+AE16*4 -> 40.8
B17: 星期二 | S17: 木耳 | U17: 1 | W17: 蛋白質： | X17: 水果類 | Y17: 0 | AA17: 油 | AB17: 2.5 | AD17: =AB17*5 -> 12.5 | AF17: =AD17*9 -> 112.5
W18: =Y13*2+Y14*7+Y15*1+Y16*0+Y17*0+Y18*8 -> 27.8 | X18: 奶類 | Y18: 0 | AA18: 水果 | AB18: 1 | AE18: =AB18*15 -> 15
B19: 餐數 | W19: 熱量： | AC19: =SUM(AC14:AC18) -> 28.1 | AD19: =SUM(AD14:AD18) -> 22.5 | AE19: =SUM(AE14:AE18) -> 116.5 | AF19: =AC19*4+AD19*9+AE19*4 -> 780.9
W20: =W14*4+W18*4+W16*9 -> 736.7 | AC20: =AC19*4/AF19 -> 0.14393648 | AD20: =AD19*9/AF19 -> 0.25931617 | AE20: =AE19*4/AF19 -> 0.59674734
B21: 11 | D21: ='115.11月菜單'!J6 -> 香Q米飯 | E21: 蒸 | G21: ='115.11月菜單'!J7 -> 燒烤雞腿 | H21: 烤 | J21: ='115.11月菜單'!J8 -> 絞肉滷蛋 | K21: 煮 | M21: ='115.11月菜單'!J9 -> 花椰菜拌蝦仁(海) | N21: 煮 | P21: ='115.11月菜單'!J10 -> 深色蔬菜 | Q21: 川燙 | S21: ='115.11月菜單'!J11 -> 菜頭香菇湯 | T21: 煮 | W21: 醣類： | X21: 主食類 | Y21: 5 | AC21: 蛋白質 | AD21: 脂肪 | AE21: 醣類 | AF21: 熱量
B22: 月 | D22: 白米 | F22: 100 | G22: 生鮮雞腿 | I22: 60 | J22: 生鮮豬絞肉 | L22: 5 | M22: 冷凍花椰菜 | O22: 70 | P22: 蔬菜 | R22: 100 | S22: 白蘿蔔 | U22: 20 | W22: =Y21*15+Y22*0+Y23*5+Y24*0+Y25*15+Y26*12+15 -> 100 | X22: 豆魚肉蛋類 | Y22: 2.2 | AA22: 主食 | AB22: 6.2 | AC22: =AB22*2 -> 12.4 | AE22: =AB22*15 -> 93 | AF22: =AC22*4+AE22*4 -> 421.6
B23: 4 | J23: 雞水煮蛋 | L23: 55 | M23: 胡蘿蔔 | O23: 1 | S23: 香菇 | U23: 1 | W23: 脂肪： | X23: 蔬菜類 | Y23: 2 | AA23: 肉 | AB23: 2.1 | AC23: =AB23*7 -> 14.7 | AD23: =AB23*5 -> 10.5 | AF23: =AC23*4+AD23*9 -> 153.3
B24: 日 | M24: 生鮮蝦仁 | N24: 海 | O24: 10 | S24: 杏鮑菇 | U24: 10 | W24: =Y21*0+Y22*5+Y23*0+Y24*5+Y25*0+Y26*4 -> 23.5 | X24: 油脂類 | Y24: 2.5 | AA24: 菜 | AB24: 1.6 | AC24: =AB24*1 -> 1.6 | AE24: =AB24*5 -> 8 | AF24: =AC24*4+AE24*4 -> 38.4
B25: 星期三 | W25: 蛋白質： | X25: 水果類 | Y25: 0 | AA25: 油 | AB25: 2.5 | AD25: =AB25*5 -> 12.5 | AF25: =AD25*9 -> 112.5
W26: =Y21*2+Y22*7+Y23*1+Y24*0+Y25*0+Y26*8 -> 27.4 | X26: 奶類 | Y26: 0 | AA26: 水果 | AE26: =AB26*15 -> 0
B27: 餐數 | W27: 熱量： | AC27: =SUM(AC22:AC26) -> 28.7 | AD27: =SUM(AD22:AD26) -> 23 | AE27: =SUM(AE22:AE26) -> 101 | AF27: =AC27*4+AD27*9+AE27*4 -> 725.8
W28: =W22*4+W26*4+W24*9 -> 721.1 | AC28: =AC27*4/AF27 -> 0.15817029 | AD28: =AD27*9/AF27 -> 0.28520254 | AE28: =AE27*4/AF27 -> 0.55662717
B29: 11 | D29: ='115.11月菜單'!N6 -> 地瓜飯 | E29: 蒸 | G29: ='115.11月菜單'!N7 -> 雙拼魚丁(海)(炸)-申請 | H29: 炸 | J29: ='115.11月菜單'!N8 -> 古早味肉燥(醃) | K29: 煮 | M29: ='115.11月菜單'!N9 -> 油蔥高麗菜 | N29: 煮 | P29: ='115.11月菜單'!N10 -> 有機蔬菜 | Q29: 川燙 | S29: ='115.11月菜單'!N11 -> 柴魚豆腐湯(海)(豆) | T29: 煮 | W29: 醣類： | X29: 主食類 | Y29: 5.4 | AC29: 蛋白質 | AD29: 脂肪 | AE29: 醣類 | AF29: 熱量
B30: 月 | D30: 白米 | F30: 90 | G30: 生鮮水鯊魚肉 | H30: 海 | I30: 40 | J30: 醃漬花胡瓜 | K30: 醃 | L30: 28 | M30: 甘藍 | O30: 50 | P30: 蔬菜 | R30: 100 | S30: 味噌 | U30: 1 | W30: =Y29*15+Y30*0+Y31*5+Y32*0+Y33*15+Y34*12+15 -> 106 | X30: 豆魚肉蛋類 | Y30: 2.1 | AA30: 主食 | AB30: 6 | AC30: =AB30*2 -> 12 | AE30: =AB30*15 -> 90 | AF30: =AC30*4+AE30*4 -> 408
B31: 5 | D31: 地瓜 | F31: 50 | G31: 杏鮑菇 | I31: 20 | J31: 生鮮豬絞肉 | L31: 30 | M31: 油蔥酥 | O31: 1 | S31: 傳統豆腐 | T31: 豆 | U31: 30 | W31: 脂肪： | X31: 蔬菜類 | Y31: 2 | AA31: 肉 | AB31: 2 | AC31: =AB31*7 -> 14 | AD31: =AB31*5 -> 10 | AF31: =AC31*4+AD31*9 -> 146
B32: 日 | J32: 油蔥酥 | L32: 1 | M32: 胡蘿蔔 | O32: 1 | S32: 粉薑 | U32: 1 | W32: =Y29*0+Y30*5+Y31*0+Y32*5+Y33*0+Y34*4 -> 23 | X32: 油脂類 | Y32: 2.5 | AA32: 菜 | AB32: 1.8 | AC32: =AB32*1 -> 1.8 | AE32: =AB32*5 -> 9 | AF32: =AC32*4+AE32*4 -> 43.2
B33: 星期四 | M33: 生鮮豬絞肉 | O33: 3 | S33: 柴魚片 | T33: 海 | U33: 1 | W33: 蛋白質： | X33: 水果類 | Y33: 0 | AA33: 油 | AB33: 2.5 | AD33: =AB33*5 -> 12.5 | AF33: =AD33*9 -> 112.5
W34: =Y29*2+Y30*7+Y31*1+Y32*0+Y33*0+Y34*8 -> 27.5 | X34: 奶類 | Y34: 0 | AA34: 水果 | AB34: 1 | AE34: =AB34*15 -> 15
B35: 餐數 | W35: 熱量： | AC35: =SUM(AC30:AC34) -> 27.8 | AD35: =SUM(AD30:AD34) -> 22.5 | AE35: =SUM(AE30:AE34) -> 114 | AF35: =AC35*4+AD35*9+AE35*4 -> 769.7
W36: =W30*4+W34*4+W32*9 -> 741 | AC36: =AC35*4/AF35 -> 0.14447187 | AD36: =AD35*9/AF35 -> 0.26308952 | AE36: =AE35*4/AF35 -> 0.59243861
B37: 11 | D37: ='115.11月菜單'!R6 -> 麻油海苔拌飯 | E37: 煮 | G37: ='115.11月菜單'!R7 -> 香烤雞翅 | H37: 烤 | J37: ='115.11月菜單'!R8 -> 鍋貼(加) | K37: 烤 | M37: ='115.11月菜單'!R9 -> 東北豬肉白菜鍋(醃) | N37: 煮 | P37: ='115.11月菜單'!R10 -> 深色蔬菜 | Q37: 川燙 | S37: ='115.11月菜單'!R11 -> 冬瓜鮮菇湯 | T37: 煮 | W37: 醣類： | X37: 主食類 | Y37: 5.5 | AC37: 蛋白質 | AD37: 脂肪 | AE37: 醣類 | AF37: 熱量
B38: 月 | D38: 白米 | F38: 90 | G38: 生鮮雞翅 | I38: 60 | J38: 豬肉鍋貼 | K38: 加 | L38: 20 | M38: 酸白菜 | N38: 醃 | O38: 15 | P38: 蔬菜 | R38: 100 | S38: 冬瓜 | U38: 30 | W38: =Y37*15+Y38*0+Y39*5+Y40*0+Y41*15+Y42*12+15 -> 108 | X38: 豆魚肉蛋類 | Y38: 2.1 | AA38: 主食 | AB38: 6 | AC38: =AB38*2 -> 12 | AE38: =AB38*15 -> 90 | AF38: =AC38*4+AE38*4 -> 408
B39: 6 | D39: 海苔 | F39: 1 | M39: 結球白菜 | O39: 40 | S39: 菇類 | U39: 10 | W39: 脂肪： | X39: 蔬菜類 | Y39: 2.1 | AA39: 肉 | AB39: 2.3 | AC39: =AB39*7 -> 16.1 | AD39: =AB39*5 -> 11.5 | AF39: =AC39*4+AD39*9 -> 167.9
B40: 日 | D40: 白芝麻 | F40: 1 | M40: 菇類 | O40: 10 | S40: 粉薑 | U40: 1 | W40: =Y37*0+Y38*5+Y39*0+Y40*5+Y41*0+Y42*4 -> 23 | X40: 油脂類 | Y40: 2.5 | AA40: 菜 | AB40: 1.6 | AC40: =AB40*1 -> 1.6 | AE40: =AB40*5 -> 8 | AF40: =AC40*4+AE40*4 -> 38.4
B41: 星期五 | M41: 胡蘿蔔 | O41: 1 | W41: 蛋白質： | X41: 水果類 | Y41: 0 | AA41: 油 | AB41: 2.5 | AD41: =AB41*5 -> 12.5 | AF41: =AD41*9 -> 112.5
M42: 生鮮豬肉片 | O42: 15 | W42: =Y37*2+Y38*7+Y39*1+Y40*0+Y41*0+Y42*8 -> 27.8 | X42: 奶類 | Y42: 0 | AA42: 水果 | AE42: =AB42*15 -> 0
B43: 餐數 | W43: 熱量： | AC43: =SUM(AC38:AC42) -> 29.7 | AD43: =SUM(AD38:AD42) -> 24 | AE43: =SUM(AE38:AE42) -> 98 | AF43: =AC43*4+AD43*9+AE43*4 -> 726.8
W44: =W38*4+W42*4+W40*9 -> 750.2 | AC44: =AC43*4/AF43 -> 0.16345625 | AD44: =AD43*9/AF43 -> 0.29719318 | AE44: =AE43*4/AF43 -> 0.53935058

Sheet 第二週明細
B1: 115年11月9日-11月13日第二週菜單明細(員林國小--承富)
B3: 食材以可食量標示 | F3: 豬肉來源:臺灣(豬肉及豬可食部位原料之原產地:臺灣)
B4: 日期 | C4: 星期 | D4: 主食 | E4: 備註 | G4: 主菜 | H4: 備註 | J4: 副菜 | K4: 備註 | M4: 副菜 | N4: 備註 | P4: 副菜 | Q4: 備註 | S4: 湯 | T4: 備註 | V4: 水果/乳品 | W4: 營養分析 | X4: 食物類別 | Y4: 份數
B5: 11 | D5: ='115.11月菜單'!B15 -> 香Q米飯 | E5: 蒸 | F5: 個人量(克) | G5: ='115.11月菜單'!B16 -> 宮保雞丁(豆) | H5: 煮 | I5: 個人量(克) | J5: ='115.11月菜單'!B17 -> 雙拼魚條(海加)(炸) | K5: 炸 | L5: 個人量(克) | M5: ='115.11月菜單'!B18 -> 蕃茄炒蛋 | N5: 炒 | O5: 個人量(克) | P5: ='115.11月菜單'!B19 -> 深色蔬菜 | Q5: 川燙 | R5: 個人量(克) | S5: ='115.11月菜單'!B20 -> 竹筍湯 | T5: 煮 | U5: 個人量(克) | W5: 醣類： | X5: 主食類 | Y5: 5 | AC5: 蛋白質 | AD5: 脂肪 | AE5: 醣類 | AF5: 熱量
B6: 月 | D6: 白米 | F6: 100 | G6: 豆干 | H6: 豆 | I6: 30 | J6: 鯰魚肉 | K6: 海加 | L6: 30 | M6: 蕃茄 | O6: 40 | P6: 蔬菜 | R6: 100 | S6: 新鮮麻竹筍 | U6: 30 | W6: =Y5*15+Y6*0+Y7*5+Y8*0+Y9*15+Y10*12+15 -> 99.5 | X6: 豆魚肉蛋類 | Y6: 2.3 | AA6: 主食 | AB6: 6 | AC6: =AB6*2 -> 12 | AE6: =AB6*15 -> 90 | AF6: =AC6*4+AE6*4 -> 408
B7: 9 | G7: 生鮮雞肉 | I7: 30 | J7: 杏鮑菇 | L7: 20 | M7: 雞蛋 | O7: 40 | W7: 脂肪： | X7: 蔬菜類 | Y7: 1.9 | AA7: 肉 | AB7: 2 | AC7: =AB7*7 -> 14 | AD7: =AB7*5 -> 10 | AF7: =AC7*4+AD7*9 -> 146
B8: 日 | W8: =Y5*0+Y6*5+Y7*0+Y8*5+Y9*0+Y10*4 -> 24 | X8: 油脂類 | Y8: 2.5 | AA8: 菜 | AB8: 1.5 | AC8: =AB8*1 -> 1.5 | AE8: =AB8*5 -> 7.5 | AF8: =AC8*4+AE8*4 -> 36
B9: 星期一 | W9: 蛋白質： | X9: 水果類 | Y9: 0 | AA9: 油 | AB9: 2.5 | AD9: =AB9*5 -> 12.5 | AF9: =AD9*9 -> 112.5
W10: =Y5*2+Y6*7+Y7*1+Y8*0+Y9*0+Y10*8 -> 28 | X10: 奶類 | Y10: 0 | AA10: 水果 | AE10: =AB10*15 -> 0
B11: 餐數 | W11: 熱量： | AC11: =SUM(AC6:AC10) -> 27.5 | AD11: =SUM(AD6:AD10) -> 22.5 | AE11: =SUM(AE6:AE10) -> 97.5 | AF11: =AC11*4+AD11*9+AE11*4 -> 702.5
W12: =W6*4+W10*4+W8*9 -> 726 | AC12: =AC11*4/AF11 -> 0.15658363 | AD12: =AD11*9/AF11 -> 0.28825623 | AE12: =AE11*4/AF11 -> 0.55516014
B13: 11 | D13: ='115.11月菜單'!F15 -> 糙米飯 | E13: 蒸 | G13: ='115.11月菜單'!F16 -> 脆皮雞翅 | H13: 烤 | J13: ='115.11月菜單'!F17 -> 家常豆腐(豆) | K13: 煮 | M13: ='115.11月菜單'!F18 -> 繽紛魷魚丸(海加) | N13: 烤 | P13: ='115.11月菜單'!F19 -> 淺色蔬菜 | Q13: 川燙 | S13: ='115.11月菜單'!F20 -> 香菇雞湯 | T13: 煮 | W13: 醣類： | X13: 主食類 | Y13: 5 | AC13: 蛋白質 | AD13: 脂肪 | AE13: 醣類 | AF13: 熱量
B14: 月 | D14: 白米 | F14: 60 | G14: 生鮮雞翅 | I14: 70 | J14: 傳統豆腐 | K14: 豆 | L14: 50 | M14: 冷凍青花菜 | O14: 30 | P14: 蔬菜 | R14: 100 | S14: 杏鮑菇 | U14: 30 | W14: =Y13*15+Y14*0+Y15*5+Y16*0+Y17*15+Y18*12+15 -> 98 | X14: 豆魚肉蛋類 | Y14: 2.3 | AA14: 主食 | AB14: 6.2 | AC14: =AB14*2 -> 12.4 | AE14: =AB14*15 -> 93 | AF14: =AC14*4+AE14*4 -> 421.6
B15: 10 | D15: 糙粳米 | F15: 40 | J15: 冷凍毛豆仁 | K15: 豆 | L15: 5 | M15: 冷凍魷魚丸 | N15: 海加 | O15: 30 | S15: 乾香菇 | U15: 1 | W15: 脂肪： | X15: 蔬菜類 | Y15: 1.6 | AA15: 肉 | AB15: 2 | AC15: =AB15*7 -> 14 | AD15: =AB15*5 -> 10 | AF15: =AC15*4+AD15*9 -> 146
B16: 日 | J16: 生鮮豬絞肉 | L16: 5 | S16: 生鮮雞胸肉 | U16: 15 | W16: =Y13*0+Y14*5+Y15*0+Y16*5+Y17*0+Y18*4 -> 24 | X16: 油脂類 | Y16: 2.5 | AA16: 菜 | AB16: 1.7 | AC16: =AB16*1 -> 1.7 | AE16: =AB16*5 -> 8.5 | AF16: =AC16*4+AE16*4 -> 40.8
B17: 星期二 | W17: 蛋白質： | X17: 水果類 | Y17: 0 | AA17: 油 | AB17: 2.5 | AD17: =AB17*5 -> 12.5 | AF17: =AD17*9 -> 112.5
W18: =Y13*2+Y14*7+Y15*1+Y16*0+Y17*0+Y18*8 -> 27.7 | X18: 奶類 | Y18: 0 | AA18: 水果 | AB18: 1 | AE18: =AB18*15 -> 15
B19: 餐數 | W19: 熱量： | AC19: =SUM(AC14:AC18) -> 28.1 | AD19: =SUM(AD14:AD18) -> 22.5 | AE19: =SUM(AE14:AE18) -> 116.5 | AF19: =AC19*4+AD19*9+AE19*4 -> 780.9
W20: =W14*4+W18*4+W16*9 -> 718.8 | AC20: =AC19*4/AF19 -> 0.14393648 | AD20: =AD19*9/AF19 -> 0.25931617 | AE20: =AE19*4/AF19 -> 0.59674734
B21: 11 | D21: ='115.11月菜單'!J15 -> 香Q米飯 | E21: 蒸 | G21: ='115.11月菜單'!J16 -> 咕咾雞肉丁(炸) | H21: 炸 | J21: ='115.11月菜單'!J17 -> 特濃咖哩 | K21: 煮 | M21: ='115.11月菜單'!J18 -> 國宴白菜西魯肉 | N21: 煮 | P21: ='115.11月菜單'!J19 -> 深色蔬菜 | Q21: 川燙 | S21: ='115.11月菜單'!J20 -> 榨菜肉絲湯(醃) | T21: 煮 | W21: 醣類： | X21: 主食類 | Y21: 5 | AC21: 蛋白質 | AD21: 脂肪 | AE21: 醣類 | AF21: 熱量
B22: 月 | D22: 白米 | F22: 100 | G22: 生鮮雞肉 | I22: 70 | J22: 馬鈴薯 | L22: 45 | M22: 菇類 | O22: 10 | P22: 蔬菜 | R22: 100 | S22: 榨菜 | T22: 醃 | U22: 30 | W22: =Y21*15+Y22*0+Y23*5+Y24*0+Y25*15+Y26*12+15 -> 99.5 | X22: 豆魚肉蛋類 | Y22: 2.3 | AA22: 主食 | AB22: 6.2 | AC22: =AB22*2 -> 12.4 | AE22: =AB22*15 -> 93 | AF22: =AC22*4+AE22*4 -> 421.6
B23: 11 | J23: 生鮮豬絞肉 | L23: 10 | M23: 結球白菜 | O23: 50 | R23: 60 | S23: 生鮮豬後腿肉絲 | U23: 10 | W23: 脂肪： | X23: 蔬菜類 | Y23: 1.9 | AA23: 肉 | AB23: 2.1 | AC23: =AB23*7 -> 14.7 | AD23: =AB23*5 -> 10.5 | AF23: =AC23*4+AD23*9 -> 153.3
B24: 日 | J24: 胡蘿蔔 | L24: 5 | M24: 生鮮豬肉片 | O24: 15 | R24: 30 | S24: 粉薑 | U24: 1 | W24: =Y21*0+Y22*5+Y23*0+Y24*5+Y25*0+Y26*4 -> 24 | X24: 油脂類 | Y24: 2.5 | AA24: 菜 | AB24: 1.6 | AC24: =AB24*1 -> 1.6 | AE24: =AB24*5 -> 8 | AF24: =AC24*4+AE24*4 -> 38.4
B25: 星期三 | J25: 咖哩粉 | L25: 1 | M25: 乾香菇絲 | O25: 1 | W25: 蛋白質： | X25: 水果類 | Y25: 0 | AA25: 油 | AB25: 2.5 | AD25: =AB25*5 -> 12.5 | AF25: =AD25*9 -> 112.5
M26: 胡蘿蔔 | O26: 1 | W26: =Y21*2+Y22*7+Y23*1+Y24*0+Y25*0+Y26*8 -> 28 | X26: 奶類 | Y26: 0 | AA26: 水果 | AE26: =AB26*15 -> 0
B27: 餐數 | W27: 熱量： | AC27: =SUM(AC22:AC26) -> 28.7 | AD27: =SUM(AD22:AD26) -> 23 | AE27: =SUM(AE22:AE26) -> 101 | AF27: =AC27*4+AD27*9+AE27*4 -> 725.8
W28: =W22*4+W26*4+W24*9 -> 726 | AC28: =AC27*4/AF27 -> 0.15817029 | AD28: =AD27*9/AF27 -> 0.28520254 | AE28: =AE27*4/AF27 -> 0.55662717
B29: 11 | D29: ='115.11月菜單'!N15 -> 地瓜飯 | E29: 蒸 | G29: ='115.11月菜單'!N16 -> 蒜香中卷(豆)(海)-申請 | H29: 煮 | J29: ='115.11月菜單'!N17 -> 元氣豬肉排 | K29: 滷 | M29: ='115.11月菜單'!N18 -> 花椰炒菇菇 | N29: 煮 | P29: ='115.11月菜單'!N19 -> 有機蔬菜 | Q29: 川燙 | S29: ='115.11月菜單'!N20 -> 相思紅豆湯 | T29: 芡 | W29: 醣類： | X29: 主食類 | Y29: 5.7 | AC29: 蛋白質 | AD29: 脂肪 | AE29: 醣類 | AF29: 熱量
B30: 月 | D30: 白米 | F30: 90 | G30: 生鮮阿根廷魷 | H30: 海 | I30: 60 | J30: 生鮮豬里肌肉排 | L30: 40 | M30: 冷凍花椰菜 | O30: 80 | P30: 蔬菜 | R30: 100 | S30: 冷凍玉米粒 | U30: 20 | W30: =Y29*15+Y30*0+Y31*5+Y32*0+Y33*15+Y34*12+10 -> 105 | X30: 豆魚肉蛋類 | Y30: 2.1 | AA30: 主食 | AB30: 6 | AC30: =AB30*2 -> 12 | AE30: =AB30*15 -> 90 | AF30: =AC30*4+AE30*4 -> 408
B31: 12 | D31: 地瓜 | F31: 50 | G31: 豆干 | H31: 豆 | I31: 10 | M31: 乾香菇絲 | O31: 1 | S31: 雞蛋 | U31: 10 | W31: 脂肪： | X31: 蔬菜類 | Y31: 1.9 | AA31: 肉 | AB31: 2 | AC31: =AB31*7 -> 14 | AD31: =AB31*5 -> 10 | AF31: =AC31*4+AD31*9 -> 146
B32: 日 | M32: 金針菇 | O32: 10 | W32: =Y29*0+Y30*5+Y31*0+Y32*5+Y33*0+Y34*4 -> 23 | X32: 油脂類 | Y32: 2.5 | AA32: 菜 | AB32: 1.8 | AC32: =AB32*1 -> 1.8 | AE32: =AB32*5 -> 9 | AF32: =AC32*4+AE32*4 -> 43.2
B33: 星期四 | M33: 胡蘿蔔 | O33: 1 | W33: 蛋白質： | X33: 水果類 | Y33: 0 | AA33: 油 | AB33: 2.5 | AD33: =AB33*5 -> 12.5 | AF33: =AD33*9 -> 112.5
W34: =Y29*2+Y30*7+Y31*1+Y32*0+Y33*0+Y34*8 -> 28 | X34: 奶類 | Y34: 0 | AA34: 水果 | AB34: 1 | AE34: =AB34*15 -> 15
B35: 餐數 | W35: 熱量： | AC35: =SUM(AC30:AC34) -> 27.8 | AD35: =SUM(AD30:AD34) -> 22.5 | AE35: =SUM(AE30:AE34) -> 114 | AF35: =AC35*4+AD35*9+AE35*4 -> 769.7
W36: =W30*4+W34*4+W32*9 -> 739 | AC36: =AC35*4/AF35 -> 0.14447187 | AD36: =AD35*9/AF35 -> 0.26308952 | AE36: =AE35*4/AF35 -> 0.59243861
B37: 11 | D37: ='115.11月菜單'!R15 -> 香菇肉燥乾麵 | E37: 煮 | G37: ='115.11月菜單'!R16 -> 招牌香嫩雞腿 | H37: 烤 | J37: ='115.11月菜單'!R17 -> 芋泥包(冷) | K37: 蒸 | M37: ='115.11月菜單'!R18 -> 蛋酥高麗菜 | N37: 炒 | P37: ='115.11月菜單'!R19 -> 深色蔬菜 | Q37: 川燙 | S37: ='115.11月菜單'!R20 -> 味噌昆布湯/獎勵金豆奶 | T37: 煮 | V37: 獎勵金豆奶 | W37: 醣類： | X37: 主食類 | Y37: 5.5 | AC37: 蛋白質 | AD37: 脂肪 | AE37: 醣類 | AF37: 熱量
B38: 月 | D38: 洋蔥 | F38: 10 | G38: 生鮮雞腿 | I38: 60 | J38: 芋泥包 | K38: 冷 | L38: 30 | M38: 雞蛋 | O38: 3 | P38: 蔬菜 | R38: 100 | S38: 味噌 | U38: 1 | W38: =Y37*15+Y38*0+Y39*5+Y40*0+Y41*15+Y42*12+15 -> 107.5 | X38: 豆魚肉蛋類 | Y38: 2.1 | AA38: 主食 | AB38: 6 | AC38: =AB38*2 -> 12 | AE38: =AB38*15 -> 90 | AF38: =AC38*4+AE38*4 -> 408
B39: 13 | D39: 生鮮豬絞肉 | F39: 10 | M39: 甘藍 | O39: 50 | R39: 35 | S39: 乾裙帶菜 | U39: 5 | W39: 脂肪： | X39: 蔬菜類 | Y39: 2 | AA39: 肉 | AB39: 2.3 | AC39: =AB39*7 -> 16.1 | AD39: =AB39*5 -> 11.5 | AF39: =AC39*4+AD39*9 -> 167.9
B40: 日 | D40: 麵條 | F40: 135 | M40: 胡蘿蔔 | O40: 1 | R40: 5 | S40: 粉薑 | U40: 1 | W40: =Y37*0+Y38*5+Y39*0+Y40*5+Y41*0+Y42*4 -> 23 | X40: 油脂類 | Y40: 2.5 | AA40: 菜 | AB40: 1.6 | AC40: =AB40*1 -> 1.6 | AE40: =AB40*5 -> 8 | AF40: =AC40*4+AE40*4 -> 38.4
B41: 星期五 | D41: 綠豆芽 | F41: 35 | M41: 油蔥酥 | O41: 1 | R41: 50 | W41: 蛋白質： | X41: 水果類 | Y41: 0 | AA41: 油 | AB41: 2.5 | AD41: =AB41*5 -> 12.5 | AF41: =AD41*9 -> 112.5
D42: 乾香菇絲 | F42: 0.5 | M42: 生鮮豬絞肉 | O42: 5 | W42: =Y37*2+Y38*7+Y39*1+Y40*0+Y41*0+Y42*8 -> 27.7 | X42: 奶類 | Y42: 0 | AA42: 水果 | AE42: =AB42*15 -> 0
B43: 餐數 | D43: 胡蘿蔔 | F43: 3 | W43: 熱量： | AC43: =SUM(AC38:AC42) -> 29.7 | AD43: =SUM(AD38:AD42) -> 24 | AE43: =SUM(AE38:AE42) -> 98 | AF43: =AC43*4+AD43*9+AE43*4 -> 726.8
W44: =W38*4+W42*4+W40*9 -> 747.8 | AC44: =AC43*4/AF43 -> 0.16345625 | AD44: =AD43*9/AF43 -> 0.29719318 | AE44: =AE43*4/AF43 -> 0.53935058

Sheet 第三週明細 
B1: 115年11月16日-11月20日第三週菜單明細(員林國小--承富)
B3: 食材以可食量標示 | F3: 豬肉來源:臺灣(豬肉及豬可食部位原料之原產地:臺灣)
B4: 日期 | C4: 星期 | D4: 主食 | E4: 備註 | G4: 主菜 | H4: 備註 | J4: 副菜 | K4: 備註 | M4: 副菜 | N4: 備註 | P4: 副菜 | Q4: 備註 | S4: 湯 | T4: 備註 | V4: 水果/乳品 | W4: 營養分析 | X4: 食物類別 | Y4: 份數
B5: 11 | D5: ='115.11月菜單'!B24 -> 香Q米飯 | E5: 蒸 | F5: 個人量(克) | G5: ='115.11月菜單'!B25 -> 獨家鹹豬肉 | H5: 炒 | I5: 個人量(克) | J5: ='115.11月菜單'!B26 -> 麥香雞堡肉(加)(炸) | K5: 炸 | L5: 個人量(克) | M5: ='115.11月菜單'!B27 -> 山東白菜滷 | N5: 煮 | O5: 個人量(克) | P5: ='115.11月菜單'!B28 -> 深色蔬菜 | Q5: 川燙 | R5: 個人量(克) | S5: ='115.11月菜單'!B29 -> 紫菜蛋花湯 | T5: 煮 | U5: 個人量(克) | W5: 醣類： | X5: 主食類 | Y5: 5 | AC5: 蛋白質 | AD5: 脂肪 | AE5: 醣類 | AF5: 熱量
B6: 月 | D6: 白米 | F6: 100 | G6: 生鮮豬後腿肉絲 | I6: 40 | J6: 雞堡肉 | K6: 加 | L6: 30 | M6: 結球白菜 | O6: 50 | P6: 蔬菜 | R6: 100 | S6: 紫菜 | U6: 1 | W6: =Y5*15+Y6*0+Y7*5+Y8*0+Y9*15+Y10*12+15 -> 100 | X6: 豆魚肉蛋類 | Y6: 2.2 | AA6: 主食 | AB6: 6 | AC6: =AB6*2 -> 12 | AE6: =AB6*15 -> 90 | AF6: =AC6*4+AE6*4 -> 408
B7: 16 | G7: 洋蔥 | I7: 30 | M7: 菇類 | O7: 10 | S7: 雞蛋 | U7: 10 | W7: 脂肪： | X7: 蔬菜類 | Y7: 2 | AA7: 肉 | AB7: 2 | AC7: =AB7*7 -> 14 | AD7: =AB7*5 -> 10 | AF7: =AC7*4+AD7*9 -> 146
B8: 日 | M8: 金針菇 | O8: 5 | S8: 粉薑 | U8: 1 | W8: =Y5*0+Y6*5+Y7*0+Y8*5+Y9*0+Y10*4 -> 23.5 | X8: 油脂類 | Y8: 2.5 | AA8: 菜 | AB8: 1.5 | AC8: =AB8*1 -> 1.5 | AE8: =AB8*5 -> 7.5 | AF8: =AC8*4+AE8*4 -> 36
B9: 星期一 | M9: 胡蘿蔔 | O9: 1 | W9: 蛋白質： | X9: 水果類 | Y9: 0 | AA9: 油 | AB9: 2.5 | AD9: =AB9*5 -> 12.5 | AF9: =AD9*9 -> 112.5
M10: 乾香菇絲 | O10: 1 | W10: =Y5*2+Y6*7+Y7*1+Y8*0+Y9*0+Y10*8 -> 27.4 | X10: 奶類 | Y10: 0 | AA10: 水果 | AE10: =AB10*15 -> 0
B11: 餐數 | W11: 熱量： | AC11: =SUM(AC6:AC10) -> 27.5 | AD11: =SUM(AD6:AD10) -> 22.5 | AE11: =SUM(AE6:AE10) -> 97.5 | AF11: =AC11*4+AD11*9+AE11*4 -> 702.5
W12: =W6*4+W10*4+W8*9 -> 721.1 | AC12: =AC11*4/AF11 -> 0.15658363 | AD12: =AD11*9/AF11 -> 0.28825623 | AE12: =AE11*4/AF11 -> 0.55516014
B13: 11 | D13: ='115.11月菜單'!F24 -> 五穀飯 | E13: 蒸 | G13: ='115.11月菜單'!F25 -> 霸氣香酥雞腿(炸) | H13: 炸 | J13: ='115.11月菜單'!F26 -> 滷蛋 | K13: 滷 | M13: ='115.11月菜單'!F27 -> 滷味拼盤(豆) | N13: 煮 | P13: ='115.11月菜單'!F28 -> 淺色蔬菜 | Q13: 川燙 | S13: ='115.11月菜單'!F29 -> 麵線糊湯(醃)(芡) | T13: 芡 | W13: 醣類： | X13: 主食類 | Y13: 5.3 | AC13: 蛋白質 | AD13: 脂肪 | AE13: 醣類 | AF13: 熱量
B14: 月 | D14: 五穀米 | F14: 40 | G14: 生鮮雞腿 | I14: 70 | J14: 雞水煮蛋 | L14: 55 | M14: 豆干 | N14: 豆 | O14: 15 | P14: 蔬菜 | R14: 100 | S14: 紅麵線 | U14: 8 | W14: =Y13*15+Y14*0+Y15*5+Y16*0+Y17*15+Y18*12+15 -> 103.5 | X14: 豆魚肉蛋類 | Y14: 2.2 | AA14: 主食 | AB14: 6.2 | AC14: =AB14*2 -> 12.4 | AE14: =AB14*15 -> 93 | AF14: =AC14*4+AE14*4 -> 421.6
B15: 17 | D15: 白米 | F15: 60 | M15: 黑豆干 | N15: 豆 | O15: 15 | S15: 脆筍 | T15: 醃 | U15: 10 | W15: 脂肪： | X15: 蔬菜類 | Y15: 1.8 | AA15: 肉 | AB15: 2 | AC15: =AB15*7 -> 14 | AD15: =AB15*5 -> 10 | AF15: =AC15*4+AD15*9 -> 146
B16: 日 | M16: 白蘿蔔 | O16: 50 | S16: 雞蛋 | U16: 3 | W16: =Y13*0+Y14*5+Y15*0+Y16*5+Y17*0+Y18*4 -> 23.5 | X16: 油脂類 | Y16: 2.5 | AA16: 菜 | AB16: 1.7 | AC16: =AB16*1 -> 1.7 | AE16: =AB16*5 -> 8.5 | AF16: =AC16*4+AE16*4 -> 40.8
B17: 星期二 | M17: 海帶結 | O17: 20 | S17: 胡蘿蔔 | U17: 1 | W17: 蛋白質： | X17: 水果類 | Y17: 0 | AA17: 油 | AB17: 2.5 | AD17: =AB17*5 -> 12.5 | AF17: =AD17*9 -> 112.5
S18: 木耳 | U18: 1 | W18: =Y13*2+Y14*7+Y15*1+Y16*0+Y17*0+Y18*8 -> 27.8 | X18: 奶類 | Y18: 0 | AA18: 水果 | AB18: 1 | AE18: =AB18*15 -> 15
B19: 餐數 | W19: 熱量： | AC19: =SUM(AC14:AC18) -> 28.1 | AD19: =SUM(AD14:AD18) -> 22.5 | AE19: =SUM(AE14:AE18) -> 116.5 | AF19: =AC19*4+AD19*9+AE19*4 -> 780.9
W20: =W14*4+W18*4+W16*9 -> 736.7 | AC20: =AC19*4/AF19 -> 0.14393648 | AD20: =AD19*9/AF19 -> 0.25931617 | AE20: =AE19*4/AF19 -> 0.59674734
B21: 11 | D21: ='115.11月菜單'!J24 -> 香Q米飯 | E21: 蒸 | G21: ='115.11月菜單'!J25 -> 新鮮豬里肌排 | H21: 滷 | J21: ='115.11月菜單'!J26 -> 辣炒年糕黑輪(加)(冷) | K21: 煮 | M21: ='115.11月菜單'!J27 -> 北城豆腐鍋(豆) | N21: 煮 | P21: ='115.11月菜單'!J28 -> 深色蔬菜 | Q21: 川燙 | S21: ='115.11月菜單'!J29 -> 蘿蔔香菇湯 | T21: 煮 | W21: 醣類： | X21: 主食類 | Y21: 5.6 | AC21: 蛋白質 | AD21: 脂肪 | AE21: 醣類 | AF21: 熱量
B22: 月 | D22: 白米 | F22: 100 | G22: 生鮮豬里肌肉排 | I22: 40 | J22: 年糕 | K22: 冷 | L22: 20 | M22: 傳統豆腐 | N22: 豆 | O22: 20 | P22: 蔬菜 | R22: 100 | S22: 白蘿蔔 | U22: 20 | W22: =Y21*15+Y22*0+Y23*5+Y24*0+Y25*15+Y26*12+15 -> 109 | X22: 豆魚肉蛋類 | Y22: 2.1 | AA22: 主食 | AB22: 6.2 | AC22: =AB22*2 -> 12.4 | AE22: =AB22*15 -> 93 | AF22: =AC22*4+AE22*4 -> 421.6
B23: 18 | J23: 黑輪 | K23: 加 | L23: 20 | M23: 甘藍 | O23: 50 | S23: 香菇 | U23: 1 | W23: 脂肪： | X23: 蔬菜類 | Y23: 2 | AA23: 肉 | AB23: 2.1 | AC23: =AB23*7 -> 14.7 | AD23: =AB23*5 -> 10.5 | AF23: =AC23*4+AD23*9 -> 153.3
B24: 日 | M24: 胡蘿蔔 | O24: 1 | S24: 杏鮑菇 | U24: 10 | W24: =Y21*0+Y22*5+Y23*0+Y24*5+Y25*0+Y26*4 -> 23 | X24: 油脂類 | Y24: 2.5 | AA24: 菜 | AB24: 1.6 | AC24: =AB24*1 -> 1.6 | AE24: =AB24*5 -> 8 | AF24: =AC24*4+AE24*4 -> 38.4
B25: 星期三 | M25: 菇類 | O25: 10 | W25: 蛋白質： | X25: 水果類 | Y25: 0 | AA25: 油 | AB25: 2.5 | AD25: =AB25*5 -> 12.5 | AF25: =AD25*9 -> 112.5
M26: 生鮮豬前腿肉片 | O26: 10 | W26: =Y21*2+Y22*7+Y23*1+Y24*0+Y25*0+Y26*8 -> 27.9 | X26: 奶類 | Y26: 0 | AA26: 水果 | AE26: =AB26*15 -> 0
B27: 餐數 | W27: 熱量： | AC27: =SUM(AC22:AC26) -> 28.7 | AD27: =SUM(AD22:AD26) -> 23 | AE27: =SUM(AE22:AE26) -> 101 | AF27: =AC27*4+AD27*9+AE27*4 -> 725.8
W28: =W22*4+W26*4+W24*9 -> 754.6 | AC28: =AC27*4/AF27 -> 0.15817029 | AD28: =AD27*9/AF27 -> 0.28520254 | AE28: =AE27*4/AF27 -> 0.55662717
B29: 11 | D29: ='115.11月菜單'!N24 -> 地瓜飯 | E29: 蒸 | G29: ='115.11月菜單'!N25 -> 魷魚蝦仁總匯(海)-申請 | H29: 煮 | J29: ='115.11月菜單'!N26 -> BBQ雞翅 | K29: 烤 | M29: ='115.11月菜單'!N27 -> 銀芽拌肉燥 | N29: 煮 | P29: ='115.11月菜單'!N28 -> 有機蔬菜 | Q29: 川燙 | S29: ='115.11月菜單'!N29 -> 冬瓜菇菇湯 | T29: 煮 | W29: 醣類： | X29: 主食類 | Y29: 5.5 | AC29: 蛋白質 | AD29: 脂肪 | AE29: 醣類 | AF29: 熱量
B30: 月 | D30: 白米 | F30: 90 | G30: 生鮮阿根廷魷 | H30: 海 | I30: 60 | J30: 生鮮雞翅 | L30: 60 | M30: 綠豆芽 | O30: 50 | P30: 蔬菜 | R30: 100 | S30: 冬瓜 | U30: 30 | W30: =Y29*15+Y30*0+Y31*5+Y32*0+Y33*15+Y34*12+15 -> 107 | X30: 豆魚肉蛋類 | Y30: 2.1 | AA30: 主食 | AB30: 6 | AC30: =AB30*2 -> 12 | AE30: =AB30*15 -> 90 | AF30: =AC30*4+AE30*4 -> 408
B31: 19 | D31: 地瓜 | F31: 50 | G31: 生鮮蝦仁 | H31: 海 | I31: 10 | M31: 胡蘿蔔 | O31: 1 | S31: 菇類 | U31: 10 | W31: 脂肪： | X31: 蔬菜類 | Y31: 1.9 | AA31: 肉 | AB31: 2 | AC31: =AB31*7 -> 14 | AD31: =AB31*5 -> 10 | AF31: =AC31*4+AD31*9 -> 146
B32: 日 | G32: 冷凍玉米粒 | I32: 10 | M32: 生鮮豬絞肉 | O32: 5 | S32: 粉薑 | U32: 1 | W32: =Y29*0+Y30*5+Y31*0+Y32*5+Y33*0+Y34*4 -> 23 | X32: 油脂類 | Y32: 2.5 | AA32: 菜 | AB32: 1.8 | AC32: =AB32*1 -> 1.8 | AE32: =AB32*5 -> 9 | AF32: =AC32*4+AE32*4 -> 43.2
B33: 星期四 | G33: 冷凍毛豆仁 | H33: 豆 | I33: 5 | M33: 乾香菇絲 | O33: 1 | W33: 蛋白質： | X33: 水果類 | Y33: 0 | AA33: 油 | AB33: 2.5 | AD33: =AB33*5 -> 12.5 | AF33: =AD33*9 -> 112.5
W34: =Y29*2+Y30*7+Y31*1+Y32*0+Y33*0+Y34*8 -> 27.6 | X34: 奶類 | Y34: 0 | AA34: 水果 | AB34: 1 | AE34: =AB34*15 -> 15
B35: 餐數 | W35: 熱量： | AC35: =SUM(AC30:AC34) -> 27.8 | AD35: =SUM(AD30:AD34) -> 22.5 | AE35: =SUM(AE30:AE34) -> 114 | AF35: =AC35*4+AD35*9+AE35*4 -> 769.7
W36: =W30*4+W34*4+W32*9 -> 745.4 | AC36: =AC35*4/AF35 -> 0.14447187 | AD36: =AD35*9/AF35 -> 0.26308952 | AE36: =AE35*4/AF35 -> 0.59243861
B37: 11 | D37: ='115.11月菜單'!R24 -> 夜市鐵板麵 | E37: 煮 | G37: ='115.11月菜單'!R25 -> 日式涮涮肉片 | H37: 煮 | J37: ='115.11月菜單'!R26 -> 湯包(冷) | K37: 蒸 | M37: ='115.11月菜單'!R27 -> 椰菜拌香菇 | N37: 炒 | P37: ='115.11月菜單'!R28 -> 深色蔬菜 | Q37: 川燙 | S37: ='115.11月菜單'!R29 -> 日式豆腐湯(豆) | T37: 煮 | W37: 醣類： | X37: 主食類 | Y37: 5 | AC37: 蛋白質 | AD37: 脂肪 | AE37: 醣類 | AF37: 熱量
B38: 月 | D38: 麵條 | F38: 120 | G38: 洋蔥 | I38: 10 | J38: 湯包 | K38: 冷 | L38: 20 | M38: 冷凍花椰菜 | O38: 65 | P38: 蔬菜 | R38: 100 | S38: 味噌 | U38: 1 | W38: =Y37*15+Y38*0+Y39*5+Y40*0+Y41*15+Y42*12+15 -> 99 | X38: 豆魚肉蛋類 | Y38: 2.3 | AA38: 主食 | AB38: 6 | AC38: =AB38*2 -> 12 | AE38: =AB38*15 -> 90 | AF38: =AC38*4+AE38*4 -> 408
B39: 20 | D39: 生鮮豬絞肉 | F39: 20 | G39: 生鮮豬肉片 | I39: 40 | M39: 乾香菇絲 | O39: 1 | S39: 傳統豆腐 | T39: 豆 | U39: 30 | W39: 脂肪： | X39: 蔬菜類 | Y39: 1.8 | AA39: 肉 | AB39: 2.3 | AC39: =AB39*7 -> 16.1 | AD39: =AB39*5 -> 11.5 | AF39: =AC39*4+AD39*9 -> 167.9
B40: 日 | D40: 洋蔥 | F40: 10 | M40: 菇類 | O40: 5 | S40: 粉薑 | U40: 1 | W40: =Y37*0+Y38*5+Y39*0+Y40*5+Y41*0+Y42*4 -> 24 | X40: 油脂類 | Y40: 2.5 | AA40: 菜 | AB40: 1.6 | AC40: =AB40*1 -> 1.6 | AE40: =AB40*5 -> 8 | AF40: =AC40*4+AE40*4 -> 38.4
B41: 星期五 | D41: 三色豆 | F41: 1 | W41: 蛋白質： | X41: 水果類 | Y41: 0 | AA41: 油 | AB41: 2.5 | AD41: =AB41*5 -> 12.5 | AF41: =AD41*9 -> 112.5
W42: =Y37*2+Y38*7+Y39*1+Y40*0+Y41*0+Y42*8 -> 27.9 | X42: 奶類 | Y42: 0 | AA42: 水果 | AE42: =AB42*15 -> 0
B43: 餐數 | W43: 熱量： | AC43: =SUM(AC38:AC42) -> 29.7 | AD43: =SUM(AD38:AD42) -> 24 | AE43: =SUM(AE38:AE42) -> 98 | AF43: =AC43*4+AD43*9+AE43*4 -> 726.8
W44: =W38*4+W42*4+W40*9 -> 723.6 | AC44: =AC43*4/AF43 -> 0.16345625 | AD44: =AD43*9/AF43 -> 0.29719318 | AE44: =AE43*4/AF43 -> 0.53935058

Sheet 第四週明細 
B1: 115年11月23日--11月27日第四週菜單明細(員林國小--承富)
B3: 食材以可食量標示 | F3: 豬肉來源:臺灣(豬肉及豬可食部位原料之原產地:臺灣)
B4: 日期 | C4: 星期 | D4: 主食 | E4: 備註 | G4: 主菜 | H4: 備註 | J4: 副菜 | K4: 備註 | M4: 副菜 | N4: 備註 | P4: 副菜 | Q4: 備註 | S4: 湯 | T4: 備註 | V4: 水果/乳品 | W4: 營養分析 | X4: 食物類別 | Y4: 份數
B5: 11 | D5: ='115.11月菜單'!B33 -> 香Q米飯 | E5: 蒸 | F5: 個人量(克) | G5: ='115.11月菜單'!B34 -> 卡啦雞腿堡肉(加)(炸) | H5: 炸 | I5: 個人量(克) | J5: ='115.11月菜單'!B35 -> 菜脯蛋(醃) | K5: 炒 | L5: 個人量(克) | M5: ='115.11月菜單'!B36 -> 韓式豆腐(豆) | N5: 煮 | O5: 個人量(克) | P5: ='115.11月菜單'!B37 -> 深色蔬菜 | Q5: 川燙 | R5: 個人量(克) | S5: ='115.11月菜單'!B38 -> 蘿蔔香菇湯 | T5: 煮 | U5: 個人量(克) | W5: 醣類： | X5: 主食類 | Y5: 5
B6: 月 | D6: 白米 | F6: 100 | G6: 雞腿堡肉 | H6: 加 | I6: 50 | J6: 蘿蔔乾 | K6: 醃 | L6: 20 | M6: 傳統豆腐 | N6: 豆 | O6: 20 | P6: 蔬菜 | R6: 100 | S6: 白蘿蔔 | U6: 20 | W6: =Y5*15+Y6*0+Y7*5+Y8*0+Y9*15+Y10*12+15 -> 99.5 | X6: 豆魚肉蛋類 | Y6: 2.3
B7: 23 | J7: 雞蛋 | L7: 40 | M7: 結球白菜 | O7: 50 | S7: 香菇 | U7: 1 | W7: 脂肪： | X7: 蔬菜類 | Y7: 1.9
B8: 日 | M8: 胡蘿蔔 | O8: 1 | S8: 杏鮑菇 | U8: 10 | W8: =Y5*0+Y6*5+Y7*0+Y8*5+Y9*0+Y10*4 -> 24 | X8: 油脂類 | Y8: 2.5
B9: 星期一 | M9: 菇類 | O9: 10 | W9: 蛋白質： | X9: 水果類 | Y9: 0
W10: =Y5*2+Y6*7+Y7*1+Y8*0+Y9*0+Y10*8 -> 28 | X10: 奶類 | Y10: 0
B11: 餐數 | W11: 熱量：
W12: =W6*4+W10*4+W8*9 -> 726
B13: 11 | D13: ='115.11月菜單'!F33 -> 糙米飯 | E13: 蒸 | G13: ='115.11月菜單'!F34 -> 蜜香雞翅 | H13: 烤 | J13: ='115.11月菜單'!F35 -> 蒜香毛豆莢(豆) | K13: 炒 | M13: ='115.11月菜單'!F36 -> 咖哩豬肉 | N13: 煮 | P13: ='115.11月菜單'!F37 -> 淺色蔬菜 | Q13: 川燙 | S13: ='115.11月菜單'!F38 -> 鮮蔬蛋花湯 | T13: 煮 | W13: 醣類： | X13: 主食類 | Y13: 5.4 | AC13: 蛋白質 | AD13: 脂肪 | AE13: 醣類 | AF13: 熱量
B14: 月 | D14: 糙粳米 | F14: 40 | G14: 生鮮雞翅 | I14: 60 | J14: 帶夾毛豆 | K14: 豆 | L14: 25 | M14: 馬鈴薯 | O14: 40 | P14: 蔬菜 | R14: 100 | S14: 甘藍 | U14: 30 | W14: =Y13*15+Y14*0+Y15*5+Y16*0+Y17*15+Y18*12+15 -> 104.5 | X14: 豆魚肉蛋類 | Y14: 2.3 | AA14: 主食 | AB14: 6.2 | AC14: =AB14*2 -> 12.4 | AE14: =AB14*15 -> 93 | AF14: =AC14*4+AE14*4 -> 421.6
B15: 24 | D15: 白米 | F15: 60 | J15: 杏鮑菇 | L15: 40 | M15: 生鮮豬肉丁 | O15: 20 | S15: 雞蛋 | U15: 10 | W15: 脂肪： | X15: 蔬菜類 | Y15: 1.7 | AA15: 肉 | AB15: 2 | AC15: =AB15*7 -> 14 | AD15: =AB15*5 -> 10 | AF15: =AC15*4+AD15*9 -> 146
B16: 日 | M16: 胡蘿蔔 | O16: 5 | S16: 胡蘿蔔 | U16: 1 | W16: =Y13*0+Y14*5+Y15*0+Y16*5+Y17*0+Y18*4 -> 24 | X16: 油脂類 | Y16: 2.5 | AA16: 菜 | AB16: 1.6 | AC16: =AB16*1 -> 1.6 | AE16: =AB16*5 -> 8 | AF16: =AC16*4+AE16*4 -> 38.4
B17: 星期二 | M17: 咖哩粉 | O17: 1 | S17: 木耳 | U17: 1 | W17: 蛋白質： | X17: 水果類 | Y17: 0 | AA17: 油 | AB17: 2.5 | AD17: =AB17*5 -> 12.5 | AF17: =AD17*9 -> 112.5
W18: =Y13*2+Y14*7+Y15*1+Y16*0+Y17*0+Y18*8 -> 28.6 | X18: 奶類 | Y18: 0 | AA18: 水果 | AB18: 1 | AE18: =AB18*15 -> 15
B19: 餐數 | W19: 熱量： | AC19: =SUM(AC14:AC18) -> 28 | AD19: =SUM(AD14:AD18) -> 22.5 | AE19: =SUM(AE14:AE18) -> 116 | AF19: =AC19*4+AD19*9+AE19*4 -> 778.5
W20: =W14*4+W18*4+W16*9 -> 748.4 | AC20: =AC19*4/AF19 -> 0.14386641 | AD20: =AD19*9/AF19 -> 0.26011561 | AE20: =AE19*4/AF19 -> 0.59601798
B21: 11 | D21: ='115.11月菜單'!J33 -> 香Q米飯 | E21: 蒸 | G21: ='115.11月菜單'!J34 -> 功夫烤鴨 | H21: 炒 | J21: ='115.11月菜單'!J35:M35 -> 壽喜燒肉片 | K21: 煮 | M21: ='115.11月菜單'!J36 -> 豆干滷蛋(豆) | N21: 煮 | P21: ='115.11月菜單'!J37 -> 深色蔬菜 | Q21: 川燙 | S21: ='115.11月菜單'!J38 -> 玉米濃湯(芡) | T21: 芡 | W21: 醣類： | X21: 主食類 | Y21: 5.3 | AC21: 蛋白質 | AD21: 脂肪 | AE21: 醣類 | AF21: 熱量
B22: 月 | D22: 白米 | F22: 100 | G22: 生鮮鴨肉 | I22: 40 | J22: 綠豆芽 | L22: 60 | M22: 豆干 | N22: 豆 | O22: 30 | P22: 蔬菜 | R22: 100 | S22: 冷凍玉米粒 | U22: 20 | W22: =Y21*15+Y22*0+Y23*5+Y24*0+Y25*15+Y26*12+15 -> 103 | X22: 豆魚肉蛋類 | Y22: 2.2 | AA22: 主食 | AB22: 6.2 | AC22: =AB22*2 -> 12.4 | AE22: =AB22*15 -> 93 | AF22: =AC22*4+AE22*4 -> 421.6
B23: 25 | J23: 生鮮豬肉片 | L23: 15 | M23: 雞水煮蛋 | O23: 55 | S23: 雞蛋 | U23: 10 | W23: 脂肪： | X23: 蔬菜類 | Y23: 1.7 | AA23: 肉 | AB23: 2.2 | AC23: =AB23*7 -> 15.4 | AD23: =AB23*5 -> 11 | AF23: =AC23*4+AD23*9 -> 160.6
B24: 日 | J24: 胡蘿蔔 | L24: 1 | W24: =Y21*0+Y22*5+Y23*0+Y24*5+Y25*0+Y26*4 -> 23.5 | X24: 油脂類 | Y24: 2.5 | AA24: 菜 | AB24: 1.6 | AC24: =AB24*1 -> 1.6 | AE24: =AB24*5 -> 8 | AF24: =AC24*4+AE24*4 -> 38.4
B25: 星期三 | J25: 洋蔥 | L25: 10 | W25: 蛋白質： | X25: 水果類 | Y25: 0 | AA25: 油 | AB25: 2.5 | AD25: =AB25*5 -> 12.5 | AF25: =AD25*9 -> 112.5
W26: =Y21*2+Y22*7+Y23*1+Y24*0+Y25*0+Y26*8 -> 27.7 | X26: 奶類 | Y26: 0 | AA26: 水果 | AE26: =AB26*15 -> 0
B27: 餐數 | W27: 熱量： | AC27: =SUM(AC22:AC26) -> 29.4 | AD27: =SUM(AD22:AD26) -> 23.5 | AE27: =SUM(AE22:AE26) -> 101 | AF27: =AC27*4+AD27*9+AE27*4 -> 733.1
W28: =W22*4+W26*4+W24*9 -> 734.3 | AC28: =AC27*4/AF27 -> 0.16041468 | AD28: =AD27*9/AF27 -> 0.28850089 | AE28: =AE27*4/AF27 -> 0.55108444
B29: 11 | D29: ='115.11月菜單'!N33 -> 地瓜飯 | E29: 蒸 | G29: ='115.11月菜單'!N34 -> 酥炸魚塊(海)(炸)-申請 | H29: 炸 | J29: ='115.11月菜單'!N35 -> 香噴噴肉燥(豆) | K29: 煮 | M29: ='115.11月菜單'!N36 -> 珍味白花菜 | N29: 煮 | P29: ='115.11月菜單'!N37 -> 有機蔬菜 | Q29: 川燙 | S29: ='115.11月菜單'!N38 -> 綠豆芋圓(加) | T29: 煮 | W29: 醣類： | X29: 主食類 | Y29: 5.4 | AC29: 蛋白質 | AD29: 脂肪 | AE29: 醣類 | AF29: 熱量
B30: 月 | D30: 白米 | F30: 90 | G30: 生鮮水鯊魚肉 | H30: 海 | I30: 40 | J30: 生鮮豬絞肉 | L30: 10 | M30: 冷凍花椰菜 | O30: 60 | P30: 蔬菜 | R30: 100 | S30: 乾裙帶菜 | U30: 5 | W30: =Y29*15+Y30*0+Y31*5+Y32*0+Y33*15+Y34*12+15 -> 105 | X30: 豆魚肉蛋類 | Y30: 2.2 | AA30: 主食 | AB30: 6.3 | AC30: =AB30*2 -> 12.6 | AE30: =AB30*15 -> 94.5 | AF30: =AC30*4+AE30*4 -> 428.4
B31: 26 | D31: 地瓜 | F31: 50 | G31: 杏鮑菇 | I31: 20 | J31: 豆干 | K31: 豆 | L31: 45 | M31: 乾香菇絲 | O31: 1 | S31: 雞蛋 | U31: 10 | W31: 脂肪： | X31: 蔬菜類 | Y31: 1.8 | AA31: 肉 | AB31: 2 | AC31: =AB31*7 -> 14 | AD31: =AB31*5 -> 10 | AF31: =AC31*4+AD31*9 -> 146
B32: 日 | M32: 胡蘿蔔 | O32: 1 | S32: 粉薑 | U32: 1 | W32: =Y29*0+Y30*5+Y31*0+Y32*5+Y33*0+Y34*4 -> 23.5 | X32: 油脂類 | Y32: 2.5 | AA32: 菜 | AB32: 1.7 | AC32: =AB32*1 -> 1.7 | AE32: =AB32*5 -> 8.5 | AF32: =AC32*4+AE32*4 -> 40.8
B33: 星期四 | M33: 菇類 | O33: 5 | W33: 蛋白質： | X33: 水果類 | Y33: 0 | AA33: 油 | AB33: 2.5 | AD33: =AB33*5 -> 12.5 | AF33: =AD33*9 -> 112.5
W34: =Y29*2+Y30*7+Y31*1+Y32*0+Y33*0+Y34*8 -> 28 | X34: 奶類 | Y34: 0 | AA34: 水果 | AB34: 1 | AE34: =AB34*15 -> 15
B35: 餐數 | W35: 熱量： | AC35: =SUM(AC30:AC34) -> 28.3 | AD35: =SUM(AD30:AD34) -> 22.5 | AE35: =SUM(AE30:AE34) -> 118 | AF35: =AC35*4+AD35*9+AE35*4 -> 787.7
W36: =W30*4+W34*4+W32*9 -> 743.5 | AC36: =AC35*4/AF35 -> 0.14370953 | AD36: =AD35*9/AF35 -> 0.25707757 | AE36: =AE35*4/AF35 -> 0.5992129
B37: 11 | D37: ='115.11月菜單'!R33 -> 蝦仁炒飯(海) | E37: 煮 | G37: ='115.11月菜單'!R34 -> 日式豬里肌 | H37: 滷 | J37: ='115.11月菜單'!R35 -> 小肉包(冷) | K37: 蒸 | M37: ='115.11月菜單'!R36 -> 酢醬高麗菜 | N37: 煮 | P37: ='115.11月菜單'!R37 -> 深色蔬菜 | Q37: 川燙 | S37: ='115.11月菜單'!R38 -> 香菇雞湯 | T37: 煮 | W37: 醣類： | X37: 主食類 | Y37: 5.5 | AC37: 蛋白質 | AD37: 脂肪 | AE37: 醣類 | AF37: 熱量
B38: 月 | D38: 白米 | F38: 90 | G38: 生鮮豬里肌肉排 | I38: 40 | J38: 小肉包 | K38: 冷 | L38: 30 | M38: 油蔥酥 | O38: 1 | P38: 蔬菜 | R38: 100 | S38: 杏鮑菇 | U38: 30 | W38: =Y37*15+Y38*0+Y39*5+Y40*0+Y41*15+Y42*12+15 -> 107.5 | X38: 豆魚肉蛋類 | Y38: 2.1 | AA38: 主食 | AB38: 6 | AC38: =AB38*2 -> 12 | AE38: =AB38*15 -> 90 | AF38: =AC38*4+AE38*4 -> 408
B39: 27 | D39: 冷凍毛豆仁 | E39: 豆 | F39: 1 | M39: 胡蘿蔔 | O39: 1 | S39: 乾香菇 | U39: 1 | W39: 脂肪： | X39: 蔬菜類 | Y39: 2 | AA39: 肉 | AB39: 2.3 | AC39: =AB39*7 -> 16.1 | AD39: =AB39*5 -> 11.5 | AF39: =AC39*4+AD39*9 -> 167.9
B40: 日 | D40: 生鮮蝦仁 | E40: 海 | F40: 10 | M40: 甘藍 | O40: 60 | S40: 生鮮雞胸肉 | U40: 15 | W40: =Y37*0+Y38*5+Y39*0+Y40*5+Y41*0+Y42*4 -> 23 | X40: 油脂類 | Y40: 2.5 | AA40: 菜 | AB40: 1.5 | AC40: =AB40*1 -> 1.5 | AE40: =AB40*5 -> 7.5 | AF40: =AC40*4+AE40*4 -> 36
B41: 星期五 | D41: 生鮮豬絞肉 | F41: 10 | M41: 生鮮豬絞肉 | O41: 5 | W41: 蛋白質： | X41: 水果類 | Y41: 0 | AA41: 油 | AB41: 2.5 | AD41: =AB41*5 -> 12.5 | AF41: =AD41*9 -> 112.5
D42: 洋蔥 | F42: 10 | W42: =Y37*2+Y38*7+Y39*1+Y40*0+Y41*0+Y42*8 -> 27.7 | X42: 奶類 | Y42: 0 | AA42: 水果 | AE42: =AB42*15 -> 0
B43: 餐數 | W43: 熱量： | AC43: =SUM(AC38:AC42) -> 29.6 | AD43: =SUM(AD38:AD42) -> 24 | AE43: =SUM(AE38:AE42) -> 97.5 | AF43: =AC43*4+AD43*9+AE43*4 -> 724.4
W44: =W38*4+W42*4+W40*9 -> 747.8 | AC44: =AC43*4/AF43 -> 0.16344561 | AD44: =AD43*9/AF43 -> 0.2981778 | AE44: =AE43*4/AF43 -> 0.53837659

Sheet 第五週明細
B1: 115年11月30日第五週菜單明細(員林國小--承富)
B3: 食材以可食量標示 | F3: 豬肉來源:臺灣(豬肉及豬可食部位原料之原產地:臺灣)
B4: 日期 | C4: 星期 | D4: 主食 | E4: 備註 | G4: 主菜 | H4: 備註 | J4: 副菜 | K4: 備註 | M4: 副菜 | N4: 備註 | P4: 副菜 | Q4: 備註 | S4: 湯 | T4: 備註 | V4: 水果/乳品 | W4: 營養分析 | X4: 食物類別 | Y4: 份數
B5: 11 | D5: ='115.11月菜單'!B42 -> 香Q米飯 | E5: 蒸 | F5: 個人量(克) | G5: ='115.11月菜單'!B43 -> 檸檬雞翅(加) | H5: 烤 | I5: 個人量(克) | J5: ='115.11月菜單'!B44 -> 家常炒米粉 | K5: 炒 | L5: 個人量(克) | M5: ='115.11月菜單'!B45 -> 川味豆腐(豆) | N5: 煮 | O5: 個人量(克) | P5: ='115.11月菜單'!B46 -> 深色蔬菜 | Q5: 川燙 | R5: 個人量(克) | S5: ='115.11月菜單'!B47 -> 榨菜肉絲湯(醃) | T5: 煮 | U5: 個人量(克) | W5: 醣類： | X5: 主食類 | Y5: 5.4
B6: 月 | D6: 白米 | F6: 100 | G6: 檸檬雞翅 | H6: 加 | I6: 60 | J6: 甘藍 | L6: 50 | M6: 生鮮豬絞肉 | O6: 5 | P6: 蔬菜 | R6: 100 | S6: 榨菜 | T6: 醃 | U6: 30 | W6: =Y5*15+Y6*0+Y7*5+Y8*0+Y9*15+Y10*12+15 -> 105.5 | X6: 豆魚肉蛋類 | Y6: 2.1
B7: 30 | J7: 米粉 | L7: 8 | M7: 傳統豆腐 | N7: 豆 | O7: 50 | S7: 生鮮豬後腿肉絲 | U7: 10 | W7: 脂肪： | X7: 蔬菜類 | Y7: 1.9
B8: 日 | J8: 生鮮豬絞肉 | L8: 5 | S8: 粉薑 | U8: 1 | W8: =Y5*0+Y6*5+Y7*0+Y8*5+Y9*0+Y10*4 -> 23 | X8: 油脂類 | Y8: 2.5
B9: 星期一 | J9: 胡蘿蔔 | L9: 1 | W9: 蛋白質： | X9: 水果類 | Y9: 0
J10: 乾香菇絲 | L10: 1 | W10: =Y5*2+Y6*7+Y7*1+Y8*0+Y9*0+Y10*8 -> 27.4 | X10: 奶類 | Y10: 0
B11: 餐數 | J11: 洋蔥 | L11: 10 | W11: 熱量：
W12: =W6*4+W10*4+W8*9 -> 738.6
AC13: 蛋白質 | AD13: 脂肪 | AE13: 醣類 | AF13: 熱量
B14: 月 | AA14: 主食 | AB14: 6.2 | AC14: =AB14*2 -> 12.4 | AE14: =AB14*15 -> 93 | AF14: =AC14*4+AE14*4 -> 421.6
AA15: 肉 | AB15: 2 | AC15: =AB15*7 -> 14 | AD15: =AB15*5 -> 10 | AF15: =AC15*4+AD15*9 -> 146
B16: 日 | AA16: 菜 | AB16: 1.6 | AC16: =AB16*1 -> 1.6 | AE16: =AB16*5 -> 8 | AF16: =AC16*4+AE16*4 -> 38.4
B17: 星期二 | AA17: 油 | AB17: 2.5 | AD17: =AB17*5 -> 12.5 | AF17: =AD17*9 -> 112.5
AA18: 水果 | AB18: 1 | AE18: =AB18*15 -> 15
B19: 餐數 | AC19: =SUM(AC14:AC18) -> 28 | AD19: =SUM(AD14:AD18) -> 22.5 | AE19: =SUM(AE14:AE18) -> 116 | AF19: =AC19*4+AD19*9+AE19*4 -> 778.5
AC20: =AC19*4/AF19 -> 0.14386641 | AD20: =AD19*9/AF19 -> 0.26011561 | AE20: =AE19*4/AF19 -> 0.59601798
AC21: 蛋白質 | AD21: 脂肪 | AE21: 醣類 | AF21: 熱量
B22: 月 | AA22: 主食 | AB22: 6.2 | AC22: =AB22*2 -> 12.4 | AE22: =AB22*15 -> 93 | AF22: =AC22*4+AE22*4 -> 421.6
AA23: 肉 | AB23: 2.2 | AC23: =AB23*7 -> 15.4 | AD23: =AB23*5 -> 11 | AF23: =AC23*4+AD23*9 -> 160.6
B24: 日 | AA24: 菜 | AB24: 1.6 | AC24: =AB24*1 -> 1.6 | AE24: =AB24*5 -> 8 | AF24: =AC24*4+AE24*4 -> 38.4
B25: 星期三 | AA25: 油 | AB25: 2.5 | AD25: =AB25*5 -> 12.5 | AF25: =AD25*9 -> 112.5
AA26: 水果 | AE26: =AB26*15 -> 0
B27: 餐數 | AC27: =SUM(AC22:AC26) -> 29.4 | AD27: =SUM(AD22:AD26) -> 23.5 | AE27: =SUM(AE22:AE26) -> 101 | AF27: =AC27*4+AD27*9+AE27*4 -> 733.1
AC28: =AC27*4/AF27 -> 0.16041468 | AD28: =AD27*9/AF27 -> 0.28850089 | AE28: =AE27*4/AF27 -> 0.55108444
AC29: 蛋白質 | AD29: 脂肪 | AE29: 醣類 | AF29: 熱量
B30: 月 | AA30: 主食 | AB30: 6.3 | AC30: =AB30*2 -> 12.6 | AE30: =AB30*15 -> 94.5 | AF30: =AC30*4+AE30*4 -> 428.4
AA31: 肉 | AB31: 2 | AC31: =AB31*7 -> 14 | AD31: =AB31*5 -> 10 | AF31: =AC31*4+AD31*9 -> 146
B32: 日 | AA32: 菜 | AB32: 1.7 | AC32: =AB32*1 -> 1.7 | AE32: =AB32*5 -> 8.5 | AF32: =AC32*4+AE32*4 -> 40.8
B33: 星期四 | AA33: 油 | AB33: 2.5 | AD33: =AB33*5 -> 12.5 | AF33: =AD33*9 -> 112.5
AA34: 水果 | AB34: 1 | AE34: =AB34*15 -> 15
B35: 餐數 | AC35: =SUM(AC30:AC34) -> 28.3 | AD35: =SUM(AD30:AD34) -> 22.5 | AE35: =SUM(AE30:AE34) -> 118 | AF35: =AC35*4+AD35*9+AE35*4 -> 787.7
AC36: =AC35*4/AF35 -> 0.14370953 | AD36: =AD35*9/AF35 -> 0.25707757 | AE36: =AE35*4/AF35 -> 0.5992129
AC37: 蛋白質 | AD37: 脂肪 | AE37: 醣類 | AF37: 熱量
B38: 月 | AA38: 主食 | AB38: 6 | AC38: =AB38*2 -> 12 | AE38: =AB38*15 -> 90 | AF38: =AC38*4+AE38*4 -> 408
AA39: 肉 | AB39: 2.3 | AC39: =AB39*7 -> 16.1 | AD39: =AB39*5 -> 11.5 | AF39: =AC39*4+AD39*9 -> 167.9
B40: 日 | AA40: 菜 | AB40: 1.5 | AC40: =AB40*1 -> 1.5 | AE40: =AB40*5 -> 7.5 | AF40: =AC40*4+AE40*4 -> 36
B41: 星期五 | AA41: 油 | AB41: 2.5 | AD41: =AB41*5 -> 12.5 | AF41: =AD41*9 -> 112.5
AA42: 水果 | AE42: =AB42*15 -> 0
B43: 餐數 | AC43: =SUM(AC38:AC42) -> 29.6 | AD43: =SUM(AD38:AD42) -> 24 | AE43: =SUM(AE38:AE42) -> 97.5 | AF43: =AC43*4+AD43*9+AE43*4 -> 724.4
AC44: =AC43*4/AF43 -> 0.16344561 | AD44: =AD43*9/AF43 -> 0.2981778 | AE44: =AE43*4/AF43 -> 0.53837659
