Workbook

Sheet 6月菜單
B1: 員林國小 114年06月-豐成食品工廠 | N1: 本公司所使用豬肉、牛肉及其原料產地皆來自台灣 設計者: 鄧羽婷
B2: 6月2日(一) | F2: 6月3日(二) | J2: 6月4日(三) | N2: 6月5日(四) | R2: 6月6日(五)
B3: 寶島白飯 | F3: 地瓜飯 | J3: 寶島白飯 | N3: 燕麥飯 | R3: 霸氣無敵手工糯米飯
B4: 法式香榭雞排 | F4: 泰式酸甜虱目魚柳(海)-申請 | J4: 夜市轟炸無敵大雞腿(炸) | N4: 法式無骨菲力雞排(加) | R4: 嚴選梅花豬大排骨
B5: 經典不敗蘑菇鐵板肉片 | F5: 和風壽喜豬肉鍋 | J5: 私藏日月潭茶香蛋 | N5: 滑嫩蕃茄歐姆蛋(豆) | R5: 經典醬燒小肉包(冷主)
B6: 酥炸黃金布丁酥(炸)(加) | F6: 菇菇彩椒炒四季豆 | J6: 祖傳雙蘿燉肉 | N6: 正統鮮蔬炒冬粉 | R6: 特御廚經典麻辣五更煲
B7: 深色蔬菜 | F7: 淺色蔬菜 | J7: 深色蔬菜 | N7: 淺色蔬菜 | R7: 深色蔬菜
B8: 蘿蔔排骨湯 | F8: 海芽蛋花湯 | J8: 酸辣湯(芡)(豆) | N8: 冬瓜豚骨湯 | R8: 海芽豆腐湯(豆)
B9: 熱量: | C9: =第1週明細!W12 -> 704.5 | D9: 脂肪： | E9: =第1週明細!W8 -> 24.5 | F9: 熱量: | G9: =第1週明細!W20 -> 700 | H9: 脂肪： | I9: =第1週明細!W16 -> 24 | J9: 熱量: | K9: =第1週明細!W28 -> 706.5 | L9: 脂肪： | M9: =第1週明細!W24 -> 24.5 | N9: 熱量: | O9: =第1週明細!W36 -> 721.5 | P9: 脂肪： | Q9: =第1週明細!W32 -> 25.5 | R9: 熱量: | S9: =第1週明細!W44 -> 734 | T9: 脂肪： | U9: =第1週明細!W40 -> 24
B10: 醣類： | C10: =第1週明細!W6 -> 95 | D10: 蛋白質： | E10: =第1週明細!W10 -> 26 | F10: 醣類： | G10: =第1週明細!W14 -> 95 | H10: 蛋白質： | I10: =第1週明細!W18 -> 26 | J10: 醣類： | K10: =第1週明細!W22 -> 95 | L10: 蛋白質： | M10: =第1週明細!W26 -> 26.5 | N10: 醣類： | O10: =第1週明細!W30 -> 96 | P10: 蛋白質： | Q10: =第1週明細!W34 -> 27 | R10: 醣類： | S10: =第1週明細!W38 -> 103 | T10: 蛋白質： | U10: =第1週明細!W42 -> 26.5
B11: 6月9日(一) | F11: 6月10日(二) | J11: 6月11日(三) | N11: 6月12日(四) | R11: 6月13日(五)
B12: 寶島白飯 | F12: 地瓜飯 | J12: 寶島白飯 | N12: 胚芽飯 | R12: 懷舊維力炸醬麵(豆)
B13: 西班牙烤大雞腿 | F13: 秘製招牌蜜汁燒豬 | J13: 繼光香香轟炸鹽酥雞(炸) | N13: 川味涮涮醬蒜泥白肉 | R13: 無敵燒烤大雞排
B14: 麻婆蔥燒豆腐(豆) | F14: 正宗古早味冬瓜燒雞(冷主) | J14: 主廚古早味滷肉(醃) | N14: 元氣香雞堡(加)(炸) | R14: 勁爆蔥爆炒肉片
B15: 金針香嫩絲瓜滑蛋 | F15: 雙色花椰佐蝦仁(海) | J15: 日式滑嫩布丁蒸蛋 | N15: 海鮮魷魚鍋(海) | R15: 小瓜佐Q彈紫米丸(加)
B16: 深色蔬菜 | F16: 淺色蔬菜 | J16: 深色蔬菜 | N16: 淺色蔬菜 | R16: 深色蔬菜
B17: 黃瓜湯 | F17: 柴香豆腐湯(豆)+產履豆奶 | J17: 白玉上排湯 | N17: 筍香蛋花湯 | R17: 摩摩喳喳
B18: 熱量: | C18: =第2週明細!W12 -> 752 | D18: 脂肪： | E18: =第2週明細!W8 -> 24 | G18: =第2週明細!W20 -> 732 | H18: 脂肪： | I18: =第2週明細!W16 -> 24 | J18: 熱量: | K18: =第2週明細!W28 -> 710.2 | L18: 脂肪： | M18: =第2週明細!W24 -> 23 | N18: 熱量: | O18: =第2週明細!W36 -> 738.5 | P18: 脂肪： | Q18: =第2週明細!W32 -> 24.5 | R18: 熱量: | S18: =第2週明細!W44 -> 716 | T18: 脂肪： | U18: =第2週明細!W40 -> 24
B19: 醣類： | C19: =第2週明細!W6 -> 108 | D19: 蛋白質： | E19: =第2週明細!W10 -> 26 | F19: 醣類： | G19: =第2週明細!W14 -> 103 | H19: 蛋白質： | I19: =第2週明細!W18 -> 26 | J19: 醣類： | K19: =第2週明細!W22 -> 99 | L19: 蛋白質： | M19: =第2週明細!W26 -> 26.8 | N19: 醣類： | O19: =第2週明細!W30 -> 103 | P19: 蛋白質： | Q19: =第2週明細!W34 -> 26.5 | R19: 醣類： | S19: =第2週明細!W38 -> 98 | T19: 蛋白質： | U19: =第2週明細!W42 -> 27
B20: 6月16日(一) | F20: 6月17日(二) | J20: 6月18日(三) | N20: 6月19日(四) | R20: 6月20日(五)
B21: 寶島白飯 | F21: 地瓜飯 | J21: 寶島白飯 | N21: 全穀飯 | R21: 祖傳油蔥什錦手工拌麵
B22: 南法茄汁肉 | F22: 獨門爆炒肉片 | J22: 台南腐城肉燥(醃) | N22: 照燒無骨里肌肉 | R22: 和風香草烤雞翅
B23: 芹菜炒豆干(豆) | F23: 蜂蜜檸檬燒烤翅腿 | J23: 招牌畢業黃金卡拉雞排(炸) | N23: xo醬蘿蔔糕(冷主) | R23: 偽東山鴨頭(豆)
B24: 彩繪蝦仁扁蒲(海) | F24: 翻滾蕃茄炒蛋(豆) | J24: 日式青春柴香高麗菜大阪燒 | N24: 特經典海霸王麻辣燙(豆) | R24: 椒鹽脆皮大煎餃(加)
B25: 深色蔬菜 | F25: 淺色蔬菜 | J25: 深色蔬菜 | N25: 淺色蔬菜 | R25: 深色蔬菜
B26: 冬瓜豚骨湯 | F26: 海芽小魚乾蛋花湯(海) | J26: 薑絲豆腐湯(豆) | N26: 蘿蔔湯 | R26: 筍香蛋花湯
B27: 熱量: | C27: =第3周明細!W12 -> 712.5 | D27: 脂肪： | E27: =第3周明細!W8 -> 24.5 | F27: 熱量: | G27: =第3周明細!W20 -> 722 | H27: 脂肪： | I27: =第3周明細!W16 -> 24 | J27: 熱量: | K27: =第3周明細!W28 -> 729.5 | L27: 脂肪： | M27: =第3周明細!W24 -> 25.5 | N27: 熱量: | O27: =第3周明細!W36 -> 716 | P27: 脂肪： | Q27: =第3周明細!W32 -> 22 | R27: 熱量: | S27: =第3周明細!W44 -> 735 | T27: 脂肪： | U27: =第3周明細!W40 -> 23
B28: 醣類： | C28: =第3周明細!W6 -> 96 | D28: 蛋白質： | E28: =第3周明細!W10 -> 27 | F28: 醣類： | G28: =第3周明細!W14 -> 100 | H28: 蛋白質： | I28: =第3周明細!W18 -> 26.5 | J28: 醣類： | K28: =第3周明細!W22 -> 98 | L28: 蛋白質： | M28: =第3周明細!W26 -> 27 | N28: 醣類： | O28: =第3周明細!W30 -> 103 | P28: 蛋白質： | Q28: =第3周明細!W34 -> 26.5 | R28: 醣類： | S28: =第3周明細!W38 -> 105 | T28: 蛋白質： | U28: =第3周明細!W42 -> 27
B29: 6月23日(一) | F29: 6月24日(二) | J29: 6月25日(三) | N29: 6月26日(四) | R29: 6月27日(五)
B30: 寶島白飯 | F30: 地瓜飯 | J30: 寶島白飯 | N30: 小米飯 | R30: 銷魂嘉義雞肉飯
B31: 招牌香酥炸大魚片(炸)(海)-申請 | F31: 醬燒蜜汁燒豬排 | J31: 霸氣無敵烤大雞腿 | N31: 蔥爆鹹豬肉 | R31: 翻炒泰式咕咕雞(加)(過油)
B32: 蘑菇拌飯豆腐(豆) | F32: 泰式濃郁咖哩雞 | J32: 將軍大王茶香蛋蛋 | N32: 首爾部隊春川炒雞 | R32: 鮮筍炒肉絲
B33: 黃金玉米滑蛋 | F33: 什錦花椰雙菇 | J33: 饗樂鐵板蘑菇豬柳(豆) | N33: 府城安平海鮮卷(加) | R33: 如意水餃*2(冷主)
B34: 深色蔬菜 | F34: 淺色蔬菜 | J34: 深色蔬菜 | N34: 淺色蔬菜 | R34: 深色蔬菜
B35: 蘿蔔排骨湯 | F35: 黃瓜排骨湯 | J35: 冬瓜湯 | N35: 消暑綠豆薏仁湯 | R35: 海芽蛋花湯
B36: 熱量: | C36: =第4周明細!W12 -> 707 | D36: 脂肪： | E36: =第4周明細!W8 -> 23 | F36: 熱量: | G36: =第4周明細!W20 -> 709 | H36: 脂肪： | I36: =第4周明細!W16 -> 23 | J36: 熱量: | K36: =第4周明細!W28 -> 707.5 | L36: 脂肪： | M36: =第4周明細!W24 -> 23.5 | N36: 熱量: | O36: =第4周明細!W36 -> 854.0K | P36: 脂肪： | Q36: =第4周明細!W32 -> 23 | R36: 熱量: | S36: =第4周明細!W44 -> 745 | T36: 脂肪： | U36: =第4周明細!W40 -> 25
B37: 醣類： | C37: =第4周明細!W6 -> 98 | D37: 蛋白質： | E37: =第4周明細!W10 -> 27 | F37: 醣類： | G37: =第4周明細!W14 -> 99 | H37: 蛋白質： | I37: =第4周明細!W18 -> 26.5 | J37: 醣類： | K37: =第4周明細!W22 -> 98 | L37: 蛋白質： | M37: =第4周明細!W26 -> 26 | N37: 醣類： | O37: =第4周明細!W30 -> 98 | P37: 蛋白質： | Q37: =第4周明細!W34 -> 26.4 | R37: 醣類： | S37: =第4周明細!W38 -> 103 | T37: 蛋白質： | U37: =第4周明細!W42 -> 27
B38: 6月30日(一)
B39: 寶島白飯
B40: 普羅旺斯雞翅
B41: 古法熱銷麻婆豆腐(豆)
B42: 黃金圓滾滾芝麻球(加)(炸)
B43: 深色蔬菜
B44: 什錦白菜小魚乾蛋花湯(海)
B45: 熱量: | C45: =第5週明細!W12 -> 720 | D45: 脂肪： | E45: =第5週明細!W8 -> 24 | F45: 熱量: | G45: =第5週明細!W20 -> 520 | H45: 脂肪： | I45: =第5週明細!W16 -> 0
B46: 醣類： | C46: =第5週明細!W6 -> 99 | D46: 蛋白質： | E46: =第5週明細!W10 -> 27 | F46: 醣類： | G46: =第5週明細!W14 -> 103 | H46: 蛋白質： | I46: =第5週明細!W18 -> 27

Sheet 第1週明細
B1: 6月第一週菜單明細(員林國小-豐成食品工廠)
B3: 食材以可食量標示
B4: 日期 | C4: 星期 | D4: 主食 | E4: 備註 | G4: 主菜 | H4: 備註 | J4: 副菜 | K4: 備註 | M4: 副菜 | N4: 備註 | P4: 副菜 | Q4: 備註 | S4: 湯 | T4: 備註 | V4: 水果/乳品 | W4: 營養分析 | X4: 食物類別 | Y4: 份數
B5: 6 | D5: ='6月菜單'!B3 -> 寶島白飯 | E5: 蒸 | F5: 個人量(克) | G5: ='6月菜單'!B4 -> 法式香榭雞排 | H5: 煮 | I5: 個人量(克) | J5: ='6月菜單'!B5 -> 經典不敗蘑菇鐵板肉片 | K5: 炸 | L5: 個人量(克) | M5: ='6月菜單'!B6 -> 酥炸黃金布丁酥(炸)(加) | N5: 炸 | O5: 個人量(克) | P5: ='6月菜單'!B7 -> 深色蔬菜 | Q5: 川燙 | R5: 個人量(克) | S5: ='6月菜單'!B8 -> 蘿蔔排骨湯 | T5: 煮 | U5: 個人量(克) | W5: 醣類： | X5: 主食類 | Y5: 5.4 | AC5: 蛋白質 | AD5: 脂肪 | AE5: 醣類 | AF5: 熱量
B6: 月 | D6: 白米 | F6: 100 | G6: 生鮮雞排 | I6: 60 | J6: 生鮮豬肉片 | L6: 15 | M6: 布丁酥 | N6: 加 | O6: 30 | P6: =P5 -> 深色蔬菜 | R6: 120 | S6: 白蘿蔔 | U6: 40 | W6: 95 | X6: 豆魚肉蛋類 | Y6: 2.4 | AA6: 主食 | AB6: 6 | AC6: =AB6*2 -> 12 | AE6: =AB6*15 -> 90 | AF6: =AC6*4+AE6*4 -> 408
B7: 2 | J7: 洋蔥 | L7: 40 | S7: 生鮮豬排骨 | U7: 10 | W7: 脂肪： | X7: 蔬菜類 | Y7: 2.1 | AA7: 肉 | AB7: 2 | AC7: =AB7*7 -> 14 | AD7: =AB7*5 -> 10 | AF7: =AC7*4+AD7*9 -> 146
B8: 日 | J8: 胡蘿蔔 | L8: 10 | W8: =Y6*5+Y8*5+Y10*8 -> 24.5 | X8: 油脂類 | Y8: 2.5 | AA8: 菜 | AB8: 1.7 | AC8: =AB8*1 -> 1.7 | AE8: =AB8*5 -> 8.5 | AF8: =AC8*4+AE8*4 -> 40.8
B9: 星期一 | J9: 豆干片 | K9: 豆 | L9: 15 | W9: 蛋白質： | X9: 水果類 | AA9: 油 | AB9: 2.5 | AD9: =AB9*5 -> 12.5 | AF9: =AD9*9 -> 112.5
W10: 26 | X10: 奶類 | AA10: 水果 | AE10: =AB10*15 -> 0
B11: 餐數 | W11: 熱量： | AC11: =SUM(AC6:AC10) -> 27.7 | AD11: =SUM(AD6:AD10) -> 22.5 | AE11: =SUM(AE6:AE10) -> 98.5 | AF11: =AC11*4+AD11*9+AE11*4 -> 707.3
W12: =W6*4+W8*9+W10*4 -> 704.5 | AC12: =AC11*4/AF11 -> 0.15665206 | AD12: =AD11*9/AF11 -> 0.28630001 | AE12: =AE11*4/AF11 -> 0.55704793
B13: 6 | D13: ='6月菜單'!F3 -> 地瓜飯 | E13: 蒸 | G13: ='6月菜單'!F4 -> 泰式酸甜虱目魚柳(海)-申請 | H13: 炒 | J13: ='6月菜單'!F5 -> 和風壽喜豬肉鍋 | K13: 煮 | M13: ='6月菜單'!F6 -> 菇菇彩椒炒四季豆 | N13: 炒 | P13: ='6月菜單'!F7 -> 淺色蔬菜 | Q13: 川燙 | S13: ='6月菜單'!F8 -> 海芽蛋花湯 | T13: 煮 | W13: 醣類： | X13: 主食類 | Y13: 5 | AC13: 蛋白質 | AD13: 脂肪 | AE13: 醣類 | AF13: 熱量
B14: 月 | D14: 白米 | F14: 80 | G14: 生鮮虱目魚柳 | H14: 海 | I14: 60 | J14: 生鮮豬肉片 | L14: 15 | M14: 四季豆 | O14: 30 | P14: =P13 -> 淺色蔬菜 | R14: 120 | S14: 海帶芽 | U14: 2 | W14: 95 | X14: 豆魚肉蛋類 | Y14: 2.5 | AA14: 主食 | AB14: 6.2 | AC14: =AB14*2 -> 12.4 | AE14: =AB14*15 -> 93 | AF14: =AC14*4+AE14*4 -> 421.6
B15: 3 | D15: 地瓜 | F15: 55 | G15: 洋蔥 | I15: 20 | J15: 高麗菜 | L15: 50 | M15: 彩椒 | O15: 10 | S15: 新鮮雞蛋 | U15: 30 | W15: 脂肪： | X15: 蔬菜類 | Y15: 2.7 | AA15: 肉 | AB15: 2.1 | AC15: =AB15*7 -> 14.7 | AD15: =AB15*5 -> 10.5 | AF15: =AC15*4+AD15*9 -> 153.3
B16: 日 | J16: 金針菇 | L16: 15 | M16: 菇類 | O16: 10 | W16: 24 | X16: 油脂類 | Y16: 2.5 | AA16: 菜 | AB16: 1.8 | AC16: =AB16*1 -> 1.8 | AE16: =AB16*5 -> 9 | AF16: =AC16*4+AE16*4 -> 43.2
B17: 星期二 | J17: 胡蘿蔔 | L17: 15 | W17: 蛋白質： | X17: 水果類 | Y17: 0 | AA17: 油 | AB17: 2.5 | AD17: =AB17*5 -> 12.5 | AF17: =AD17*9 -> 112.5
W18: 26 | X18: 奶類 | Y18: 0 | AA18: 水果 | AB18: 1 | AE18: =AB18*15 -> 15
B19: 餐數 | W19: 熱量： | AC19: =SUM(AC14:AC18) -> 28.9 | AD19: =SUM(AD14:AD18) -> 23 | AE19: =SUM(AE14:AE18) -> 117 | AF19: =AC19*4+AD19*9+AE19*4 -> 790.6
W20: =W14*4+W16*9+W18*4 -> 700 | AC20: =AC19*4/AF19 -> 0.14621806 | AD20: =AD19*9/AF19 -> 0.26182646 | AE20: =AE19*4/AF19 -> 0.59195548
B21: 6 | D21: ='6月菜單'!J3 -> 寶島白飯 | E21: 蒸 | G21: ='6月菜單'!J4 -> 夜市轟炸無敵大雞腿(炸) | H21: 炸 | J21: ='6月菜單'!J5 -> 私藏日月潭茶香蛋 | K21: 煮 | M21: ='6月菜單'!J6 -> 祖傳雙蘿燉肉 | N21: 滷 | P21: ='6月菜單'!J7 -> 深色蔬菜 | Q21: 川燙 | S21: ='6月菜單'!J8 -> 酸辣湯(芡)(豆) | T21: 煮 | W21: 醣類： | X21: 主食類 | Y21: 5.5 | AC21: 蛋白質 | AD21: 脂肪 | AE21: 醣類 | AF21: 熱量
B22: 月 | D22: 白米 | F22: 110 | G22: 生鮮雞腿 | I22: 50 | J22: 水煮蛋 | L22: 40 | M22: 白蘿蔔 | O22: 45 | P22: =P21 -> 深色蔬菜 | R22: 120 | S22: 新鮮筍絲 | U22: 10 | W22: 95 | X22: 豆魚肉蛋類 | Y22: 2.3 | AA22: 主食 | AB22: 6.2 | AC22: =AB22*2 -> 12.4 | AE22: =AB22*15 -> 93 | AF22: =AC22*4+AE22*4 -> 421.6
B23: 4 | M23: 胡蘿蔔 | O23: 15 | S23: 木耳 | U23: 5 | W23: 脂肪： | X23: 蔬菜類 | Y23: 2 | AA23: 肉 | AB23: 2.2 | AC23: =AB23*7 -> 15.4 | AD23: =AB23*5 -> 11 | AF23: =AC23*4+AD23*9 -> 160.6
B24: 日 | M24: 生鮮豬肉丁 | O24: 5 | S24: 紅蘿蔔 | U24: 5 | W24: 24.5 | X24: 油脂類 | Y24: 2.5 | AA24: 菜 | AB24: 1.6 | AC24: =AB24*1 -> 1.6 | AE24: =AB24*5 -> 8 | AF24: =AC24*4+AE24*4 -> 38.4
B25: 星期三 | S25: 豬血 | U25: 5 | W25: 蛋白質： | X25: 水果類 | Y25: 0 | AA25: 油 | AB25: 2.5 | AD25: =AB25*5 -> 12.5 | AF25: =AD25*9 -> 112.5
S26: 豆腐 | T26: 豆 | U26: 5 | W26: 26.5 | X26: 奶類 | Y26: 0 | AA26: 水果 | AE26: =AB26*15 -> 0
B27: 餐數 | S27: 新鮮雞蛋 | U27: 5 | W27: 熱量： | AC27: =SUM(AC22:AC26) -> 29.4 | AD27: =SUM(AD22:AD26) -> 23.5 | AE27: =SUM(AE22:AE26) -> 101 | AF27: =AC27*4+AD27*9+AE27*4 -> 733.1
W28: =W22*4+W24*9+W26*4 -> 706.5 | AC28: =AC27*4/AF27 -> 0.16041468 | AD28: =AD27*9/AF27 -> 0.28850089 | AE28: =AE27*4/AF27 -> 0.55108444
B29: 6 | D29: ='6月菜單'!N3 -> 燕麥飯 | E29: 蒸 | G29: ='6月菜單'!N4 -> 法式無骨菲力雞排(加) | H29: 煮 | J29: ='6月菜單'!N5 -> 滑嫩蕃茄歐姆蛋(豆) | K29: 煮 | M29: ='6月菜單'!N6 -> 正統鮮蔬炒冬粉 | N29: 炒 | P29: ='6月菜單'!N7 -> 淺色蔬菜 | Q29: 川燙 | S29: ='6月菜單'!N8 -> 冬瓜豚骨湯 | T29: 煮 | W29: 醣類： | X29: 主食類 | Y29: 5.5 | AC29: 蛋白質 | AD29: 脂肪 | AE29: 醣類 | AF29: 熱量
B30: 月 | D30: 白米 | F30: 60 | G30: 無骨雞排 | H30: 加 | I30: 60 | J30: 番茄 | L30: 40 | M30: 高麗菜 | O30: 30 | P30: =P29 -> 淺色蔬菜 | R30: 120 | S30: 冬瓜 | U30: 40 | W30: 96 | X30: 豆魚肉蛋類 | Y30: 2.6 | AA30: 主食 | AB30: 6.2 | AC30: =AB30*2 -> 12.4 | AE30: =AB30*15 -> 93 | AF30: =AC30*4+AE30*4 -> 421.6
B31: 5 | D31: 燕麥 | F31: 40 | J31: 新鮮雞蛋 | L31: 55 | M31: 胡蘿蔔 | O31: 10 | S31: 新鮮豬排骨 | U31: 10 | W31: 脂肪： | X31: 蔬菜類 | Y31: 2.5 | AA31: 肉 | AB31: 2.1 | AC31: =AB31*7 -> 14.7 | AD31: =AB31*5 -> 10.5 | AF31: =AC31*4+AD31*9 -> 153.3
B32: 日 | J32: 豆腐 | K32: 豆 | L32: 10 | M32: 木耳 | O32: 10 | W32: =Y30*5+Y32*5+Y34*8 -> 25.5 | X32: 油脂類 | Y32: 2.5 | AA32: 菜 | AB32: 1.5 | AC32: =AB32*1 -> 1.5 | AE32: =AB32*5 -> 7.5 | AF32: =AC32*4+AE32*4 -> 36
B33: 星期四 | M33: 冬粉 | O33: 7 | W33: 蛋白質： | X33: 水果類 | Y33: 0 | AA33: 油 | AB33: 2.5 | AD33: =AB33*5 -> 12.5 | AF33: =AD33*9 -> 112.5
W34: 27 | X34: 奶類 | Y34: 0 | AA34: 水果 | AB34: 1 | AE34: =AB34*15 -> 15
B35: 餐數 | W35: 熱量： | AC35: =SUM(AC30:AC34) -> 28.6 | AD35: =SUM(AD30:AD34) -> 23 | AE35: =SUM(AE30:AE34) -> 115.5 | AF35: =AC35*4+AD35*9+AE35*4 -> 783.4
W36: =W30*4+W32*9+W34*4 -> 721.5 | AC36: =AC35*4/AF35 -> 0.14603013 | AD36: =AD35*9/AF35 -> 0.26423283 | AE36: =AE35*4/AF35 -> 0.58973704
B37: 6 | D37: ='6月菜單'!R3 -> 霸氣無敵手工糯米飯 | E37: 煮 | G37: ='6月菜單'!R4 -> 嚴選梅花豬大排骨 | H37: 煮 | J37: ='6月菜單'!R5 -> 經典醬燒小肉包(冷主) | K37: 蒸 | M37: ='6月菜單'!R6 -> 特御廚經典麻辣五更煲 | N37: 煮 | P37: ='6月菜單'!R7 -> 深色蔬菜 | Q37: 川燙 | S37: ='6月菜單'!R8 -> 海芽豆腐湯(豆) | T37: 煮 | W37: 醣類： | X37: 主食類 | Y37: 6 | AC37: 蛋白質 | AD37: 脂肪 | AE37: 醣類 | AF37: 熱量
B38: 月 | D38: 糯米 | F38: 100 | G38: 生鮮豬排 | I38: 50 | J38: 小肉包 | K38: 冷主 | L38: 30 | M38: 生鮮竹筍 | O38: 60 | P38: =P37 -> 深色蔬菜 | R38: 120 | S38: 豆腐 | T38: 豆 | U38: 10 | W38: 103 | X38: 豆魚肉蛋類 | Y38: 2.3 | AA38: 主食 | AB38: 6 | AC38: =AB38*2 -> 12 | AE38: =AB38*15 -> 90 | AF38: =AC38*4+AE38*4 -> 408
B39: 6 | D39: 香菇 | F39: 20 | M39: 豬血 | O39: 10 | S39: 海帶芽 | U39: 2 | W39: 脂肪： | X39: 蔬菜類 | Y39: 2.1 | AA39: 肉 | AB39: 2.2 | AC39: =AB39*7 -> 15.4 | AD39: =AB39*5 -> 11 | AF39: =AC39*4+AD39*9 -> 160.6
B40: 日 | D40: 新鮮豬肉絲 | F40: 5 | M40: 豆皮 | N40: 豆 | O40: 5 | W40: =Y38*5+Y40*5+Y42*8 -> 24 | X40: 油脂類 | Y40: 2.5 | AA40: 菜 | AB40: 1.7 | AC40: =AB40*1 -> 1.7 | AE40: =AB40*5 -> 8.5 | AF40: =AC40*4+AE40*4 -> 40.8
B41: 星期五 | D41: 老薑片 | F41: 5 | M41: 生鮮豬肉片 | O41: 20 | W41: 蛋白質： | X41: 水果類 | Y41: 0 | AA41: 油 | AB41: 2.5 | AD41: =AB41*5 -> 12.5 | AF41: =AD41*9 -> 112.5
D42: 蝦米 | E42: 海 | F42: 2 | W42: 26.5 | X42: 奶類 | Y42: 0 | AA42: 水果 | AE42: =AB42*15 -> 0
B43: 餐數 | W43: 熱量： | AC43: =SUM(AC38:AC42) -> 29.1 | AD43: =SUM(AD38:AD42) -> 23.5 | AE43: =SUM(AE38:AE42) -> 98.5 | AF43: =AC43*4+AD43*9+AE43*4 -> 721.9
W44: =W38*4+W40*9+W42*4 -> 734 | AC44: =AC43*4/AF43 -> 0.16124117 | AD44: =AD43*9/AF43 -> 0.29297687 | AE44: =AE43*4/AF43 -> 0.54578196

Sheet 第2週明細
B1: 6月第二週菜單明細(員林國小-豐成食品工廠)
B3: 食材以可食量標示
B4: 日期 | C4: 星期 | D4: 主食 | E4: 備註 | G4: 主菜 | H4: 備註 | J4: 副菜 | K4: 備註 | M4: 副菜 | N4: 備註 | P4: 副菜 | Q4: 備註 | S4: 湯 | T4: 備註 | V4: 水果/乳品 | W4: 營養分析 | X4: 食物類別 | Y4: 份數
B5: 6 | D5: ='6月菜單'!B12 -> 寶島白飯 | E5: 蒸 | F5: 個人量(克) | G5: ='6月菜單'!B13 -> 西班牙烤大雞腿 | H5: 烤 | I5: 個人量(克) | J5: ='6月菜單'!B14 -> 麻婆蔥燒豆腐(豆) | K5: 煮 | L5: 個人量(克) | M5: ='6月菜單'!B15 -> 金針香嫩絲瓜滑蛋 | N5: 煮 | O5: 個人量(克) | P5: ='6月菜單'!B16 -> 深色蔬菜 | Q5: 川燙 | R5: 個人量(克) | S5: ='6月菜單'!B17 -> 黃瓜湯 | T5: 川燙 | U5: 個人量(克) | W5: 醣類： | X5: 主食類 | Y5: 5.5 | AC5: 蛋白質 | AD5: 脂肪 | AE5: 醣類 | AF5: 熱量
B6: 月 | D6: 白米 | F6: 110 | G6: 生鮮雞腿 | I6: 50 | J6: 豆腐 | K6: 豆 | L6: 20 | M6: 新鮮雞蛋 | O6: 55 | P6: =P5 -> 深色蔬菜 | R6: 120 | S6: 大黃瓜 | U6: 40 | W6: 108 | X6: 豆魚肉蛋類 | Y6: 2.6 | AA6: 主食 | AB6: 6 | AC6: =AB6*2 -> 12 | AE6: =AB6*15 -> 90 | AF6: =AC6*4+AE6*4 -> 408
B7: 9 | J7: 洋蔥 | L7: 25 | M7: 金針菇 | O7: 10 | S7: 生鮮豬排骨 | U7: 10 | W7: 脂肪： | X7: 蔬菜類 | Y7: 2.5 | AA7: 肉 | AB7: 2 | AC7: =AB7*7 -> 14 | AD7: =AB7*5 -> 10 | AF7: =AC7*4+AD7*9 -> 146
B8: 日 | J8: 三色豆 | L8: 15 | M8: 絲瓜 | O8: 30 | W8: =Y6*5+Y8*5+Y10*8 -> 24 | X8: 油脂類 | Y8: 2.2 | AA8: 菜 | AB8: 1.5 | AC8: =AB8*1 -> 1.5 | AE8: =AB8*5 -> 7.5 | AF8: =AC8*4+AE8*4 -> 36
B9: 星期一 | J9: 生鮮豬絞肉 | L9: 5 | M9: 胡蘿蔔 | O9: 10 | W9: 蛋白質： | X9: 水果類 | AA9: 油 | AB9: 2.5 | AD9: =AB9*5 -> 12.5 | AF9: =AD9*9 -> 112.5
W10: 26 | X10: 奶類 | AA10: 水果 | AE10: =AB10*15 -> 0
B11: 餐數 | W11: 熱量： | AC11: =SUM(AC6:AC10) -> 27.5 | AD11: =SUM(AD6:AD10) -> 22.5 | AE11: =SUM(AE6:AE10) -> 97.5 | AF11: =AC11*4+AD11*9+AE11*4 -> 702.5
W12: =W6*4+W8*9+W10*4 -> 752 | AC12: =AC11*4/AF11 -> 0.15658363 | AD12: =AD11*9/AF11 -> 0.28825623 | AE12: =AE11*4/AF11 -> 0.55516014
B13: 6 | D13: ='6月菜單'!F12 -> 地瓜飯 | E13: 蒸 | G13: ='6月菜單'!F13 -> 秘製招牌蜜汁燒豬 | H13: 煮 | J13: ='6月菜單'!F14 -> 正宗古早味冬瓜燒雞(冷主) | K13: 煮 | M13: ='6月菜單'!F15 -> 雙色花椰佐蝦仁(海) | N13: 煮 | P13: ='6月菜單'!F16 -> 淺色蔬菜 | Q13: 川燙 | S13: ='6月菜單'!F17 -> 柴香豆腐湯(豆)+產履豆奶 | T13: 煮 | V13: 產履豆奶 | W13: 醣類： | X13: 主食類 | Y13: 5.4 | AC13: 蛋白質 | AD13: 脂肪 | AE13: 醣類 | AF13: 熱量
B14: 月 | D14: 白米 | F14: 80 | G14: 生鮮豬排 | I14: 50 | J14: 冬瓜 | L14: 40 | M14: 花椰菜 | O14: 60 | P14: =P13 -> 淺色蔬菜 | R14: 120 | S14: 海帶芽 | U14: 2 | W14: 103 | X14: 豆魚肉蛋類 | Y14: 2.5 | AA14: 主食 | AB14: 6.2 | AC14: =AB14*2 -> 12.4 | AE14: =AB14*15 -> 93 | AF14: =AC14*4+AE14*4 -> 421.6
B15: 10 | D15: 地瓜 | F15: 55 | J15: 生鮮雞丁 | L15: 15 | M15: 菇類 | O15: 15 | S15: 豆腐 | T15: 豆 | U15: 20 | W15: 脂肪： | X15: 蔬菜類 | Y15: 2.4 | AA15: 肉 | AB15: 2 | AC15: =AB15*7 -> 14 | AD15: =AB15*5 -> 10 | AF15: =AC15*4+AD15*9 -> 146
B16: 日 | J16: 米血 | K16: 冷主 | L16: 15 | M16: 生鮮蝦仁 | N16: 海 | O16: 25 | S16: 柴魚片 | U16: 1 | W16: 24 | X16: 油脂類 | Y16: 2.2 | AA16: 菜 | AB16: 1.7 | AC16: =AB16*1 -> 1.7 | AE16: =AB16*5 -> 8.5 | AF16: =AC16*4+AE16*4 -> 40.8
B17: 星期二 | W17: 蛋白質： | X17: 水果類 | Y17: 0 | AA17: 油 | AB17: 2.5 | AD17: =AB17*5 -> 12.5 | AF17: =AD17*9 -> 112.5
W18: 26 | X18: 奶類 | Y18: 0 | AA18: 水果 | AB18: 1 | AE18: =AB18*15 -> 15
B19: 餐數 | W19: 熱量： | AC19: =SUM(AC14:AC18) -> 28.1 | AD19: =SUM(AD14:AD18) -> 22.5 | AE19: =SUM(AE14:AE18) -> 116.5 | AF19: =AC19*4+AD19*9+AE19*4 -> 780.9
W20: =W14*4+W16*9+W18*4 -> 732 | AC20: =AC19*4/AF19 -> 0.14393648 | AD20: =AD19*9/AF19 -> 0.25931617 | AE20: =AE19*4/AF19 -> 0.59674734
B21: 6 | D21: ='6月菜單'!J12 -> 寶島白飯 | E21: 蒸 | G21: ='6月菜單'!J13 -> 繼光香香轟炸鹽酥雞(炸) | H21: 炸 | J21: ='6月菜單'!J14 -> 主廚古早味滷肉(醃) | K21: 煮 | M21: ='6月菜單'!J15 -> 日式滑嫩布丁蒸蛋 | N21: 蒸 | P21: ='6月菜單'!J16 -> 深色蔬菜 | Q21: 川燙 | S21: ='6月菜單'!J17 -> 白玉上排湯 | T21: 煮 | W21: 醣類： | X21: 主食類 | Y21: 5.5 | AC21: 蛋白質 | AD21: 脂肪 | AE21: 醣類 | AF21: 熱量
B22: 月 | D22: 白米 | F22: 110 | G22: 生鮮雞丁 | I22: 50 | J22: 筍乾 | K22: 醃 | L22: 70 | M22: 生鮮雞蛋 | O22: 35 | P22: =P21 -> 深色蔬菜 | R22: 120 | S22: 白蘿蔔 | U22: 40 | W22: 99 | X22: 豆魚肉蛋類 | Y22: 2.4 | AA22: 主食 | AB22: 6.2 | AC22: =AB22*2 -> 12.4 | AE22: =AB22*15 -> 93 | AF22: =AC22*4+AE22*4 -> 421.6
B23: 11 | J23: 新鮮豬肉丁 | L23: 20 | S23: 新鮮豬排骨 | U23: 10 | W23: 脂肪： | X23: 蔬菜類 | Y23: 2.3 | AA23: 肉 | AB23: 2.1 | AC23: =AB23*7 -> 14.7 | AD23: =AB23*5 -> 10.5 | AF23: =AC23*4+AD23*9 -> 153.3
B24: 日 | W24: 23 | X24: 油脂類 | Y24: 2.5 | AA24: 菜 | AB24: 1.6 | AC24: =AB24*1 -> 1.6 | AE24: =AB24*5 -> 8 | AF24: =AC24*4+AE24*4 -> 38.4
B25: 星期三 | W25: 蛋白質： | X25: 水果類 | Y25: 0 | AA25: 油 | AB25: 2.5 | AD25: =AB25*5 -> 12.5 | AF25: =AD25*9 -> 112.5
W26: 26.8 | X26: 奶類 | Y26: 0 | AA26: 水果 | AE26: =AB26*15 -> 0
B27: 餐數 | W27: 熱量： | AC27: =SUM(AC22:AC26) -> 28.7 | AD27: =SUM(AD22:AD26) -> 23 | AE27: =SUM(AE22:AE26) -> 101 | AF27: =AC27*4+AD27*9+AE27*4 -> 725.8
W28: =W22*4+W24*9+W26*4 -> 710.2 | AC28: =AC27*4/AF27 -> 0.15817029 | AD28: =AD27*9/AF27 -> 0.28520254 | AE28: =AE27*4/AF27 -> 0.55662717
B29: 6 | D29: ='6月菜單'!N12 -> 胚芽飯 | E29: 蒸 | G29: ='6月菜單'!N13 -> 川味涮涮醬蒜泥白肉 | H29: 煮 | J29: ='6月菜單'!N14 -> 元氣香雞堡(加)(炸) | K29: 炸 | M29: ='6月菜單'!N15 -> 海鮮魷魚鍋(海) | N29: 煮 | P29: ='6月菜單'!N16 -> 淺色蔬菜 | Q29: 川燙 | S29: ='6月菜單'!N17 -> 筍香蛋花湯 | T29: 煮 | W29: 醣類： | X29: 主食類 | Y29: 5.5 | AC29: 蛋白質 | AD29: 脂肪 | AE29: 醣類 | AF29: 熱量
B30: 月 | D30: 白米 | F30: 65 | G30: 新鮮豬肉片 | I30: 20 | J30: 香雞堡 | K30: 加.炸 | L30: 40 | M30: 大白菜 | O30: 50 | P30: =P29 -> 淺色蔬菜 | R30: 120 | S30: 新鮮竹筍 | U30: 30 | W30: 103 | X30: 豆魚肉蛋類 | Y30: 2.4 | AA30: 主食 | AB30: 6 | AC30: =AB30*2 -> 12 | AE30: =AB30*15 -> 90 | AF30: =AC30*4+AE30*4 -> 408
B31: 12 | D31: 胚芽米 | F31: 45 | G31: 豆芽菜 | I31: 15 | M31: 金針菇 | O31: 10 | S31: 新鮮雞蛋 | U31: 20 | W31: 脂肪： | X31: 蔬菜類 | Y31: 2.4 | AA31: 肉 | AB31: 2 | AC31: =AB31*7 -> 14 | AD31: =AB31*5 -> 10 | AF31: =AC31*4+AD31*9 -> 146
B32: 日 | M32: 胡蘿蔔 | O32: 10 | W32: =Y30*5+Y32*5+Y34*8 -> 24.5 | X32: 油脂類 | Y32: 2.5 | AA32: 菜 | AB32: 1.8 | AC32: =AB32*1 -> 1.8 | AE32: =AB32*5 -> 9 | AF32: =AC32*4+AE32*4 -> 43.2
B33: 星期四 | M33: 豆皮 | O33: 5 | W33: 蛋白質： | X33: 水果類 | Y33: 0 | AA33: 油 | AB33: 2.5 | AD33: =AB33*5 -> 12.5 | AF33: =AD33*9 -> 112.5
M34: 生鮮魷魚圈 | N34: 海 | O34: 30 | W34: 26.5 | X34: 奶類 | Y34: 0 | AA34: 水果 | AB34: 1 | AE34: =AB34*15 -> 15
B35: 餐數 | W35: 熱量： | AC35: =SUM(AC30:AC34) -> 27.8 | AD35: =SUM(AD30:AD34) -> 22.5 | AE35: =SUM(AE30:AE34) -> 114 | AF35: =AC35*4+AD35*9+AE35*4 -> 769.7
W36: =W30*4+W32*9+W34*4 -> 738.5 | AC36: =AC35*4/AF35 -> 0.14447187 | AD36: =AD35*9/AF35 -> 0.26308952 | AE36: =AE35*4/AF35 -> 0.59243861
B37: 6 | D37: ='6月菜單'!R12 -> 懷舊維力炸醬麵(豆) | E37: 煮 | G37: ='6月菜單'!R13 -> 無敵燒烤大雞排 | H37: 烤 | J37: ='6月菜單'!R14 -> 勁爆蔥爆炒肉片 | K37: 煮 | M37: ='6月菜單'!R15 -> 小瓜佐Q彈紫米丸(加) | N37: 蒸 | P37: ='6月菜單'!R16 -> 深色蔬菜 | Q37: 川燙 | S37: ='6月菜單'!R17 -> 摩摩喳喳 | T37: 煮 | W37: 醣類： | X37: 主食類 | Y37: 6 | AC37: 蛋白質 | AD37: 脂肪 | AE37: 醣類 | AF37: 熱量
B38: 月 | D38: 白油麵 | F38: 250 | G38: 新鮮雞排 | I38: 60 | J38: 新鮮竹筍 | L38: 40 | M38: 紫米丸 | O38: 30 | P38: =P37 -> 深色蔬菜 | R38: 120 | S38: 芋頭 | U38: 10 | W38: 98 | X38: 豆魚肉蛋類 | Y38: 2.4 | AA38: 主食 | AB38: 6 | AC38: =AB38*2 -> 12 | AE38: =AB38*15 -> 90 | AF38: =AC38*4+AE38*4 -> 408
B39: 13 | D39: 洋蔥 | F39: 30 | J39: 新鮮豬肉片 | L39: 20 | M39: 小黃瓜 | O39: 10 | S39: 地瓜 | U39: 10 | W39: 脂肪： | X39: 蔬菜類 | Y39: 2.3 | AA39: 肉 | AB39: 2.3 | AC39: =AB39*7 -> 16.1 | AD39: =AB39*5 -> 11.5 | AF39: =AC39*4+AD39*9 -> 167.9
B40: 日 | D40: 三色豆 | F40: 15 | J40: 胡蘿蔔 | L40: 10 | S40: 西谷米 | U40: 10 | W40: 24 | X40: 油脂類 | Y40: 2.2 | AA40: 菜 | AB40: 1.6 | AC40: =AB40*1 -> 1.6 | AE40: =AB40*5 -> 8 | AF40: =AC40*4+AE40*4 -> 38.4
B41: 星期五 | D41: 新鮮豬絞肉 | F41: 5 | J41: 青蔥 | L41: 5 | S41: 椰漿粉 | U41: 10 | W41: 蛋白質： | X41: 水果類 | Y41: 0 | AA41: 油 | AB41: 2.5 | AD41: =AB41*5 -> 12.5 | AF41: =AD41*9 -> 112.5
D42: 豆乾丁 | E42: 豆 | F42: 5 | W42: 27 | X42: 奶類 | Y42: 0 | AA42: 水果 | AE42: =AB42*15 -> 0
B43: 餐數 | W43: 熱量： | AC43: =SUM(AC38:AC42) -> 29.7 | AD43: =SUM(AD38:AD42) -> 24 | AE43: =SUM(AE38:AE42) -> 98 | AF43: =AC43*4+AD43*9+AE43*4 -> 726.8
W44: =W38*4+W40*9+W42*4 -> 716 | AC44: =AC43*4/AF43 -> 0.16345625 | AD44: =AD43*9/AF43 -> 0.29719318 | AE44: =AE43*4/AF43 -> 0.53935058

Sheet 第3周明細
B1: 6月第三週菜單明細(員林國小-豐成食品工廠)
B3: 食材以可食量標示
B4: 日期 | C4: 星期 | D4: 主食 | E4: 備註 | G4: 主菜 | H4: 備註 | J4: 副菜 | K4: 備註 | M4: 副菜 | N4: 備註 | P4: 副菜 | Q4: 備註 | S4: 湯 | T4: 備註 | V4: 水果/乳品 | W4: 營養分析 | X4: 食物類別 | Y4: 份數
B5: 6 | D5: ='6月菜單'!B21 -> 寶島白飯 | E5: 蒸 | F5: 個人量(克) | G5: ='6月菜單'!B22 -> 南法茄汁肉 | H5: 煮 | I5: 個人量(克) | J5: ='6月菜單'!B23 -> 芹菜炒豆干(豆) | K5: 煮 | L5: 個人量(克) | M5: ='6月菜單'!B24 -> 彩繪蝦仁扁蒲(海) | N5: 煮 | O5: 個人量(克) | P5: ='6月菜單'!B25 -> 深色蔬菜 | Q5: 川燙 | R5: 個人量(克) | S5: ='6月菜單'!B26 -> 冬瓜豚骨湯 | T5: 煮 | U5: 個人量(克) | W5: 醣類： | X5: 主食類 | Y5: 5 | AC5: 蛋白質 | AD5: 脂肪 | AE5: 醣類 | AF5: 熱量
B6: 月 | D6: 白米 | F6: 100 | G6: 生鮮豬肉 | I6: 65 | J6: 新鮮豬肉絲 | L6: 5 | M6: 扁蒲 | O6: 60 | P6: =P5 -> 深色蔬菜 | R6: 120 | S6: 冬瓜 | U6: 40 | W6: 96 | X6: 豆魚肉蛋類 | Y6: 2.5 | AA6: 主食 | AB6: 6 | AC6: =AB6*2 -> 12 | AE6: =AB6*15 -> 90 | AF6: =AC6*4+AE6*4 -> 408
B7: 16 | G7: 洋蔥 | I7: 15 | J7: 豆干 | K7: 豆 | L7: 10 | M7: 胡蘿蔔 | O7: 10 | S7: 新鮮豬大骨 | U7: 10 | W7: 脂肪： | X7: 蔬菜類 | Y7: 3 | AA7: 肉 | AB7: 2 | AC7: =AB7*7 -> 14 | AD7: =AB7*5 -> 10 | AF7: =AC7*4+AD7*9 -> 146
B8: 日 | G8: 彩椒 | I8: 10 | J8: 芹菜 | L8: 15 | M8: 生鮮蝦仁 | N8: 海 | O8: 25 | W8: 24.5 | X8: 油脂類 | Y8: 2.5 | AA8: 菜 | AB8: 1.5 | AC8: =AB8*1 -> 1.5 | AE8: =AB8*5 -> 7.5 | AF8: =AC8*4+AE8*4 -> 36
B9: 星期一 | J9: 洋蔥 | L9: 10 | M9: 木耳 | O9: 5 | W9: 蛋白質： | X9: 水果類 | Y9: 0 | AA9: 油 | AB9: 2.5 | AD9: =AB9*5 -> 12.5 | AF9: =AD9*9 -> 112.5
J10: 胡蘿蔔 | L10: 10 | M10: 蝦皮 | O10: 1 | W10: 27 | X10: 奶類 | Y10: 0 | AA10: 水果 | AE10: =AB10*15 -> 0
B11: 餐數 | W11: 熱量： | AC11: =SUM(AC6:AC10) -> 27.5 | AD11: =SUM(AD6:AD10) -> 22.5 | AE11: =SUM(AE6:AE10) -> 97.5 | AF11: =AC11*4+AD11*9+AE11*4 -> 702.5
W12: =W6*4+W8*9+W10*4 -> 712.5 | AC12: =AC11*4/AF11 -> 0.15658363 | AD12: =AD11*9/AF11 -> 0.28825623 | AE12: =AE11*4/AF11 -> 0.55516014
B13: 6 | D13: ='6月菜單'!F21 -> 地瓜飯 | E13: 蒸 | G13: ='6月菜單'!F22 -> 獨門爆炒肉片 | H13: 煮 | J13: ='6月菜單'!F23 -> 蜂蜜檸檬燒烤翅腿 | K13: 煮 | M13: ='6月菜單'!F24 -> 翻滾蕃茄炒蛋(豆) | N13: 炒 | P13: ='6月菜單'!F25 -> 淺色蔬菜 | Q13: 川燙 | S13: ='6月菜單'!F26 -> 海芽小魚乾蛋花湯(海) | T13: 煮 | W13: 醣類： | X13: 主食類 | Y13: 5 | AC13: 蛋白質 | AD13: 脂肪 | AE13: 醣類 | AF13: 熱量
B14: 月 | D14: 白米 | F14: 80 | G14: 新鮮豬肉片 | I14: 20 | J14: 新鮮翅小腿 | L14: 30 | M14: 新鮮雞蛋 | O14: 40 | P14: =P13 -> 淺色蔬菜 | R14: 120 | S14: 海帶芽 | U14: 3 | W14: 100 | X14: 豆魚肉蛋類 | Y14: 2.4 | AA14: 主食 | AB14: 6 | AC14: =AB14*2 -> 12 | AE14: =AB14*15 -> 90 | AF14: =AC14*4+AE14*4 -> 408
B15: 17 | D15: 地瓜 | F15: 55 | G15: 洋蔥 | I15: 45 | M15: 蕃茄 | O15: 40 | S15: 新鮮雞蛋 | U15: 15 | W15: 脂肪： | X15: 蔬菜類 | Y15: 2.1 | AA15: 肉 | AB15: 2.2 | AC15: =AB15*7 -> 15.4 | AD15: =AB15*5 -> 11 | AF15: =AC15*4+AD15*9 -> 160.6
B16: 日 | M16: 豆腐 | N16: 豆 | O16: 10 | S16: 小魚乾 | T16: 海 | U16: 5 | W16: 24 | X16: 油脂類 | Y16: 2 | AA16: 菜 | AB16: 1.6 | AC16: =AB16*1 -> 1.6 | AE16: =AB16*5 -> 8 | AF16: =AC16*4+AE16*4 -> 38.4
B17: 星期二 | W17: 蛋白質： | X17: 水果類 | Y17: 0 | AA17: 油 | AB17: 2.5 | AD17: =AB17*5 -> 12.5 | AF17: =AD17*9 -> 112.5
W18: 26.5 | X18: 奶類 | Y18: 0 | AA18: 水果 | AB18: 1 | AE18: =AB18*15 -> 15
B19: 餐數 | W19: 熱量： | AC19: =SUM(AC14:AC18) -> 29 | AD19: =SUM(AD14:AD18) -> 23.5 | AE19: =SUM(AE14:AE18) -> 113 | AF19: =AC19*4+AD19*9+AE19*4 -> 779.5
W20: =W14*4+W16*9+W18*4 -> 722 | AC20: =AC19*4/AF19 -> 0.14881334 | AD20: =AD19*9/AF19 -> 0.27132777 | AE20: =AE19*4/AF19 -> 0.57985888
B21: 6 | D21: ='6月菜單'!J21 -> 寶島白飯 | E21: 蒸 | G21: ='6月菜單'!J22 -> 台南腐城肉燥(醃) | H21: 煮 | J21: ='6月菜單'!J23 -> 招牌畢業黃金卡拉雞排(炸) | K21: 炸 | M21: ='6月菜單'!J24 -> 日式青春柴香高麗菜大阪燒 | N21: 煮 | P21: ='6月菜單'!J25 -> 深色蔬菜 | Q21: 川燙 | S21: ='6月菜單'!J26 -> 薑絲豆腐湯(豆) | T21: 煮 | W21: 醣類： | X21: 主食類 | Y21: 5 | AC21: 蛋白質 | AD21: 脂肪 | AE21: 醣類 | AF21: 熱量
B22: 月 | D22: 白米 | F22: 100 | G22: 新鮮豬絞肉 | I22: 15 | J22: 生鮮雞排 | L22: 50 | M22: 高麗菜 | O22: 60 | P22: =P21 -> 深色蔬菜 | R22: 120 | S22: 豆腐 | U22: 10 | W22: 98 | X22: 豆魚肉蛋類 | Y22: 2.6 | AA22: 主食 | AB22: 6 | AC22: =AB22*2 -> 12 | AE22: =AB22*15 -> 90 | AF22: =AC22*4+AE22*4 -> 408
B23: 18 | G23: 洋蔥 | I23: 40 | M23: 雞蛋 | O23: 35 | S23: 薑絲 | U23: 1 | W23: 脂肪： | X23: 蔬菜類 | Y23: 2.6 | AA23: 肉 | AB23: 2 | AC23: =AB23*7 -> 14 | AD23: =AB23*5 -> 10 | AF23: =AC23*4+AD23*9 -> 146
B24: 日 | G24: 脆瓜 | H24: 醃 | I24: 20 | M24: 柴魚片 | O24: 5 | W24: =Y22*5+Y24*5+Y26*8 -> 25.5 | X24: 油脂類 | Y24: 2.5 | AA24: 菜 | AB24: 1.5 | AC24: =AB24*1 -> 1.5 | AE24: =AB24*5 -> 7.5 | AF24: =AC24*4+AE24*4 -> 36
B25: 星期三 | G25: 香菇 | I25: 10 | M25: 胡蘿蔔 | O25: 5 | W25: 蛋白質： | X25: 水果類 | Y25: 0 | AA25: 油 | AB25: 2.5 | AD25: =AB25*5 -> 12.5 | AF25: =AD25*9 -> 112.5
M26: 豬肉片 | O26: 5 | W26: 27 | X26: 奶類 | Y26: 0 | AA26: 水果 | AE26: =AB26*15 -> 0
B27: 餐數 | W27: 熱量： | AC27: =SUM(AC22:AC26) -> 27.5 | AD27: =SUM(AD22:AD26) -> 22.5 | AE27: =SUM(AE22:AE26) -> 97.5 | AF27: =AC27*4+AD27*9+AE27*4 -> 702.5
W28: =W22*4+W24*9+W26*4 -> 729.5 | AC28: =AC27*4/AF27 -> 0.15658363 | AD28: =AD27*9/AF27 -> 0.28825623 | AE28: =AE27*4/AF27 -> 0.55516014
B29: 6 | D29: ='6月菜單'!N21 -> 全穀飯 | E29: 蒸 | G29: ='6月菜單'!N22 -> 照燒無骨里肌肉 | H29: 煮 | J29: ='6月菜單'!N23 -> xo醬蘿蔔糕(冷主) | K29: 蒸 | M29: ='6月菜單'!N24 -> 特經典海霸王麻辣燙(豆) | N29: 煮 | P29: ='6月菜單'!N25 -> 淺色蔬菜 | Q29: 川燙 | S29: ='6月菜單'!N26 -> 蘿蔔湯 | T29: 煮 | W29: 醣類： | X29: 主食類 | Y29: 5.6 | AC29: 蛋白質 | AD29: 脂肪 | AE29: 醣類 | AF29: 熱量
B30: 月 | D30: 白米 | F30: 60 | G30: 生鮮豬排 | I30: 60 | J30: 蘿蔔糕 | L30: 30 | M30: 生鮮竹筍 | O30: 50 | P30: =P29 -> 淺色蔬菜 | R30: 120 | S30: 白蘿蔔 | U30: 40 | W30: 103 | X30: 豆魚肉蛋類 | Y30: 2.4 | AA30: 主食 | AB30: 6 | AC30: =AB30*2 -> 12 | AE30: =AB30*15 -> 90 | AF30: =AC30*4+AE30*4 -> 408
B31: 19 | D31: 全穀米 | F31: 40 | M31: 豬血 | O31: 5 | S31: 新鮮豬排骨 | U31: 10 | W31: 脂肪： | X31: 蔬菜類 | Y31: 2.1 | AA31: 肉 | AB31: 2.3 | AC31: =AB31*7 -> 16.1 | AD31: =AB31*5 -> 11.5 | AF31: =AC31*4+AD31*9 -> 167.9
B32: 日 | M32: 豆皮 | N32: 豆 | O32: 5 | W32: =Y30*5+Y32*5+Y34*8 -> 22 | X32: 油脂類 | Y32: 2 | AA32: 菜 | AB32: 1.5 | AC32: =AB32*1 -> 1.5 | AE32: =AB32*5 -> 7.5 | AF32: =AC32*4+AE32*4 -> 36
B33: 星期四 | M33: 生鮮豬肉片 | O33: 20 | W33: 蛋白質： | X33: 水果類 | Y33: 0 | AA33: 油 | AB33: 2.5 | AD33: =AB33*5 -> 12.5 | AF33: =AD33*9 -> 112.5
W34: 26.5 | X34: 奶類 | Y34: 0 | AA34: 水果 | AB34: 1 | AE34: =AB34*15 -> 15
B35: 餐數 | W35: 熱量： | AC35: =SUM(AC30:AC34) -> 29.6 | AD35: =SUM(AD30:AD34) -> 24 | AE35: =SUM(AE30:AE34) -> 112.5 | AF35: =AC35*4+AD35*9+AE35*4 -> 784.4
W36: =W30*4+W32*9+W34*4 -> 716 | AC36: =AC35*4/AF35 -> 0.1509434 | AD36: =AD35*9/AF35 -> 0.27536971 | AE36: =AE35*4/AF35 -> 0.57368689
B37: 6 | D37: ='6月菜單'!R21 -> 祖傳油蔥什錦手工拌麵 | E37: 煮 | G37: ='6月菜單'!R22 -> 和風香草烤雞翅 | H37: 烤 | J37: ='6月菜單'!R23 -> 偽東山鴨頭(豆) | K37: 滷 | M37: ='6月菜單'!R24 -> 椒鹽脆皮大煎餃(加) | N37: 蒸 | P37: ='6月菜單'!R25 -> 深色蔬菜 | Q37: 川燙 | S37: ='6月菜單'!R26 -> 筍香蛋花湯 | T37: 煮 | W37: 醣類： | X37: 主食類 | Y37: 5.5 | AC37: 蛋白質 | AD37: 脂肪 | AE37: 醣類 | AF37: 熱量
B38: 月 | D38: 白油麵 | F38: 300 | G38: 生鮮雞翅 | I38: 50 | J38: 大溪黑豆乾 | K38: 豆 | L38: 30 | M38: 鍋貼 | N38: 加 | O38: 30 | P38: =P37 -> 深色蔬菜 | R38: 120 | S38: 新鮮竹筍 | U38: 40 | W38: 105 | X38: 豆魚肉蛋類 | Y38: 2.5 | AA38: 主食 | AB38: 6 | AC38: =AB38*2 -> 12 | AE38: =AB38*15 -> 90 | AF38: =AC38*4+AE38*4 -> 408
B39: 20 | D39: 生鮮豬肉絲 | F39: 5 | J39: 海帶結 | L39: 20 | S39: 新鮮雞蛋 | U39: 15 | W39: 脂肪： | X39: 蔬菜類 | Y39: 2.5 | AA39: 肉 | AB39: 2.3 | AC39: =AB39*7 -> 16.1 | AD39: =AB39*5 -> 11.5 | AF39: =AC39*4+AD39*9 -> 167.9
B40: 日 | D40: 洋蔥 | F40: 10 | J40: 胡蘿蔔 | L40: 15 | W40: 23 | X40: 油脂類 | Y40: 2.2 | AA40: 菜 | AB40: 1.6 | AC40: =AB40*1 -> 1.6 | AE40: =AB40*5 -> 8 | AF40: =AC40*4+AE40*4 -> 38.4
B41: 星期五 | D41: 胡蘿蔔 | F41: 10 | J41: 白蘿蔔 | L41: 10 | W41: 蛋白質： | X41: 水果類 | Y41: 0 | AA41: 油 | AB41: 2.5 | AD41: =AB41*5 -> 12.5 | AF41: =AD41*9 -> 112.5
D42: 高麗菜 | F42: 20 | J42: 玉米穗 | L42: 5 | W42: 27 | X42: 奶類 | Y42: 0 | AA42: 水果 | AE42: =AB42*15 -> 0
B43: 餐數 | W43: 熱量： | AC43: =SUM(AC38:AC42) -> 29.7 | AD43: =SUM(AD38:AD42) -> 24 | AE43: =SUM(AE38:AE42) -> 98 | AF43: =AC43*4+AD43*9+AE43*4 -> 726.8
W44: =W38*4+W40*9+W42*4 -> 735 | AC44: =AC43*4/AF43 -> 0.16345625 | AD44: =AD43*9/AF43 -> 0.29719318 | AE44: =AE43*4/AF43 -> 0.53935058

Sheet 第4周明細
B1: 6月第四週菜單明細(員林國小-豐成食品工廠)
B3: 食材以可食量標示
B4: 日期 | C4: 星期 | D4: 主食 | E4: 備註 | G4: 主菜 | H4: 備註 | J4: 副菜 | K4: 備註 | M4: 副菜 | N4: 備註 | P4: 副菜 | Q4: 備註 | S4: 湯 | T4: 備註 | V4: 水果/乳品 | W4: 營養分析 | X4: 食物類別 | Y4: 份數
B5: 6 | D5: ='6月菜單'!B30 -> 寶島白飯 | E5: 蒸 | F5: 個人量(克) | G5: ='6月菜單'!B31 -> 招牌香酥炸大魚片(炸)(海)-申請 | H5: 炸 | I5: 個人量(克) | J5: ='6月菜單'!B32 -> 蘑菇拌飯豆腐(豆) | K5: 煮 | L5: 個人量(克) | M5: ='6月菜單'!B33 -> 黃金玉米滑蛋 | N5: 煮 | O5: 個人量(克) | P5: ='6月菜單'!B34 -> 深色蔬菜 | Q5: 川燙 | R5: 個人量(克) | S5: ='6月菜單'!B35 -> 蘿蔔排骨湯 | T5: 煮 | U5: 個人量(克) | W5: 醣類： | X5: 主食類 | Y5: 5.3 | AC5: 蛋白質 | AD5: 脂肪 | AE5: 醣類 | AF5: 熱量
B6: 月 | D6: 白米 | F6: 100 | G6: 生鮮魚片 | H6: 海 | I6: 40 | J6: 豆腐 | K6: 豆 | L6: 30 | M6: 新鮮雞蛋 | O6: 50 | P6: =P5 -> 深色蔬菜 | R6: 120 | S6: 白蘿蔔 | U6: 40 | W6: 98 | X6: 豆魚肉蛋類 | Y6: 2.6 | AA6: 主食 | AB6: 6 | AC6: =AB6*2 -> 12 | AE6: =AB6*15 -> 90 | AF6: =AC6*4+AE6*4 -> 408
B7: 23 | J7: 洋蔥 | L7: 20 | M7: 洋蔥 | O7: 20 | S7: 新鮮豬排骨 | U7: 10 | W7: 脂肪： | X7: 蔬菜類 | Y7: 2.2 | AA7: 肉 | AB7: 2 | AC7: =AB7*7 -> 14 | AD7: =AB7*5 -> 10 | AF7: =AC7*4+AD7*9 -> 146
B8: 日 | J8: 三色豆 | L8: 15 | M8: 玉米粒 | O8: 25 | W8: 23 | X8: 油脂類 | Y8: 2.5 | AA8: 菜 | AB8: 1.5 | AC8: =AB8*1 -> 1.5 | AE8: =AB8*5 -> 7.5 | AF8: =AC8*4+AE8*4 -> 36
B9: 星期一 | J9: 新鮮豬絞肉 | L9: 10 | W9: 蛋白質： | X9: 水果類 | Y9: 0 | AA9: 油 | AB9: 2.5 | AD9: =AB9*5 -> 12.5 | AF9: =AD9*9 -> 112.5
W10: 27 | X10: 奶類 | Y10: 0 | AA10: 水果 | AE10: =AB10*15 -> 0
B11: 餐數 | W11: 熱量： | AC11: =SUM(AC6:AC10) -> 27.5 | AD11: =SUM(AD6:AD10) -> 22.5 | AE11: =SUM(AE6:AE10) -> 97.5 | AF11: =AC11*4+AD11*9+AE11*4 -> 702.5
W12: =W6*4+W8*9+W10*4 -> 707 | AC12: =AC11*4/AF11 -> 0.15658363 | AD12: =AD11*9/AF11 -> 0.28825623 | AE12: =AE11*4/AF11 -> 0.55516014
B13: 6 | D13: ='6月菜單'!F30 -> 地瓜飯 | E13: 蒸 | G13: ='6月菜單'!F31 -> 醬燒蜜汁燒豬排 | H13: 煮 | J13: ='6月菜單'!F32 -> 泰式濃郁咖哩雞 | K13: 煮 | M13: ='6月菜單'!F33 -> 什錦花椰雙菇 | N13: 炒 | P13: ='6月菜單'!F34 -> 淺色蔬菜 | Q13: 川燙 | S13: ='6月菜單'!F35 -> 黃瓜排骨湯 | T13: 煮 | W13: 醣類： | X13: 主食類 | Y13: 5.3 | AC13: 蛋白質 | AD13: 脂肪 | AE13: 醣類 | AF13: 熱量
B14: 月 | D14: 白米 | F14: 80 | G14: 生鮮豬排 | I14: 50 | J14: 新鮮雞丁 | L14: 40 | M14: 青花菜 | O14: 40 | P14: =P13 -> 淺色蔬菜 | R14: 120 | S14: 大黃瓜 | U14: 40 | W14: 99 | X14: 豆魚肉蛋類 | Y14: 2.4 | AA14: 主食 | AB14: 6 | AC14: =AB14*2 -> 12 | AE14: =AB14*15 -> 90 | AF14: =AC14*4+AE14*4 -> 408
B15: 24 | D15: 地瓜 | F15: 55 | J15: 馬鈴薯 | L15: 25 | M15: 白花菜 | O15: 20 | S15: 新鮮豬排骨 | U15: 10 | W15: 脂肪： | X15: 蔬菜類 | Y15: 2.6 | AA15: 肉 | AB15: 2.2 | AC15: =AB15*7 -> 15.4 | AD15: =AB15*5 -> 11 | AF15: =AC15*4+AD15*9 -> 160.6
B16: 日 | J16: 洋蔥 | L16: 15 | M16: 菇類 | O16: 10 | W16: =Y14*5+Y16*5+Y18*8 -> 23 | X16: 油脂類 | Y16: 2.2 | AA16: 菜 | AB16: 1.6 | AC16: =AB16*1 -> 1.6 | AE16: =AB16*5 -> 8 | AF16: =AC16*4+AE16*4 -> 38.4
B17: 星期二 | J17: 胡蘿蔔 | L17: 10 | W17: 蛋白質： | X17: 水果類 | Y17: 0 | AA17: 油 | AB17: 2.5 | AD17: =AB17*5 -> 12.5 | AF17: =AD17*9 -> 112.5
W18: 26.5 | X18: 奶類 | Y18: 0 | AA18: 水果 | AB18: 1 | AE18: =AB18*15 -> 15
B19: 餐數 | W19: 熱量： | AC19: =SUM(AC14:AC18) -> 29 | AD19: =SUM(AD14:AD18) -> 23.5 | AE19: =SUM(AE14:AE18) -> 113 | AF19: =AC19*4+AD19*9+AE19*4 -> 779.5
W20: =W14*4+W16*9+W18*4 -> 709 | AC20: =AC19*4/AF19 -> 0.14881334 | AD20: =AD19*9/AF19 -> 0.27132777 | AE20: =AE19*4/AF19 -> 0.57985888
B21: 6 | D21: ='6月菜單'!J30 -> 寶島白飯 | E21: 蒸 | G21: ='6月菜單'!J31 -> 霸氣無敵烤大雞腿 | H21: 烤 | J21: ='6月菜單'!J32 -> 將軍大王茶香蛋蛋 | K21: 煮 | M21: ='6月菜單'!J33 -> 饗樂鐵板蘑菇豬柳(豆) | N21: 煮 | P21: ='6月菜單'!J34 -> 深色蔬菜 | Q21: 川燙 | S21: ='6月菜單'!J35 -> 冬瓜湯 | T21: 煮 | W21: 醣類： | X21: 主食類 | Y21: 5.5 | AC21: 蛋白質 | AD21: 脂肪 | AE21: 醣類 | AF21: 熱量
B22: 月 | D22: 白米 | F22: 110 | G22: 新鮮雞腿 | I22: 50 | J22: 水煮蛋 | L22: 40 | M22: 生鮮豬柳 | O22: 5 | P22: =P21 -> 深色蔬菜 | R22: 120 | S22: 冬瓜 | U22: 40 | W22: 98 | X22: 豆魚肉蛋類 | Y22: 2.5 | AA22: 主食 | AB22: 6 | AC22: =AB22*2 -> 12 | AE22: =AB22*15 -> 90 | AF22: =AC22*4+AE22*4 -> 408
B23: 25 | M23: 洋蔥 | O23: 50 | W23: 脂肪： | X23: 蔬菜類 | Y23: 2.3 | AA23: 肉 | AB23: 2 | AC23: =AB23*7 -> 14 | AD23: =AB23*5 -> 10 | AF23: =AC23*4+AD23*9 -> 146
B24: 日 | M24: 胡蘿蔔 | O24: 15 | W24: =Y22*5+Y24*5+Y26*8 -> 23.5 | X24: 油脂類 | Y24: 2.2 | AA24: 菜 | AB24: 1.5 | AC24: =AB24*1 -> 1.5 | AE24: =AB24*5 -> 7.5 | AF24: =AC24*4+AE24*4 -> 36
B25: 星期三 | M25: 豆干片 | N25: 豆 | O25: 10 | W25: 蛋白質： | X25: 水果類 | Y25: 0 | AA25: 油 | AB25: 2.5 | AD25: =AB25*5 -> 12.5 | AF25: =AD25*9 -> 112.5
W26: 26 | X26: 奶類 | Y26: 0 | AA26: 水果 | AE26: =AB26*15 -> 0
B27: 餐數 | W27: 熱量： | AC27: =SUM(AC22:AC26) -> 27.5 | AD27: =SUM(AD22:AD26) -> 22.5 | AE27: =SUM(AE22:AE26) -> 97.5 | AF27: =AC27*4+AD27*9+AE27*4 -> 702.5
W28: =W22*4+W24*9+W26*4 -> 707.5 | AC28: =AC27*4/AF27 -> 0.15658363 | AD28: =AD27*9/AF27 -> 0.28825623 | AE28: =AE27*4/AF27 -> 0.55516014
B29: 6 | D29: ='6月菜單'!N30 -> 小米飯 | E29: 蒸 | G29: ='6月菜單'!N31 -> 蔥爆鹹豬肉 | H29: 煮 | J29: ='6月菜單'!N32 -> 首爾部隊春川炒雞 | K29: 煮 | M29: ='6月菜單'!N33 -> 府城安平海鮮卷(加) | N29: 蒸 | P29: ='6月菜單'!N34 -> 淺色蔬菜 | Q29: 川燙 | S29: ='6月菜單'!N35 -> 消暑綠豆薏仁湯 | T29: 煮 | W29: 醣類： | X29: 主食類 | Y29: 6.3 | AC29: 蛋白質 | AD29: 脂肪 | AE29: 醣類 | AF29: 熱量
B30: 月 | D30: 白米 | F30: 60 | G30: 新鮮豬肉片 | I30: 30 | J30: 新鮮雞丁 | L30: 30 | M30: 蝦仁捲 | N30: 海 | O30: 30 | P30: =P29 -> 淺色蔬菜 | R30: 120 | S30: 綠豆 | U30: 10 | W30: 98 | X30: 豆魚肉蛋類 | Y30: 2.5 | AA30: 主食 | AB30: 6 | AC30: =AB30*2 -> 12 | AE30: =AB30*15 -> 90 | AF30: =AC30*4+AE30*4 -> 408
B31: 26 | D31: 小米 | F31: 40 | G31: 洋蔥 | I31: 40 | J31: 高麗菜 | L31: 50 | S31: 薏仁 | U31: 10 | W31: 脂肪： | X31: 蔬菜類 | Y31: 2.5 | AA31: 肉 | AB31: 2.3 | AC31: =AB31*7 -> 16.1 | AD31: =AB31*5 -> 11.5 | AF31: =AC31*4+AD31*9 -> 167.9
B32: 日 | J32: 胡蘿蔔 | L32: 20 | W32: 23 | X32: 油脂類 | Y32: 2.2 | AA32: 菜 | AB32: 1.5 | AC32: =AB32*1 -> 1.5 | AE32: =AB32*5 -> 7.5 | AF32: =AC32*4+AE32*4 -> 36
B33: 星期四 | W33: 蛋白質： | X33: 水果類 | Y33: 0 | AA33: 油 | AB33: 2.5 | AD33: =AB33*5 -> 12.5 | AF33: =AD33*9 -> 112.5
W34: 26.4 | X34: 奶類 | Y34: 0 | AA34: 水果 | AB34: 1 | AE34: =AB34*15 -> 15
B35: 餐數 | W35: 熱量： | AC35: =SUM(AC30:AC34) -> 29.6 | AD35: =SUM(AD30:AD34) -> 24 | AE35: =SUM(AE30:AE34) -> 112.5 | AF35: =AC35*4+AD35*9+AE35*4 -> 784.4
W36: 854.0K | AC36: =AC35*4/AF35 -> 0.1509434 | AD36: =AD35*9/AF35 -> 0.27536971 | AE36: =AE35*4/AF35 -> 0.57368689
B37: 6 | D37: ='6月菜單'!R30 -> 銷魂嘉義雞肉飯 | E37: 炒 | G37: ='6月菜單'!R31 -> 翻炒泰式咕咕雞(加)(過油) | H37: 炒 | J37: ='6月菜單'!R32 -> 鮮筍炒肉絲 | K37: 煮 | M37: ='6月菜單'!R33 -> 如意水餃*2(冷主) | N37: 蒸 | P37: ='6月菜單'!R34 -> 深色蔬菜 | Q37: 川燙 | S37: ='6月菜單'!R35 -> 海芽蛋花湯 | T37: 煮 | W37: 醣類： | X37: 主食類 | Y37: 6 | AC37: 蛋白質 | AD37: 脂肪 | AE37: 醣類 | AF37: 熱量
B38: 月 | D38: 白米 | F38: 100 | G38: 調理雞丁 | I38: 60 | J38: 竹筍 | L38: 30 | M38: 水餃 | N38: 冷主 | O38: 30 | P38: =P37 -> 深色蔬菜 | R38: 120 | S38: 海帶芽 | U38: 2 | W38: 103 | X38: 豆魚肉蛋類 | Y38: 2.6 | AA38: 主食 | AB38: 6 | AC38: =AB38*2 -> 12 | AE38: =AB38*15 -> 90 | AF38: =AC38*4+AE38*4 -> 408
B39: 27 | D39: 高麗菜 | F39: 40 | G39: 洋蔥 | I39: 20 | J39: 胡蘿蔔 | L39: 5 | S39: 新鮮雞蛋 | U39: 30 | W39: 脂肪： | X39: 蔬菜類 | Y39: 2.4 | AA39: 肉 | AB39: 2.3 | AC39: =AB39*7 -> 16.1 | AD39: =AB39*5 -> 11.5 | AF39: =AC39*4+AD39*9 -> 167.9
B40: 日 | D40: 三色豆 | F40: 10 | G40: 彩椒 | I40: 10 | J40: 新鮮豬肉絲 | L40: 10 | W40: 25 | X40: 油脂類 | Y40: 2.5 | AA40: 菜 | AB40: 1.6 | AC40: =AB40*1 -> 1.6 | AE40: =AB40*5 -> 8 | AF40: =AC40*4+AE40*4 -> 38.4
B41: 星期五 | D41: 生鮮雞肉 | F41: 10 | J41: 青蔥 | L41: 5 | W41: 蛋白質： | X41: 水果類 | Y41: 0 | AA41: 油 | AB41: 2.5 | AD41: =AB41*5 -> 12.5 | AF41: =AD41*9 -> 112.5
W42: 27 | X42: 奶類 | Y42: 0 | AA42: 水果 | AE42: =AB42*15 -> 0
B43: 餐數 | W43: 熱量： | AC43: =SUM(AC38:AC42) -> 29.7 | AD43: =SUM(AD38:AD42) -> 24 | AE43: =SUM(AE38:AE42) -> 98 | AF43: =AC43*4+AD43*9+AE43*4 -> 726.8
W44: =W38*4+W40*9+W42*4 -> 745 | AC44: =AC43*4/AF43 -> 0.16345625 | AD44: =AD43*9/AF43 -> 0.29719318 | AE44: =AE43*4/AF43 -> 0.53935058
O48: =30+20+30+20+20+120+30 -> 270 | R48: =25+20+30+10+10+10+120+30 -> 255

Sheet 第5週明細
B1: 6月第五週菜單明細(員林國小-豐成食品工廠)
B3: 食材以可食量標示
B4: 日期 | C4: 星期 | D4: 主食 | E4: 備註 | G4: 主菜 | H4: 備註 | J4: 副菜 | K4: 備註 | M4: 副菜 | N4: 備註 | P4: 副菜 | Q4: 備註 | S4: 湯 | T4: 備註 | V4: 水果/乳品 | W4: 營養分析 | X4: 食物類別 | Y4: 份數
B5: 6 | D5: ='6月菜單'!B39 -> 寶島白飯 | E5: 蒸 | G5: ='6月菜單'!B40 -> 普羅旺斯雞翅 | H5: 烤 | J5: ='6月菜單'!B41 -> 古法熱銷麻婆豆腐(豆) | K5: 煮 | M5: ='6月菜單'!B42 -> 黃金圓滾滾芝麻球(加)(炸) | N5: 炸 | P5: ='6月菜單'!B43 -> 深色蔬菜 | Q5: 川燙 | S5: ='6月菜單'!B44 -> 什錦白菜小魚乾蛋花湯(海) | T5: 煮 | U5: 個人量(克) | W5: 醣類： | X5: 主食類 | Y5: 5.3 | AC5: 蛋白質 | AD5: 脂肪 | AE5: 醣類 | AF5: 熱量
B6: 月 | D6: 白米 | F6: 100 | G6: 生鮮雞翅 | I6: 50 | J6: 豆腐 | K6: 豆 | L6: 30 | M6: 芝麻球 | O6: 30 | P6: =P5 -> 深色蔬菜 | R6: 120 | S6: 大白菜 | U6: 15 | W6: 99 | X6: 豆魚肉蛋類 | Y6: 2.3 | AA6: 主食 | AB6: 6 | AC6: =AB6*2 -> 12 | AE6: =AB6*15 -> 90 | AF6: =AC6*4+AE6*4 -> 408
B7: 30 | J7: 洋蔥 | L7: 20 | S7: 竹筍 | U7: 15 | W7: 脂肪： | X7: 蔬菜類 | Y7: 2 | AA7: 肉 | AB7: 2 | AC7: =AB7*7 -> 14 | AD7: =AB7*5 -> 10 | AF7: =AC7*4+AD7*9 -> 146
B8: 日 | J8: 三色豆 | L8: 15 | S8: 胡蘿蔔 | U8: 5 | W8: 24 | X8: 油脂類 | Y8: 2.5 | AA8: 菜 | AB8: 1.7 | AC8: =AB8*1 -> 1.7 | AE8: =AB8*5 -> 8.5 | AF8: =AC8*4+AE8*4 -> 40.8
B9: 星期一 | J9: 新鮮豬絞肉 | L9: 5 | S9: 金針菇 | U9: 10 | W9: 蛋白質： | X9: 水果類 | Y9: 0 | AA9: 油 | AB9: 2.5 | AD9: =AB9*5 -> 12.5 | AF9: =AD9*9 -> 112.5
S10: 雞蛋 | U10: 20 | W10: 27 | X10: 奶類 | Y10: 0 | AA10: 水果 | AE10: =AB10*15 -> 0
B11: 餐數 | S11: 小魚乾 | T11: 海 | U11: 5 | W11: 熱量： | AC11: =SUM(AC6:AC10) -> 27.7 | AD11: =SUM(AD6:AD10) -> 22.5 | AE11: =SUM(AE6:AE10) -> 98.5 | AF11: =AC11*4+AD11*9+AE11*4 -> 707.3
W12: =W6*4+W8*9+W10*4 -> 720 | AC12: =AC11*4/AF11 -> 0.15665206 | AD12: =AD11*9/AF11 -> 0.28630001 | AE12: =AE11*4/AF11 -> 0.55704793
B13: 12 | D13: ='6月菜單'!F39 -> 0 | E13: 蒸 | G13: ='6月菜單'!F40 -> 0 | H13: 炒 | J13: ='6月菜單'!F41 -> 0 | K13: 煮 | M13: ='6月菜單'!F42 -> 0 | N13: 煮 | P13: ='6月菜單'!F43 -> 0 | Q13: 川燙 | S13: ='6月菜單'!F44 -> 0 | T13: 煮 | W13: 醣類： | X13: 主食類 | AC13: 蛋白質 | AD13: 脂肪 | AE13: 醣類 | AF13: 熱量
B14: 月 | W14: 103 | X14: 豆魚肉蛋類 | AA14: 主食 | AB14: 6.2 | AC14: =AB14*2 -> 12.4 | AE14: =AB14*15 -> 93 | AF14: =AC14*4+AE14*4 -> 421.6
B15: 31 | W15: 脂肪： | X15: 蔬菜類 | AA15: 肉 | AB15: 2.1 | AC15: =AB15*7 -> 14.7 | AD15: =AB15*5 -> 10.5 | AF15: =AC15*4+AD15*9 -> 153.3
B16: 日 | W16: =Y14*5+Y16*5+Y18*8 -> 0 | X16: 油脂類 | AA16: 菜 | AB16: 1.8 | AC16: =AB16*1 -> 1.8 | AE16: =AB16*5 -> 9 | AF16: =AC16*4+AE16*4 -> 43.2
B17: 星期二 | W17: 蛋白質： | X17: 水果類 | AA17: 油 | AB17: 2.5 | AD17: =AB17*5 -> 12.5 | AF17: =AD17*9 -> 112.5
W18: 27 | X18: 奶類 | AA18: 水果 | AB18: 1 | AE18: =AB18*15 -> 15
B19: 餐數 | W19: 熱量： | AC19: =SUM(AC14:AC18) -> 28.9 | AD19: =SUM(AD14:AD18) -> 23 | AE19: =SUM(AE14:AE18) -> 117 | AF19: =AC19*4+AD19*9+AE19*4 -> 790.6
W20: =W14*4+W16*9+W18*4 -> 520 | AC20: =AC19*4/AF19 -> 0.14621806 | AD20: =AD19*9/AF19 -> 0.26182646 | AE20: =AE19*4/AF19 -> 0.59195548
D21: ='6月菜單'!J39 -> 0 | E21: 蒸 | G21: ='6月菜單'!J40 -> 0 | H21: 烤 | J21: ='6月菜單'!J41:M41 -> 0 | K21: 煮 | M21: ='6月菜單'!J42 -> 0 | N21: 炒 | P21: ='6月菜單'!J43 -> 0 | Q21: 川燙 | S21: ='6月菜單'!J44 -> 0 | T21: 煮 | W21: 醣類： | X21: 主食類 | AC21: 蛋白質 | AD21: 脂肪 | AE21: 醣類 | AF21: 熱量
B22: 月 | W22: 98 | X22: 豆魚肉蛋類 | AA22: 主食 | AB22: 6.2 | AC22: =AB22*2 -> 12.4 | AE22: =AB22*15 -> 93 | AF22: =AC22*4+AE22*4 -> 421.6
W23: 脂肪： | X23: 蔬菜類 | AA23: 肉 | AB23: 2.2 | AC23: =AB23*7 -> 15.4 | AD23: =AB23*5 -> 11 | AF23: =AC23*4+AD23*9 -> 160.6
B24: 日 | W24: =Y22*5+Y24*5+Y26*8 -> 0 | X24: 油脂類 | AA24: 菜 | AB24: 1.6 | AC24: =AB24*1 -> 1.6 | AE24: =AB24*5 -> 8 | AF24: =AC24*4+AE24*4 -> 38.4
B25: 星期三 | W25: 蛋白質： | X25: 水果類 | AA25: 油 | AB25: 2.5 | AD25: =AB25*5 -> 12.5 | AF25: =AD25*9 -> 112.5
W26: 26 | X26: 奶類 | AA26: 水果 | AE26: =AB26*15 -> 0
B27: 餐數 | W27: 熱量： | AC27: =SUM(AC22:AC26) -> 29.4 | AD27: =SUM(AD22:AD26) -> 23.5 | AE27: =SUM(AE22:AE26) -> 101 | AF27: =AC27*4+AD27*9+AE27*4 -> 733.1
W28: =W22*4+W24*9+W26*4 -> 496 | AC28: =AC27*4/AF27 -> 0.16041468 | AD28: =AD27*9/AF27 -> 0.28850089 | AE28: =AE27*4/AF27 -> 0.55108444
D29: ='6月菜單'!N39 -> 0 | E29: 蒸 | G29: ='6月菜單'!N40 -> 0 | H29: 烤 | J29: ='6月菜單'!N41 -> 0 | K29: 煮 | M29: ='6月菜單'!N42 -> 0 | N29: 炒 | P29: ='6月菜單'!N43 -> 0 | Q29: 川燙 | S29: ='6月菜單'!N44 -> 0 | T29: 煮 | W29: 醣類： | X29: 主食類 | AC29: 蛋白質 | AD29: 脂肪 | AE29: 醣類 | AF29: 熱量
B30: 月 | W30: 97 | X30: 豆魚肉蛋類 | AA30: 主食 | AB30: 6.2 | AC30: =AB30*2 -> 12.4 | AE30: =AB30*15 -> 93 | AF30: =AC30*4+AE30*4 -> 421.6
W31: 脂肪： | X31: 蔬菜類 | AA31: 肉 | AB31: 2.1 | AC31: =AB31*7 -> 14.7 | AD31: =AB31*5 -> 10.5 | AF31: =AC31*4+AD31*9 -> 153.3
B32: 日 | W32: =Y30*5+Y32*5+Y34*8 -> 0 | X32: 油脂類 | AA32: 菜 | AB32: 1.5 | AC32: =AB32*1 -> 1.5 | AE32: =AB32*5 -> 7.5 | AF32: =AC32*4+AE32*4 -> 36
B33: 星期四 | W33: 蛋白質： | X33: 水果類 | AA33: 油 | AB33: 2.5 | AD33: =AB33*5 -> 12.5 | AF33: =AD33*9 -> 112.5
W34: 25 | X34: 奶類 | AA34: 水果 | AB34: 1 | AE34: =AB34*15 -> 15
B35: 餐數 | W35: 熱量： | AC35: =SUM(AC30:AC34) -> 28.6 | AD35: =SUM(AD30:AD34) -> 23 | AE35: =SUM(AE30:AE34) -> 115.5 | AF35: =AC35*4+AD35*9+AE35*4 -> 783.4
W36: =W30*4+W32*9+W34*4 -> 488 | AC36: =AC35*4/AF35 -> 0.14603013 | AD36: =AD35*9/AF35 -> 0.26423283 | AE36: =AE35*4/AF35 -> 0.58973704
D37: ='6月菜單'!#REF! -> #REF! | E37: 炒 | G37: ='6月菜單'!#REF! -> #REF! | H37: 煮 | J37: ='6月菜單'!#REF! -> #REF! | K37: 煮 | M37: ='6月菜單'!#REF! -> #REF! | N37: 炸 | P37: ='6月菜單'!#REF! -> #REF! | Q37: 川燙 | T37: 煮 | W37: 醣類： | X37: 主食類 | AC37: 蛋白質 | AD37: 脂肪 | AE37: 醣類 | AF37: 熱量
B38: 月 | W38: 95 | X38: 豆魚肉蛋類 | AA38: 主食 | AB38: 6 | AC38: =AB38*2 -> 12 | AE38: =AB38*15 -> 90 | AF38: =AC38*4+AE38*4 -> 408
W39: 脂肪： | X39: 蔬菜類 | AA39: 肉 | AB39: 2.2 | AC39: =AB39*7 -> 15.4 | AD39: =AB39*5 -> 11 | AF39: =AC39*4+AD39*9 -> 160.6
B40: 日 | W40: =Y38*5+Y40*5+Y42*8 -> 0 | X40: 油脂類 | AA40: 菜 | AB40: 1.7 | AC40: =AB40*1 -> 1.7 | AE40: =AB40*5 -> 8.5 | AF40: =AC40*4+AE40*4 -> 40.8
B41: 星期五 | W41: 蛋白質： | X41: 水果類 | AA41: 油 | AB41: 2.5 | AD41: =AB41*5 -> 12.5 | AF41: =AD41*9 -> 112.5
W42: =Y37*2+Y38*7+Y42*8 -> 0 | X42: 奶類 | AA42: 水果 | AE42: =AB42*15 -> 0
B43: 餐數 | W43: 熱量： | AC43: =SUM(AC38:AC42) -> 29.1 | AD43: =SUM(AD38:AD42) -> 23.5 | AE43: =SUM(AE38:AE42) -> 98.5 | AF43: =AC43*4+AD43*9+AE43*4 -> 721.9
W44: =W38*4+W40*9+W42*4 -> 380 | AC44: =AC43*4/AF43 -> 0.16124117 | AD44: =AD43*9/AF43 -> 0.29297687 | AE44: =AE43*4/AF43 -> 0.54578196
