Workbook

Sheet 午餐設計表
B1: 0129 彰化縣線西鄉線西國中 112學年度第2學期第5週午餐菜單
B2: 材料用量 | T2: 9車
B3: 日期 | C3: 星期 | D3: 主食 | E3: 主菜 | H3: 副菜 | K3: 副菜 | N3: 副菜 | Q3: 湯 | T3: 水果 | U3: 營養分析
B4: 3 | D4: 白米飯(354葷+22素) | E4: 檸檬雞翅 | H4: 蘿蔔燴肉羹 | K4: 培根拌青花 | N4: 炒高麗菜 | Q4: 金針肉絲湯 | T4: 履歷豆奶(376+10獎勵金) | U4: 熱量： | V4: 862大卡 | W4: 全穀雜糧類 | X4: 5.2份
B5: 月 | E5: 檸檬雞翅(W7強匠) | F5: 354 | G5: 支 | H5: 菜頭(切中丁) | I5: 18 | J5: 公斤 | K5: 冷凍綠花椰菜(CAS) | L5: 28 | M5: 公斤 | N5: 高麗菜(切實重) | O5: 29 | P5: 公斤 | Q5: 溫體肉絲(陞輝)(臺灣) | R5: 3 | S5: 公斤 | U5: 醣類： | V5: 110.0 g | W5: 乳品類 | X5: 0.0份
B6: 11 | E6: 檸檬雞翅(W7強匠)備品 | F6: 30 | G6: 支 | H6: 手工肉羹(台灣) | I6: 6 | J6: 公斤 | K6: 碎培根(黑橋牌) | L6: 4 | M6: 公斤 | N6: 紅蘿蔔(切絲) | O6: 1 | P6: 公斤 | Q6: 金針菇(QR) | R6: 3 | S6: 公斤 | U6: 脂肪： | V6: 22.7 g | W6: 豆魚蛋肉類 | X6: 3.2份
B7: 日 | E7: 蒜仁(0.6K/包) | F7: 1 | G7: 包 | H7: 紅蘿蔔(切片) | I7: 1.5 | J7: 公斤 | K7: 美白菇(QR) | L7: 3 | M7: 公斤 | N7: 碎蒜(0.6K/包) | O7: 0.5 | P7: 包 | Q7: 薑絲(0.6K/包) | R7: 0.5 | S7: 包 | U7: 蛋白質： | V7: 45.7 g | W7: 蔬菜類 | X7: 2.3份
B8: 星期一 | E8: 蔥(0.5K/把) | F8: 1 | G8: 把 | H8: 袖珍菇(QR) | I8: 1.5 | J8: 公斤 | Q8: 乾金針 | R8: 0.3 | S8: 公斤 | W8: 水果類 | X8: 0.0份
H9: 木耳(切絲) | I9: 1 | J9: 公斤 | W9: 油脂與堅果種子類 | X9: 2.3份
H10: 蝦米 | I10: 0.1 | J10: 公斤
B11: 餐數
B12: 374 | E12: 全穀雜糧類:6.8份 乳品類:0.0份 豆魚蛋肉類:4.0份 蔬菜類:1.8份 水果類:0.0份 油脂與堅果種子類:2.0份
B13: 3 | D13: 小米飯 | E13: 御膳大排 | H13: 炒雙結 | K13: 黃瓜什錦 | N13: 炒履歷油菜 | Q13: 翡翠羹湯 | U13: 熱量： | V13: 826大卡 | W13: 全穀雜糧類 | X13: 5.7份
B14: 月 | E14: 強匠御膳大排(75g)-片 | F14: 354 | G14: 片 | H14: 非基改豆干結 | I14: 12 | J14: 公斤 | K14: 大黃瓜(切大丁) | L14: 18 | M14: 公斤 | N14: 履歷油菜(切實重) | O14: 29 | P14: 公斤 | Q14: 翡翠羹(0.3K) | R14: 7 | S14: 盒 | U14: 醣類： | V14: 108.9 g | W14: 乳品類 | X14: 0.0份
B15: 12 | E15: 強匠御膳大排(75g)備品-片 | F15: 30 | G15: 片 | H15: 海帶結 | I15: 8 | J15: 公斤 | K15: 水發魷魚 | L15: 4 | M15: 公斤 | N15: 碎蒜(0.6K/包) | O15: 0.5 | P15: 包 | Q15: 洗選蛋(QR) | R15: 6 | S15: 公斤 | U15: 脂肪： | V15: 24.5 g | W15: 豆魚蛋肉類 | X15: 3.8份
B16: 日 | E16: 蒜仁(0.6K/包) | F16: 1 | G16: 包 | H16: 杏鮑菇(頭)(QR) | I16: 3 | J16: 公斤 | K16: 溫體肉片(小)(瘦)陞輝 | L16: 4 | M16: 公斤 | U16: 蛋白質： | V16: 36.8 g | W16: 蔬菜類 | X16: 1.8份
B17: 星期二 | E17: 蔥(0.5K/把) | F17: 1 | G17: 把 | H17: 紅蘿蔔(切中丁) | I17: 2 | J17: 公斤 | K17: 濕香菇(小朵)(QR) | L17: 1.5 | M17: 公斤 | W17: 水果類 | X17: 0.0份
H18: 芹菜(切段) | I18: 2 | J18: 公斤 | K18: 金針菇(QR) | L18: 1.5 | M18: 公斤 | W18: 油脂與堅果種子類 | X18: 2.1份
K19: 紅蘿蔔(切中丁) | L19: 1 | M19: 公斤
B20: 餐數
B21: 374 | E21: 全穀雜糧類:6.5份 乳品類:0.0份 豆魚蛋肉類:3.4份 蔬菜類:2.1份 水果類:0.0份 油脂與堅果種子類:2.2份
B22: 3 | D22: 五穀米飯 | E22: 茄汁魚片(獎勵金) | H22: 花生麵筋 | K22: 甜不辣豆干片 | N22: 炒履歷蚵白菜 | Q22: 冬瓜排骨湯 | T22: 光泉保久乳(精進18元) | U22: 熱量： | V22: 878大卡 | W22: 全穀雜糧類 | X22: 4.4份
B23: 月 | E23: 水鯊魚片(7-8)(QR)(pc) | F23: 354 | G23: 片 | H23: 麵筋泡(Ｋ) | I23: 9 | J23: 公斤 | K23: 非基改豆干片(榮洲) | L23: 15 | M23: 公斤 | N23: 履歷蚵白菜(切實重) | O23: 29 | P23: 公斤 | Q23: 冬瓜(切中丁) | R23: 13 | S23: 公斤 | U23: 醣類： | V23: 110.2 g | W23: 乳品類 | X23: 0.9份
B24: 13 | E24: 水鯊魚片(7-8)備品(QR)(pc) | F24: 30 | G24: 片 | H24: 溫體絞肉(陞輝)(臺灣) | I24: 3 | J24: 公斤 | K24: 黑輪(甜不辣絲)(CAS) | L24: 9 | M24: 公斤 | N24: 薑絲(0.6K/包) | O24: 0.5 | P24: 包 | Q24: 小排骨(肉)陞輝 | R24: 3 | S24: 公斤 | U24: 脂肪： | V24: 25.5 g | W24: 豆魚蛋肉類 | X24: 4.1份
B25: 日 | E25: 洋蔥(切小丁) | F25: 5 | G25: 公斤 | H25: 熟花生 | I25: 3 | J25: 公斤 | K25: 紅蘿蔔(切片) | L25: 2 | M25: 公斤 | Q25: 薑絲(0.6K/包) | R25: 0.5 | S25: 包 | U25: 蛋白質： | V25: 42.4 g | W25: 蔬菜類 | X25: 1.5份
B26: 星期三 | E26: 蒜仁(0.6K/包) | F26: 1 | G26: 包 | H26: 紅蘿蔔(切小丁) | I26: 3 | J26: 公斤 | K26: 芹菜(去葉) | L26: 2 | M26: 公斤 | W26: 水果類 | X26: 0.0份
E27: 蔥(0.5K/把) | F27: 1 | G27: 把 | H27: 薑片(0.3K) | I27: 1 | J27: 包 | W27: 油脂與堅果種子類 | X27: 2.3份
E28: 蕃茄醬(3K)可果美 | F28: 1 | G28: 罐
B29: 餐數 | E29: 薑絲(0.6K/包) | F29: 1 | G29: 包
B30: 374 | E30: 全穀雜糧類:6.8份 乳品類:1.0份 豆魚蛋肉類:3.2份 蔬菜類:1.5份 水果類:0.0份 油脂與堅果種子類:2.0份
B31: 3 | D31: 紫米飯 | E31: 瓜仔肉燥 | H31: 白菜滷 | K31: 蕃茄炒蛋 | N31: 炒履歷青江菜 | Q31: 排骨貢丸湯 | U31: 熱量： | V31: 802大卡 | W31: 全穀雜糧類 | X31: 7.1份
B32: 月 | E32: 溫體絞肉(粗瘦)陞輝 | F32: 27 | G32: 公斤 | H32: 大白菜(切實重) | I32: 27 | J32: 公斤 | K32: 洗選蛋(QR) | L32: 22 | M32: 公斤 | N32: 履歷青江菜(切實重) | O32: 29 | P32: 公斤 | Q32: 貢丸(小)(國產) | R32: 5 | S32: 公斤 | U32: 醣類： | V32: 109.4 g | W32: 乳品類 | X32: 0.0份
B33: 14 | E33: 碎瓜(玖順) | F33: 4 | G33: 公斤 | H33: 溫體肉絲(陞輝)(臺灣) | I33: 3 | J33: 公斤 | K33: 蕃茄(切中丁) | L33: 9 | M33: 公斤 | N33: 碎蒜(0.6K/包) | O33: 0.5 | P33: 包 | Q33: 小排骨(肉)陞輝 | R33: 3 | S33: 公斤 | U33: 脂肪： | V33: 23.5 g | W33: 豆魚蛋肉類 | X33: 1.6份
B34: 日 | E34: 油蔥酥(大-600g) | F34: 1 | G34: 包 | H34: 金針菇(QR) | I34: 3 | J34: 公斤 | K34: 蕃茄醬(3K)可果美 | L34: 1 | M34: 罐 | Q34: 芹菜(末) | R34: 0.5 | S34: 公斤 | U34: 蛋白質： | V34: 34.7 g | W34: 蔬菜類 | X34: 2.0份
B35: 星期四 | E35: 蒜仁(0.6K/包) | F35: 1 | G35: 包 | H35: 紅蘿蔔(切絲) | I35: 1 | J35: 公斤 | K35: 蔥(0.5K/把) | L35: 0.5 | M35: 把 | W35: 水果類 | X35: 0.0份
E36: 蔥(0.5K/把) | F36: 1 | G36: 把 | H36: 木耳(切絲)(QR) | I36: 0.5 | J36: 公斤 | W36: 油脂與堅果種子類 | X36: 2.7份
E37: 乾香菇(小) | F37: 0.3 | G37: 公斤 | H37: 非基改豆皮(Ｋ) | I37: 0.3 | J37: 公斤
B38: 餐數 | H38: 冬蝦 | I38: 0.1 | J38: 公斤
B39: 374 | E39: 全穀雜糧類:6.5份 乳品類:0.0份 豆魚蛋肉類:2.8份 蔬菜類:2.0份 水果類:0.0份 油脂與堅果種子類:2.5份
B40: 3 | D40: 白米飯 | E40: 紅燒豬腳 | H40: 玉米四寶 | K40: 螞蟻上樹 | N40: 炒有機油菜 | Q40: 羅宋湯 | T40: 水果(精進20元) | U40: 熱量： | V40: 856大卡 | W40: 全穀雜糧類 | X40: 6.8份
...

Sheet 意見表
B2: =SUBSTITUTE(午餐設計表!B1,"食譜設計","意見調查表") -> 0129 彰化縣線西鄉線西國中 112學年度第2學期第5週午餐菜單
B3: （ ）年（ ）班 級任老師：
B4: 日期 | C4: 星期 | D4: 品名 | E4: 色、香、味 | H4: 數量 | K4: 衛生安全 | N4: 建議事項
E5: 滿意 | F5: 尚可 | G5: 改進 | H5: 太多 | I5: 適量 | J5: 不足 | K5: 滿意 | L5: 尚可 | M5: 改進
B6: =IF(午餐設計表!B4<>"",午餐設計表!B4,"") -> 3 | C6: =RIGHT(IF(午餐設計表!B8<>"",午餐設計表!B8,""),1) -> 一 | D6: =IF(午餐設計表!D4>"",午餐設計表!D4,"") -> 白米飯(354葷+22素)
B7: 月 | D7: =IF(午餐設計表!E4>"",午餐設計表!E4,"") -> 檸檬雞翅
B8: =IF(午餐設計表!B6<>"",午餐設計表!B6,"") -> 11 | D8: =IF(午餐設計表!H4>"",午餐設計表!H4,"") -> 蘿蔔燴肉羹
B9: 日 | D9: =IF(午餐設計表!K4>"",午餐設計表!K4,"") -> 培根拌青花
D10: =IF(午餐設計表!N4>"",午餐設計表!N4,"") -> 炒高麗菜
D11: =IF(午餐設計表!Q4>"",午餐設計表!Q4,"") -> 金針肉絲湯
D12: =IF(午餐設計表!T4>"",午餐設計表!T4,"") -> 履歷豆奶(376+10獎勵金)
B13: =IF(午餐設計表!B13<>"",午餐設計表!B13,"") -> 3 | C13: =RIGHT(IF(午餐設計表!B17<>"",午餐設計表!B17,""),1) -> 二 | D13: =IF(午餐設計表!D13>"",午餐設計表!D13,"") -> 小米飯
B14: 月 | D14: =IF(午餐設計表!E13>"",午餐設計表!E13,"") -> 御膳大排
B15: =IF(午餐設計表!B15<>"",午餐設計表!B15,"") -> 12 | D15: =IF(午餐設計表!H13>"",午餐設計表!H13,"") -> 炒雙結
B16: 日 | D16: =IF(午餐設計表!K13>"",午餐設計表!K13,"") -> 黃瓜什錦
D17: =IF(午餐設計表!N13>"",午餐設計表!N13,"") -> 炒履歷油菜
D18: =IF(午餐設計表!Q13>"",午餐設計表!Q13,"") -> 翡翠羹湯
D19: =IF(午餐設計表!T13>"",午餐設計表!T13,"")
B20: =IF(午餐設計表!B22<>"",午餐設計表!B22,"") -> 3 | C20: =RIGHT(IF(午餐設計表!B26<>"",午餐設計表!B26,""),1) -> 三 | D20: =IF(午餐設計表!D22>"",午餐設計表!D22,"") -> 五穀米飯
B21: 月 | D21: =IF(午餐設計表!E22>"",午餐設計表!E22,"") -> 茄汁魚片(獎勵金)
B22: =IF(午餐設計表!B24<>"",午餐設計表!B24,"") -> 13 | D22: =IF(午餐設計表!H22>"",午餐設計表!H22,"") -> 花生麵筋
B23: 日 | D23: =IF(午餐設計表!K22>"",午餐設計表!K22,"") -> 甜不辣豆干片
D24: =IF(午餐設計表!N22>"",午餐設計表!N22,"") -> 炒履歷蚵白菜
D25: =IF(午餐設計表!Q22>"",午餐設計表!Q22,"") -> 冬瓜排骨湯
D26: =IF(午餐設計表!T22>"",午餐設計表!T22,"") -> 光泉保久乳(精進18元)
B27: =IF(午餐設計表!B31<>"",午餐設計表!B31,"") -> 3 | C27: =RIGHT(IF(午餐設計表!B35<>"",午餐設計表!B35,""),1) -> 四 | D27: =IF(午餐設計表!D31>"",午餐設計表!D31,"") -> 紫米飯
B28: 月 | D28: =IF(午餐設計表!E31>"",午餐設計表!E31,"") -> 瓜仔肉燥
B29: =IF(午餐設計表!B33<>"",午餐設計表!B33,"") -> 14 | D29: =IF(午餐設計表!H31>"",午餐設計表!H31,"") -> 白菜滷
B30: 日 | D30: =IF(午餐設計表!K31>"",午餐設計表!K31,"") -> 蕃茄炒蛋
D31: =IF(午餐設計表!N31>"",午餐設計表!N31,"") -> 炒履歷青江菜
D32: =IF(午餐設計表!Q31>"",午餐設計表!Q31,"") -> 排骨貢丸湯
D33: =IF(午餐設計表!T31>"",午餐設計表!T31,"")
B34: =IF(午餐設計表!B40<>"",午餐設計表!B40,"") -> 3 | C34: =RIGHT(IF(午餐設計表!B44<>"",午餐設計表!B44,""),1) -> 五 | D34: =IF(午餐設計表!D40>"",午餐設計表!D40,"") -> 白米飯
B35: 月 | D35: =IF(午餐設計表!E40>"",午餐設計表!E40,"") -> 紅燒豬腳
B36: =IF(午餐設計表!B42<>"",午餐設計表!B42,"") -> 15 | D36: =IF(午餐設計表!H40>"",午餐設計表!H40,"") -> 玉米四寶
B37: 日 | D37: =IF(午餐設計表!K40>"",午餐設計表!K40,"") -> 螞蟻上樹
D38: =IF(午餐設計表!N40>"",午餐設計表!N40,"") -> 炒有機油菜
D39: =IF(午餐設計表!Q40>"",午餐設計表!Q40,"") -> 羅宋湯
D40: =IF(午餐設計表!T40>"",午餐設計表!T40,"") -> 水果(精進20元)
B42: 備註：此資料為全班人數之滿意程度統計（50%↑滿意；25-49% 尚可；25%↓需改進）
...

Sheet 彰化公版
A1: =午餐設計表!B1 -> 0129 彰化縣線西鄉線西國中 112學年度第2學期第5週午餐菜單
A2: 食材以可食量標示
A3: 日期 | B3: 主食 | C3: 備註 | E3: 主菜 | F3: 備註 | H3: 副菜 | I3: 備註 | K3: 副菜 | L3: 備註 | N3: 副菜 | O3: 備註 | Q3: 湯 | R3: 備註 | T3: 水果 | U3: 營養分析 | V3: 食物類別 | W3: 份數
A4: =午餐設計表!B4 -> 3 | B4: =午餐設計表!D4 -> 白米飯(354葷+22素) | C4: 蒸 | D4: 個人量(克) | E4: =午餐設計表!E4 -> 檸檬雞翅 | G4: 個人量(克) | H4: =午餐設計表!H4 -> 蘿蔔燴肉羹 | J4: 個人量(克) | K4: =午餐設計表!K4 -> 培根拌青花 | M4: 個人量(克) | N4: =午餐設計表!N4 -> 炒高麗菜 | P4: 個人量(克) | Q4: =午餐設計表!Q4 -> 金針肉絲湯 | S4: 個人量(克) | T4: =午餐設計表!T4 -> 履歷豆奶(376+10獎勵金) | U4: 醣類： | V4: 全穀雜糧類 | W4: =午餐設計表!X4 -> 5.2份
A5: 月 | E5: =午餐設計表!E5 -> 檸檬雞翅(W7強匠) | G5: =午餐設計表!F5 -> 354 | H5: =午餐設計表!H5 -> 菜頭(切中丁) | J5: =午餐設計表!I5 -> 18 | K5: =午餐設計表!K5 -> 冷凍綠花椰菜(CAS) | M5: =午餐設計表!L5 -> 28 | N5: =午餐設計表!N5 -> 高麗菜(切實重) | P5: =午餐設計表!O5 -> 29 | Q5: =午餐設計表!Q5 -> 溫體肉絲(陞輝)(臺灣) | S5: =午餐設計表!R5 -> 3 | U5: =午餐設計表!V5 -> 110.0 g | V5: 乳品類 | W5: =午餐設計表!X5 -> 0.0份
A6: =午餐設計表!B6 -> 11 | E6: =午餐設計表!E6 -> 檸檬雞翅(W7強匠)備品 | G6: =午餐設計表!F6 -> 30 | H6: =午餐設計表!H6 -> 手工肉羹(台灣) | J6: =午餐設計表!I6 -> 6 | K6: =午餐設計表!K6 -> 碎培根(黑橋牌) | M6: =午餐設計表!L6 -> 4 | N6: =午餐設計表!N6 -> 紅蘿蔔(切絲) | P6: =午餐設計表!O6 -> 1 | Q6: =午餐設計表!Q6 -> 金針菇(QR) | S6: =午餐設計表!R6 -> 3 | U6: 脂肪： | V6: 豆魚蛋肉類 | W6: =午餐設計表!X6 -> 3.2份
A7: 日 | E7: =午餐設計表!E7 -> 蒜仁(0.6K/包) | G7: =午餐設計表!F7 -> 1 | H7: =午餐設計表!H7 -> 紅蘿蔔(切片) | J7: =午餐設計表!I7 -> 1.5 | K7: =午餐設計表!K7 -> 美白菇(QR) | M7: =午餐設計表!L7 -> 3 | N7: =午餐設計表!N7 -> 碎蒜(0.6K/包) | P7: =午餐設計表!O7 -> 0.5 | Q7: =午餐設計表!Q7 -> 薑絲(0.6K/包) | S7: =午餐設計表!R7 -> 0.5 | U7: =午餐設計表!V6 -> 22.7 g | V7: 蔬菜類 | W7: =午餐設計表!X7 -> 2.3份
A8: 星期一 | B8: =午餐設計表!E8 -> 蔥(0.5K/把) | D8: =午餐設計表!F8 -> 1 | E8: =午餐設計表!E8 -> 蔥(0.5K/把) | G8: =午餐設計表!F8 -> 1 | H8: =午餐設計表!H8 -> 袖珍菇(QR) | J8: =午餐設計表!I8 -> 1.5 | K8: =午餐設計表!K8 -> 0 | M8: =午餐設計表!L8 -> 0 | N8: =午餐設計表!N8 -> 0 | P8: =午餐設計表!O8 -> 0 | Q8: =午餐設計表!Q8 -> 乾金針 | S8: =午餐設計表!R8 -> 0.3 | U8: 蛋白質： | V8: 水果類 | W8: =午餐設計表!X8 -> 0.0份
B9: =午餐設計表!E9 -> 0 | D9: =午餐設計表!F9 -> 0 | E9: =午餐設計表!E9 -> 0 | G9: =午餐設計表!F9 -> 0 | H9: =午餐設計表!H9 -> 木耳(切絲) | J9: =午餐設計表!I9 -> 1 | K9: =午餐設計表!K9 -> 0 | M9: =午餐設計表!L9 -> 0 | N9: =午餐設計表!N9 -> 0 | P9: =午餐設計表!O9 -> 0 | Q9: =午餐設計表!Q9 -> 0 | S9: =午餐設計表!R9 -> 0 | U9: =午餐設計表!V7 -> 45.7 g | V9: 油脂與堅果種子類 | W9: =午餐設計表!X9 -> 2.3份
A10: 餐數 | B10: =午餐設計表!E10 -> 0 | D10: =午餐設計表!F10 -> 0 | E10: =午餐設計表!E10 -> 0 | G10: =午餐設計表!F10 -> 0 | H10: =午餐設計表!H10 -> 蝦米 | J10: =午餐設計表!I10 -> 0.1 | K10: =午餐設計表!K10 -> 0 | M10: =午餐設計表!L10 -> 0 | N10: =午餐設計表!N10 -> 0 | P10: =午餐設計表!O10 -> 0 | Q10: =午餐設計表!Q10 -> 0 | S10: =午餐設計表!R10 -> 0 | U10: 熱量：
A11: =午餐設計表!B12 -> 374 | B11: =午餐設計表!E11 -> 0 | D11: =午餐設計表!F11 -> 0 | E11: =午餐設計表!E11 -> 0 | G11: =午餐設計表!F11 -> 0 | H11: =午餐設計表!H11 -> 0 | J11: =午餐設計表!I11 -> 0 | K11: =午餐設計表!K11 -> 0 | M11: =午餐設計表!L11 -> 0 | N11: =午餐設計表!N11 -> 0 | P11: =午餐設計表!O11 -> 0 | Q11: =午餐設計表!Q11 -> 0 | S11: =午餐設計表!R11 -> 0 | U11: =午餐設計表!V4 -> 862大卡
A12: =午餐設計表!B13 -> 3 | B12: =午餐設計表!D13 -> 小米飯 | C12: 蒸 | E12: =午餐設計表!E13 -> 御膳大排 | H12: =午餐設計表!H13 -> 炒雙結 | K12: =午餐設計表!K13 -> 黃瓜什錦 | N12: =午餐設計表!N13 -> 炒履歷油菜 | Q12: =午餐設計表!Q13 -> 翡翠羹湯 | T12: =午餐設計表!T13 -> 0 | U12: 醣類： | V12: 全穀雜糧類 | W12: =午餐設計表!X13 -> 5.7份
A13: 月 | E13: =午餐設計表!E14 -> 強匠御膳大排(75g)-片 | G13: =午餐設計表!F14 -> 354 | H13: =午餐設計表!H14 -> 非基改豆干結 | J13: =午餐設計表!I14 -> 12 | K13: =午餐設計表!K14 -> 大黃瓜(切大丁) | M13: =午餐設計表!L14 -> 18 | N13: =午餐設計表!N14 -> 履歷油菜(切實重) | P13: =午餐設計表!O14 -> 29 | Q13: =午餐設計表!Q14 -> 翡翠羹(0.3K) | S13: =午餐設計表!R14 -> 7 | U13: =午餐設計表!V14 -> 108.9 g | V13: 乳品類 | W13: =午餐設計表!X14 -> 0.0份
A14: =午餐設計表!B15 -> 12 | E14: =午餐設計表!E15 -> 強匠御膳大排(75g)備品-片 | G14: =午餐設計表!F15 -> 30 | H14: =午餐設計表!H15 -> 海帶結 | J14: =午餐設計表!I15 -> 8 | K14: =午餐設計表!K15 -> 水發魷魚 | M14: =午餐設計表!L15 -> 4 | N14: =午餐設計表!N15 -> 碎蒜(0.6K/包) | P14: =午餐設計表!O15 -> 0.5 | Q14: =午餐設計表!Q15 -> 洗選蛋(QR) | S14: =午餐設計表!R15 -> 6 | U14: 脂肪： | V14: 豆魚蛋肉類 | W14: =午餐設計表!X15 -> 3.8份
A15: 日 | E15: =午餐設計表!E16 -> 蒜仁(0.6K/包) | G15: =午餐設計表!F16 -> 1 | H15: =午餐設計表!H16 -> 杏鮑菇(頭)(QR) | J15: =午餐設計表!I16 -> 3 | K15: =午餐設計表!K16 -> 溫體肉片(小)(瘦)陞輝 | M15: =午餐設計表!L16 -> 4 | N15: =午餐設計表!N16 -> 0 | P15: =午餐設計表!O16 -> 0 | Q15: =午餐設計表!Q16 -> 0 | S15: =午餐設計表!R16 -> 0 | U15: =午餐設計表!V15 -> 24.5 g | V15: 蔬菜類 | W15: =午餐設計表!X16 -> 1.8份
A16: 星期二 | E16: =午餐設計表!E17 -> 蔥(0.5K/把) | G16: =午餐設計表!F17 -> 1 | H16: =午餐設計表!H17 -> 紅蘿蔔(切中丁) | J16: =午餐設計表!I17 -> 2 | K16: =午餐設計表!K17 -> 濕香菇(小朵)(QR) | M16: =午餐設計表!L17 -> 1.5 | N16: =午餐設計表!N17 -> 0 | P16: =午餐設計表!O17 -> 0 | Q16: =午餐設計表!Q17 -> 0 | S16: =午餐設計表!R17 -> 0 | U16: 蛋白質： | V16: 水果類 | W16: =午餐設計表!X17 -> 0.0份
E17: =午餐設計表!E18 -> 0 | G17: =午餐設計表!F18 -> 0 | H17: =午餐設計表!H18 -> 芹菜(切段) | J17: =午餐設計表!I18 -> 2 | K17: =午餐設計表!K18 -> 金針菇(QR) | M17: =午餐設計表!L18 -> 1.5 | N17: =午餐設計表!N18 -> 0 | P17: =午餐設計表!O18 -> 0 | Q17: =午餐設計表!Q18 -> 0 | S17: =午餐設計表!R18 -> 0 | U17: =午餐設計表!V16 -> 36.8 g | V17: 油脂與堅果種子類 | W17: =午餐設計表!X18 -> 2.1份
A18: 餐數 | E18: =午餐設計表!E19 -> 0 | G18: =午餐設計表!F19 -> 0 | H18: =午餐設計表!H19 -> 0 | J18: =午餐設計表!I19 -> 0 | K18: =午餐設計表!K19 -> 紅蘿蔔(切中丁) | M18: =午餐設計表!L19 -> 1 | N18: =午餐設計表!N19 -> 0 | P18: =午餐設計表!O19 -> 0 | Q18: =午餐設計表!Q19 -> 0 | S18: =午餐設計表!R19 -> 0 | U18: 熱量：
E19: =午餐設計表!E20 -> 0 | G19: =午餐設計表!F20 -> 0 | H19: =午餐設計表!H20 -> 0 | J19: =午餐設計表!I20 -> 0 | K19: =午餐設計表!K20 -> 0 | M19: =午餐設計表!L20 -> 0 | N19: =午餐設計表!N20 -> 0 | P19: =午餐設計表!O20 -> 0 | Q19: =午餐設計表!Q20 -> 0 | S19: =午餐設計表!R20 -> 0 | U19: =午餐設計表!V13 -> 826大卡
A20: =午餐設計表!B22 -> 3 | B20: =午餐設計表!D22 -> 五穀米飯 | C20: 蒸 | E20: =午餐設計表!E22 -> 茄汁魚片(獎勵金) | H20: =午餐設計表!H22 -> 花生麵筋 | K20: =午餐設計表!K22 -> 甜不辣豆干片 | N20: =午餐設計表!N22 -> 炒履歷蚵白菜 | Q20: =午餐設計表!Q22 -> 冬瓜排骨湯 | T20: =午餐設計表!T22 -> 光泉保久乳(精進18元) | U20: 醣類： | V20: 全穀雜糧類 | W20: =午餐設計表!X22 -> 4.4份
A21: 月 | E21: =午餐設計表!E23 -> 水鯊魚片(7-8)(QR)(pc) | G21: =午餐設計表!F23 -> 354 | H21: =午餐設計表!H23 -> 麵筋泡(Ｋ) | J21: =午餐設計表!I23 -> 9 | K21: =午餐設計表!K23 -> 非基改豆干片(榮洲) | M21: =午餐設計表!L23 -> 15 | N21: =午餐設計表!N23 -> 履歷蚵白菜(切實重) | P21: =午餐設計表!O23 -> 29 | Q21: =午餐設計表!Q23 -> 冬瓜(切中丁) | S21: =午餐設計表!R23 -> 13 | U21: =午餐設計表!V23 -> 110.2 g | V21: 乳品類 | W21: =午餐設計表!X23 -> 0.9份
A22: =午餐設計表!B24 -> 13 | E22: =午餐設計表!E24 -> 水鯊魚片(7-8)備品(QR)(pc) | G22: =午餐設計表!F24 -> 30 | H22: =午餐設計表!H24 -> 溫體絞肉(陞輝)(臺灣) | J22: =午餐設計表!I24 -> 3 | K22: =午餐設計表!K24 -> 黑輪(甜不辣絲)(CAS) | M22: =午餐設計表!L24 -> 9 | N22: =午餐設計表!N24 -> 薑絲(0.6K/包) | P22: =午餐設計表!O24 -> 0.5 | Q22: =午餐設計表!Q24 -> 小排骨(肉)陞輝 | S22: =午餐設計表!R24 -> 3 | U22: 脂肪： | V22: 豆魚蛋肉類 | W22: =午餐設計表!X24 -> 4.1份
A23: 日 | E23: =午餐設計表!E25 -> 洋蔥(切小丁) | G23: =午餐設計表!F25 -> 5 | H23: =午餐設計表!H25 -> 熟花生 | J23: =午餐設計表!I25 -> 3 | K23: =午餐設計表!K25 -> 紅蘿蔔(切片) | M23: =午餐設計表!L25 -> 2 | N23: =午餐設計表!N25 -> 0 | P23: =午餐設計表!O25 -> 0 | Q23: =午餐設計表!Q25 -> 薑絲(0.6K/包) | S23: =午餐設計表!R25 -> 0.5 | U23: =午餐設計表!V24 -> 25.5 g | V23: 蔬菜類 | W23: =午餐設計表!X25 -> 1.5份
A24: 星期三 | E24: =午餐設計表!E26 -> 蒜仁(0.6K/包) | G24: =午餐設計表!F26 -> 1 | H24: =午餐設計表!H26 -> 紅蘿蔔(切小丁) | J24: =午餐設計表!I26 -> 3 | K24: =午餐設計表!K26 -> 芹菜(去葉) | M24: =午餐設計表!L26 -> 2 | N24: =午餐設計表!N26 -> 0 | P24: =午餐設計表!O26 -> 0 | Q24: =午餐設計表!Q26 -> 0 | S24: =午餐設計表!R26 -> 0 | U24: 蛋白質： | V24: 水果類 | W24: =午餐設計表!X26 -> 0.0份
E25: =午餐設計表!E27 -> 蔥(0.5K/把) | G25: =午餐設計表!F27 -> 1 | H25: =午餐設計表!H27 -> 薑片(0.3K) | J25: =午餐設計表!I27 -> 1 | K25: =午餐設計表!K27 -> 0 | M25: =午餐設計表!L27 -> 0 | N25: =午餐設計表!N27 -> 0 | P25: =午餐設計表!O27 -> 0 | Q25: =午餐設計表!Q27 -> 0 | S25: =午餐設計表!R27 -> 0 | U25: =午餐設計表!V25 -> 42.4 g | V25: 油脂與堅果種子類 | W25: =午餐設計表!X27 -> 2.3份
A26: 餐數 | E26: =午餐設計表!E28 -> 蕃茄醬(3K)可果美 | G26: =午餐設計表!F28 -> 1 | H26: =午餐設計表!H28 -> 0 | J26: =午餐設計表!I28 -> 0 | K26: =午餐設計表!K28 -> 0 | M26: =午餐設計表!L28 -> 0 | N26: =午餐設計表!N28 -> 0 | P26: =午餐設計表!O28 -> 0 | Q26: =午餐設計表!Q28 -> 0 | S26: =午餐設計表!R28 -> 0 | U26: 熱量：
A27: =午餐設計表!B30 -> 374 | E27: =午餐設計表!E29 -> 薑絲(0.6K/包) | G27: =午餐設計表!F29 -> 1 | H27: =午餐設計表!H29 -> 0 | J27: =午餐設計表!I29 -> 0 | K27: =午餐設計表!K29 -> 0 | M27: =午餐設計表!L29 -> 0 | N27: =午餐設計表!N29 -> 0 | P27: =午餐設計表!O29 -> 0 | Q27: =午餐設計表!Q29 -> 0 | S27: =午餐設計表!R29 -> 0 | U27: =午餐設計表!V22 -> 878大卡
A28: =午餐設計表!B31 -> 3 | B28: =午餐設計表!D31 -> 紫米飯 | C28: 蒸 | E28: =午餐設計表!E31 -> 瓜仔肉燥 | H28: =午餐設計表!H31 -> 白菜滷 | K28: =午餐設計表!K31 -> 蕃茄炒蛋 | N28: =午餐設計表!N31 -> 炒履歷青江菜 | Q28: =午餐設計表!Q31 -> 排骨貢丸湯 | T28: =午餐設計表!T31 -> 0 | U28: 醣類： | V28: 全穀雜糧類 | W28: =午餐設計表!X31 -> 7.1份
A29: 月 | E29: =午餐設計表!E32 -> 溫體絞肉(粗瘦)陞輝 | G29: =午餐設計表!F32 -> 27 | H29: =午餐設計表!H32 -> 大白菜(切實重) | J29: =午餐設計表!I32 -> 27 | K29: =午餐設計表!K32 -> 洗選蛋(QR) | M29: =午餐設計表!L32 -> 22 | N29: =午餐設計表!N32 -> 履歷青江菜(切實重) | P29: =午餐設計表!O32 -> 29 | Q29: =午餐設計表!Q32 -> 貢丸(小)(國產) | S29: =午餐設計表!R32 -> 5 | U29: =午餐設計表!V32 -> 109.4 g | V29: 乳品類 | W29: =午餐設計表!X32 -> 0.0份
A30: =午餐設計表!B33 -> 14 | E30: =午餐設計表!E33 -> 碎瓜(玖順) | G30: =午餐設計表!F33 -> 4 | H30: =午餐設計表!H33 -> 溫體肉絲(陞輝)(臺灣) | J30: =午餐設計表!I33 -> 3 | K30: =午餐設計表!K33 -> 蕃茄(切中丁) | M30: =午餐設計表!L33 -> 9 | N30: =午餐設計表!N33 -> 碎蒜(0.6K/包) | P30: =午餐設計表!O33 -> 0.5 | Q30: =午餐設計表!Q33 -> 小排骨(肉)陞輝 | S30: =午餐設計表!R33 -> 3 | U30: 脂肪： | V30: 豆魚蛋肉類 | W30: =午餐設計表!X33 -> 1.6份
A31: 日 | E31: =午餐設計表!E34 -> 油蔥酥(大-600g) | G31: =午餐設計表!F34 -> 1 | H31: =午餐設計表!H34 -> 金針菇(QR) | J31: =午餐設計表!I34 -> 3 | K31: =午餐設計表!K34 -> 蕃茄醬(3K)可果美 | M31: =午餐設計表!L34 -> 1 | N31: =午餐設計表!N34 -> 0 | P31: =午餐設計表!O34 -> 0 | Q31: =午餐設計表!Q34 -> 芹菜(末) | S31: =午餐設計表!R34 -> 0.5 | U31: =午餐設計表!V33 -> 23.5 g | V31: 蔬菜類 | W31: =午餐設計表!X34 -> 2.0份
A32: 星期四 | E32: =午餐設計表!E35 -> 蒜仁(0.6K/包) | G32: =午餐設計表!F35 -> 1 | H32: =午餐設計表!H35 -> 紅蘿蔔(切絲) | J32: =午餐設計表!I35 -> 1 | K32: =午餐設計表!K35 -> 蔥(0.5K/把) | M32: =午餐設計表!L35 -> 0.5 | N32: =午餐設計表!N35 -> 0 | P32: =午餐設計表!O35 -> 0 | Q32: =午餐設計表!Q35 -> 0 | S32: =午餐設計表!R35 -> 0 | U32: 蛋白質： | V32: 水果類 | W32: =午餐設計表!X35 -> 0.0份
E33: =午餐設計表!E36 -> 蔥(0.5K/把) | G33: =午餐設計表!F36 -> 1 | H33: =午餐設計表!H36 -> 木耳(切絲)(QR) | J33: =午餐設計表!I36 -> 0.5 | K33: =午餐設計表!K36 -> 0 | M33: =午餐設計表!L36 -> 0 | N33: =午餐設計表!N36 -> 0 | P33: =午餐設計表!O36 -> 0 | Q33: =午餐設計表!Q36 -> 0 | S33: =午餐設計表!R36 -> 0 | U33: =午餐設計表!V34 -> 34.7 g | V33: 油脂與堅果種子類 | W33: =午餐設計表!X36 -> 2.7份
A34: 餐數 | E34: =午餐設計表!E37 -> 乾香菇(小) | G34: =午餐設計表!F37 -> 0.3 | H34: =午餐設計表!H37 -> 非基改豆皮(Ｋ) | J34: =午餐設計表!I37 -> 0.3 | K34: =午餐設計表!K37 -> 0 | M34: =午餐設計表!L37 -> 0 | N34: =午餐設計表!N37 -> 0 | P34: =午餐設計表!O37 -> 0 | Q34: =午餐設計表!Q37 -> 0 | S34: =午餐設計表!R37 -> 0 | U34: 熱量：
A35: =午餐設計表!B39 -> 374 | E35: =午餐設計表!E38 -> 0 | G35: =午餐設計表!F38 -> 0 | H35: =午餐設計表!H38 -> 冬蝦 | J35: =午餐設計表!I38 -> 0.1 | K35: =午餐設計表!K38 -> 0 | M35: =午餐設計表!L38 -> 0 | N35: =午餐設計表!N38 -> 0 | P35: =午餐設計表!O38 -> 0 | Q35: =午餐設計表!Q38 -> 0 | S35: =午餐設計表!R38 -> 0 | U35: =午餐設計表!V31 -> 802大卡
A36: =午餐設計表!B40 -> 3 | B36: =午餐設計表!D40 -> 白米飯 | C36: 蒸 | E36: =午餐設計表!E40 -> 紅燒豬腳 | H36: =午餐設計表!H40 -> 玉米四寶 | K36: =午餐設計表!K40 -> 螞蟻上樹 | N36: =午餐設計表!N40 -> 炒有機油菜 | Q36: =午餐設計表!Q40 -> 羅宋湯 | T36: =午餐設計表!T40 -> 水果(精進20元) | U36: 醣類： | V36: 全穀雜糧類 | W36: =午餐設計表!X40 -> 6.8份
A37: 月 | E37: =午餐設計表!E41 -> 溫體肉丁(陞輝)(臺灣)(放冷藏) | G37: =午餐設計表!F41 -> 18 | H37: =午餐設計表!H41 -> 玉米粒(QR-K) | J37: =午餐設計表!I41 -> 16 | K37: =午餐設計表!K41 -> 高麗菜(切實重) | M37: =午餐設計表!L41 -> 10 | N37: =午餐設計表!N41 -> 有機油菜(尚紘-彰)(切實重) | P37: =午餐設計表!O41 -> 29 | Q37: =午餐設計表!Q41 -> 洋芋(切中丁) | S37: =午餐設計表!R41 -> 9 | U37: =午餐設計表!V41 -> 116.3 g | V37: 乳品類 | W37: =午餐設計表!X41 -> 0.0份
A38: =午餐設計表!B42 -> 15 | E38: =午餐設計表!E42 -> 豬腳丁(有肉)-陞輝 | G38: =午餐設計表!F42 -> 12 | H38: =午餐設計表!H42 -> 毛豆仁(冷凍) | J38: =午餐設計表!I42 -> 3 | K38: =午餐設計表!K42 -> 冬粉(3K) | M38: =午餐設計表!L42 -> 2 | N38: =午餐設計表!N42 -> 碎蒜(0.6K/包) | P38: =午餐設計表!O42 -> 0.5 | Q38: =午餐設計表!Q42 -> 洋蔥(切小丁) | S38: =午餐設計表!R42 -> 2 | U38: 脂肪： | V38: 豆魚蛋肉類 | W38: =午餐設計表!X42 -> 2.5份
A39: 日 | E39: =午餐設計表!E43 -> 熟花生 | G39: =午餐設計表!F43 -> 2 | H39: =午餐設計表!H43 -> 溫體絞肉(陞輝)(臺灣) | J39: =午餐設計表!I43 -> 3 | K39: =午餐設計表!K43 -> 溫體絞肉(陞輝)(臺灣) | M39: =午餐設計表!L43 -> 2 | N39: =午餐設計表!N43 -> 0 | P39: =午餐設計表!O43 -> 0 | Q39: =午餐設計表!Q43 -> 蕃茄(QR) | S39: =午餐設計表!R43 -> 2 | U39: =午餐設計表!V42 -> 24.9 g | V39: 蔬菜類 | W39: =午餐設計表!X43 -> 1.4份
A40: 星期五 | E40: =午餐設計表!E44 -> 紅蘿蔔(切中丁) | G40: =午餐設計表!F44 -> 2 | H40: =午餐設計表!H44 -> 紅蘿蔔(切小丁) | J40: =午餐設計表!I44 -> 2 | K40: =午餐設計表!K44 -> 木耳(切絲) | M40: =午餐設計表!L44 -> 1 | N40: =午餐設計表!N44 -> 0 | P40: =午餐設計表!O44 -> 0 | Q40: =午餐設計表!Q44 -> 溫體肉絲(陞輝)(臺灣) | S40: =午餐設計表!R44 -> 1.5 | U40: 蛋白質： | V40: 水果類 | W40: =午餐設計表!X44 -> 1.0份
...

Sheet 雲林公版
B1: =午餐設計表!B1 -> 0129 彰化縣線西鄉線西國中 112學年度第2學期第5週午餐菜單 | AT1: 菜單設計廠商: 承富 04-8831-965
C2: =午餐設計表!B4 -> 3 | D2: 月 | E2: =午餐設計表!B6 -> 11 | F2: 日 | G2: 星期一 | N2: =午餐設計表!B13 -> 3 | O2: 月 | P2: =午餐設計表!B15 -> 12 | Q2: 日 | R2: 星期二 | Y2: =午餐設計表!B22 -> 3 | Z2: 月 | AA2: =午餐設計表!B24 -> 13 | AB2: 日 | AC2: 星期三 | AJ2: =午餐設計表!B31 -> 3 | AK2: 月 | AL2: =午餐設計表!B33 -> 14 | AM2: 日 | AN2: 星期四 | AU2: =午餐設計表!B40 -> 3 | AV2: 月 | AW2: =午餐設計表!B42 -> 15 | AX2: 日 | AY2: 星期五
B3: 人數 | C3: =午餐設計表!B12 -> 374 | M3: 人數 | N3: =午餐設計表!B21 -> 374 | X3: 人數 | Y3: =午餐設計表!B30 -> 374 | AI3: 人數 | AJ3: =午餐設計表!B39 -> 374 | AT3: 人數 | AU3: =午餐設計表!B48 -> 374
B4: 主食 | C4: =午餐設計表!D4 -> 白米飯(354葷+22素) | I4: =午餐設計表!B12 -> 374 | M4: 主食 | N4: =午餐設計表!D13 -> 小米飯 | T4: =午餐設計表!B21 -> 374 | X4: 主食 | Y4: =午餐設計表!D22 -> 五穀米飯 | AE4: =午餐設計表!B30 -> 374 | AI4: 主食 | AJ4: =午餐設計表!D31 -> 紫米飯 | AP4: =午餐設計表!B39 -> 374 | AT4: 主食 | AU4: =午餐設計表!D40 -> 白米飯 | BA4: =午餐設計表!B48 -> 374
B5: 菜名 | C5: 食材 | G5: 數量 | H5: 單位 | I5: 個重 | J5: 廠牌 | K5: 單價 | L5: 總計 | M5: 菜名 | N5: 食材 | R5: 數量 | S5: 單位 | T5: 個重 | U5: 廠牌 | V5: 單價 | W5: 總計 | X5: 菜名 | Y5: 食材 | AC5: 數量 | AD5: 單位 | AE5: 個重 | AF5: 廠牌 | AG5: 單價 | AH5: 總計 | AI5: 菜名 | AJ5: 食材 | AN5: 數量 | AO5: 單位 | AP5: 個重 | AQ5: 廠牌 | AR5: 單價 | AS5: 總計 | AT5: 菜名 | AU5: 食材 | AY5: 數量 | AZ5: 單位 | BA5: 個重 | BB5: 廠牌 | BC5: 單價 | BD5: 總計
A6: 主菜 | B6: =午餐設計表!E4 -> 檸檬雞翅 | C6: =午餐設計表!E5 -> 檸檬雞翅(W7強匠) | G6: =午餐設計表!F5 -> 354 | H6: =午餐設計表!G5 -> 支 | I6: =G6*1000/$I$4 -> 946.52406 | L6: =G6*K6 -> 0 | M6: =午餐設計表!E13 -> 御膳大排 | N6: =午餐設計表!E14 -> 強匠御膳大排(75g)-片 | R6: =午餐設計表!F14 -> 354 | S6: =午餐設計表!G14 -> 片 | T6: =R6*1000/$T$4 -> 946.52406 | W6: =V6*R6 -> 0 | X6: =午餐設計表!E22 -> 茄汁魚片(獎勵金) | Y6: =午餐設計表!E23 -> 水鯊魚片(7-8)(QR)(pc) | AC6: =午餐設計表!F23 -> 354 | AD6: =午餐設計表!G23 -> 片 | AE6: =AC6*1000/$AE$4 -> 946.52406 | AH6: =AG6*AC6 -> 0 | AI6: =午餐設計表!E31 -> 瓜仔肉燥 | AJ6: =午餐設計表!E32 -> 溫體絞肉(粗瘦)陞輝 | AN6: =午餐設計表!F32 -> 27 | AO6: =午餐設計表!G32 -> 公斤 | AP6: =AN6*1000/$AP$4 -> 72.192513 | AS6: =AR6*AN6 -> 0 | AT6: =午餐設計表!E40 -> 紅燒豬腳 | AU6: =午餐設計表!E41 -> 溫體肉丁(陞輝)(臺灣)(放冷藏) | AY6: =午餐設計表!F41 -> 18 | AZ6: =午餐設計表!G41 -> 公斤 | BA6: =AY6*1000/$BA$4 -> 48.128342 | BD6: =BC6*AY6 -> 0
C7: =午餐設計表!E6 -> 檸檬雞翅(W7強匠)備品 | G7: =午餐設計表!F6 -> 30 | H7: =午餐設計表!G6 -> 支 | I7: =G7*1000/$I$4 -> 80.213904 | L7: =G7*K7 -> 0 | N7: =午餐設計表!E15 -> 強匠御膳大排(75g)備品-片 | R7: =午餐設計表!F15 -> 30 | S7: =午餐設計表!G15 -> 片 | T7: =R7*1000/$T$4 -> 80.213904 | W7: =V7*R7 -> 0 | Y7: =午餐設計表!E24 -> 水鯊魚片(7-8)備品(QR)(pc) | AC7: =午餐設計表!F24 -> 30 | AD7: =午餐設計表!G24 -> 片 | AE7: =AC7*1000/$AE$4 -> 80.213904 | AH7: =AG7*AC7 -> 0 | AJ7: =午餐設計表!E33 -> 碎瓜(玖順) | AN7: =午餐設計表!F33 -> 4 | AO7: =午餐設計表!G33 -> 公斤 | AP7: =AN7*1000/$AP$4 -> 10.695187 | AS7: =AR7*AN7 -> 0 | AU7: =午餐設計表!E42 -> 豬腳丁(有肉)-陞輝 | AY7: =午餐設計表!F42 -> 12 | AZ7: =午餐設計表!G42 -> 公斤 | BA7: =AY7*1000/$BA$4 -> 32.085561 | BD7: =BC7*AY7 -> 0
C8: =午餐設計表!E7 -> 蒜仁(0.6K/包) | G8: =午餐設計表!F7 -> 1 | H8: =午餐設計表!G7 -> 包 | I8: =G8*1000/$I$4 -> 2.6737968 | L8: =G8*K8 -> 0 | N8: =午餐設計表!E16 -> 蒜仁(0.6K/包) | R8: =午餐設計表!F16 -> 1 | S8: =午餐設計表!G16 -> 包 | T8: =R8*1000/$T$4 -> 2.6737968 | W8: =V8*R8 -> 0 | Y8: =午餐設計表!E25 -> 洋蔥(切小丁) | AC8: =午餐設計表!F25 -> 5 | AD8: =午餐設計表!G25 -> 公斤 | AE8: =AC8*1000/$AE$4 -> 13.368984 | AH8: =AG8*AC8 -> 0 | AJ8: =午餐設計表!E34 -> 油蔥酥(大-600g) | AN8: =午餐設計表!F34 -> 1 | AO8: =午餐設計表!G34 -> 包 | AP8: =AN8*1000/$AP$4 -> 2.6737968 | AS8: =AR8*AN8 -> 0 | AU8: =午餐設計表!E43 -> 熟花生 | AY8: =午餐設計表!F43 -> 2 | AZ8: =午餐設計表!G43 -> 公斤 | BA8: =AY8*1000/$BA$4 -> 5.3475936 | BD8: =BC8*AY8 -> 0
C9: =午餐設計表!E8 -> 蔥(0.5K/把) | G9: =午餐設計表!F8 -> 1 | H9: =午餐設計表!G8 -> 把 | I9: =G9*1000/$I$4 -> 2.6737968 | L9: =G9*K9 -> 0 | N9: =午餐設計表!E17 -> 蔥(0.5K/把) | R9: =午餐設計表!F17 -> 1 | S9: =午餐設計表!G17 -> 把 | T9: =R9*1000/$T$4 -> 2.6737968 | W9: =V9*R9 -> 0 | Y9: =午餐設計表!E26 -> 蒜仁(0.6K/包) | AC9: =午餐設計表!F26 -> 1 | AD9: =午餐設計表!G26 -> 包 | AE9: =AC9*1000/$AE$4 -> 2.6737968 | AH9: =AG9*AC9 -> 0 | AJ9: =午餐設計表!E35 -> 蒜仁(0.6K/包) | AN9: =午餐設計表!F35 -> 1 | AO9: =午餐設計表!G35 -> 包 | AP9: =AN9*1000/$AP$4 -> 2.6737968 | AS9: =AR9*AN9 -> 0 | AU9: =午餐設計表!E44 -> 紅蘿蔔(切中丁) | AY9: =午餐設計表!F44 -> 2 | AZ9: =午餐設計表!G44 -> 公斤 | BA9: =AY9*1000/$BA$4 -> 5.3475936 | BD9: =BC9*AY9 -> 0
C10: =午餐設計表!E9 -> 0 | G10: =午餐設計表!F9 -> 0 | H10: =午餐設計表!G9 -> 0 | I10: =G10*1000/$I$4 -> 0 | L10: =G10*K10 -> 0 | N10: =午餐設計表!E18 -> 0 | R10: =午餐設計表!F18 -> 0 | S10: =午餐設計表!G18 -> 0 | T10: =R10*1000/$T$4 -> 0 | W10: =V10*R10 -> 0 | Y10: =午餐設計表!E27 -> 蔥(0.5K/把) | AC10: =午餐設計表!F27 -> 1 | AD10: =午餐設計表!G27 -> 把 | AE10: =AC10*1000/$AE$4 -> 2.6737968 | AH10: =AG10*AC10 -> 0 | AJ10: =午餐設計表!E36 -> 蔥(0.5K/把) | AN10: =午餐設計表!F36 -> 1 | AO10: =午餐設計表!G36 -> 把 | AP10: =AN10*1000/$AP$4 -> 2.6737968 | AS10: =AR10*AN10 -> 0 | AU10: =午餐設計表!E45 -> 蒜仁(0.6K/包) | AY10: =午餐設計表!F45 -> 1 | AZ10: =午餐設計表!G45 -> 包 | BA10: =AY10*1000/$BA$4 -> 2.6737968 | BD10: =BC10*AY10 -> 0
C11: =午餐設計表!E10 -> 0 | G11: =午餐設計表!F10 -> 0 | H11: =午餐設計表!G10 -> 0 | I11: =G11*1000/$I$4 -> 0 | L11: =G11*K11 -> 0 | N11: =午餐設計表!E19 -> 0 | R11: =午餐設計表!F19 -> 0 | S11: =午餐設計表!G19 -> 0 | T11: =R11*1000/$T$4 -> 0 | W11: =V11*R11 -> 0 | Y11: =午餐設計表!E28 -> 蕃茄醬(3K)可果美 | AC11: =午餐設計表!F28 -> 1 | AD11: =午餐設計表!G28 -> 罐 | AE11: =AC11*1000/$AE$4 -> 2.6737968 | AH11: =AG11*AC11 -> 0 | AJ11: =午餐設計表!E37 -> 乾香菇(小) | AN11: =午餐設計表!F37 -> 0.3 | AO11: =午餐設計表!G37 -> 公斤 | AP11: =AN11*1000/$AP$4 -> 0.80213904 | AS11: =AR11*AN11 -> 0 | AU11: =午餐設計表!E46 -> 蔥(0.5K/把) | AY11: =午餐設計表!F46 -> 1 | AZ11: =午餐設計表!G46 -> 把 | BA11: =AY11*1000/$BA$4 -> 2.6737968 | BD11: =BC11*AY11 -> 0
C12: =午餐設計表!E11 -> 0 | G12: =午餐設計表!F11 -> 0 | H12: =午餐設計表!G11 -> 0 | I12: =G12*1000/$I$4 -> 0 | L12: =G12*K12 -> 0 | N12: =午餐設計表!E20 -> 0 | R12: =午餐設計表!F20 -> 0 | S12: =午餐設計表!G20 -> 0 | T12: =R12*1000/$T$4 -> 0 | W12: =V12*R12 -> 0 | Y12: =午餐設計表!E29 -> 薑絲(0.6K/包) | AC12: =午餐設計表!F29 -> 1 | AD12: =午餐設計表!G29 -> 包 | AE12: =AC12*1000/$AE$4 -> 2.6737968 | AH12: =AG12*AC12 -> 0 | AJ12: =午餐設計表!E38 -> 0 | AN12: =午餐設計表!F38 -> 0 | AO12: =午餐設計表!G38 -> 0 | AP12: =AN12*1000/$AP$4 -> 0 | AS12: =AR12*AN12 -> 0 | AU12: =午餐設計表!E47 -> 薑片(0.3K) | AY12: =午餐設計表!F47 -> 1 | AZ12: =午餐設計表!G47 -> 包 | BA12: =AY12*1000/$BA$4 -> 2.6737968 | BD12: =BC12*AY12 -> 0
L13: =G13*K13 -> 0 | W13: =V13*R13 -> 0 | AH13: =AG13*AC13 -> 0 | AS13: =AR13*AN13 -> 0 | BD13: =BC13*AY13 -> 0
L14: =G14*K14 -> 0 | W14: =V14*R14 -> 0 | AH14: =AG14*AC14 -> 0 | AS14: =AR14*AN14 -> 0 | BD14: =BC14*AY14 -> 0
A15: 副菜 | B15: =午餐設計表!H4 -> 蘿蔔燴肉羹 | C15: =午餐設計表!H5 -> 菜頭(切中丁) | G15: =午餐設計表!I5 -> 18 | H15: =午餐設計表!J5 -> 公斤 | I15: =G15*1000/$I$4 -> 48.128342 | L15: =G15*K15 -> 0 | M15: =午餐設計表!H13 -> 炒雙結 | N15: =午餐設計表!H14 -> 非基改豆干結 | R15: =午餐設計表!I14 -> 12 | S15: =午餐設計表!J14 -> 公斤 | T15: =R15*1000/$T$4 -> 32.085561 | W15: =V15*R15 -> 0 | X15: =午餐設計表!H22 -> 花生麵筋 | Y15: =午餐設計表!H23 -> 麵筋泡(Ｋ) | AC15: =午餐設計表!I23 -> 9 | AD15: =午餐設計表!J23 -> 公斤 | AE15: =AC15*1000/$AE$4 -> 24.064171 | AH15: =AG15*AC15 -> 0 | AI15: =午餐設計表!H31 -> 白菜滷 | AJ15: =午餐設計表!H32 -> 大白菜(切實重) | AN15: =午餐設計表!I32 -> 27 | AO15: =午餐設計表!J32 -> 公斤 | AP15: =AN15*1000/$AP$4 -> 72.192513 | AS15: =AR15*AN15 -> 0 | AT15: =午餐設計表!H40 -> 玉米四寶 | AU15: =午餐設計表!H41 -> 玉米粒(QR-K) | AY15: =午餐設計表!I41 -> 16 | AZ15: =午餐設計表!J41 -> 公斤 | BA15: =AY15*1000/$BA$4 -> 42.780749 | BD15: =BC15*AY15 -> 0
C16: =午餐設計表!H6 -> 手工肉羹(台灣) | G16: =午餐設計表!I6 -> 6 | H16: =午餐設計表!J6 -> 公斤 | I16: =G16*1000/$I$4 -> 16.042781 | L16: =G16*K16 -> 0 | N16: =午餐設計表!H15 -> 海帶結 | R16: =午餐設計表!I15 -> 8 | S16: =午餐設計表!J15 -> 公斤 | T16: =R16*1000/$T$4 -> 21.390374 | W16: =V16*R16 -> 0 | Y16: =午餐設計表!H24 -> 溫體絞肉(陞輝)(臺灣) | AC16: =午餐設計表!I24 -> 3 | AD16: =午餐設計表!J24 -> 公斤 | AE16: =AC16*1000/$AE$4 -> 8.0213904 | AH16: =AG16*AC16 -> 0 | AJ16: =午餐設計表!H33 -> 溫體肉絲(陞輝)(臺灣) | AN16: =午餐設計表!I33 -> 3 | AO16: =午餐設計表!J33 -> 公斤 | AP16: =AN16*1000/$AP$4 -> 8.0213904 | AS16: =AR16*AN16 -> 0 | AU16: =午餐設計表!H42 -> 毛豆仁(冷凍) | AY16: =午餐設計表!I42 -> 3 | AZ16: =午餐設計表!J42 -> 公斤 | BA16: =AY16*1000/$BA$4 -> 8.0213904 | BD16: =BC16*AY16 -> 0
C17: =午餐設計表!H7 -> 紅蘿蔔(切片) | G17: =午餐設計表!I7 -> 1.5 | H17: =午餐設計表!J7 -> 公斤 | I17: =G17*1000/$I$4 -> 4.0106952 | L17: =G17*K17 -> 0 | N17: =午餐設計表!H16 -> 杏鮑菇(頭)(QR) | R17: =午餐設計表!I16 -> 3 | S17: =午餐設計表!J16 -> 公斤 | T17: =R17*1000/$T$4 -> 8.0213904 | W17: =V17*R17 -> 0 | Y17: =午餐設計表!H25 -> 熟花生 | AC17: =午餐設計表!I25 -> 3 | AD17: =午餐設計表!J25 -> 公斤 | AE17: =AC17*1000/$AE$4 -> 8.0213904 | AH17: =AG17*AC17 -> 0 | AJ17: =午餐設計表!H34 -> 金針菇(QR) | AN17: =午餐設計表!I34 -> 3 | AO17: =午餐設計表!J34 -> 公斤 | AP17: =AN17*1000/$AP$4 -> 8.0213904 | AS17: =AR17*AN17 -> 0 | AU17: =午餐設計表!H43 -> 溫體絞肉(陞輝)(臺灣) | AY17: =午餐設計表!I43 -> 3 | AZ17: =午餐設計表!J43 -> 公斤 | BA17: =AY17*1000/$BA$4 -> 8.0213904 | BD17: =BC17*AY17 -> 0
C18: =午餐設計表!H8 -> 袖珍菇(QR) | G18: =午餐設計表!I8 -> 1.5 | H18: =午餐設計表!J8 -> 公斤 | I18: =G18*1000/$I$4 -> 4.0106952 | L18: =G18*K18 -> 0 | N18: =午餐設計表!H17 -> 紅蘿蔔(切中丁) | R18: =午餐設計表!I17 -> 2 | S18: =午餐設計表!J17 -> 公斤 | T18: =R18*1000/$T$4 -> 5.3475936 | W18: =V18*R18 -> 0 | Y18: =午餐設計表!H26 -> 紅蘿蔔(切小丁) | AC18: =午餐設計表!I26 -> 3 | AD18: =午餐設計表!J26 -> 公斤 | AE18: =AC18*1000/$AE$4 -> 8.0213904 | AH18: =AG18*AC18 -> 0 | AJ18: =午餐設計表!H35 -> 紅蘿蔔(切絲) | AN18: =午餐設計表!I35 -> 1 | AO18: =午餐設計表!J35 -> 公斤 | AP18: =AN18*1000/$AP$4 -> 2.6737968 | AS18: =AR18*AN18 -> 0 | AU18: =午餐設計表!H44 -> 紅蘿蔔(切小丁) | AY18: =午餐設計表!I44 -> 2 | AZ18: =午餐設計表!J44 -> 公斤 | BA18: =AY18*1000/$BA$4 -> 5.3475936 | BD18: =BC18*AY18 -> 0
C19: =午餐設計表!H9 -> 木耳(切絲) | G19: =午餐設計表!I9 -> 1 | H19: =午餐設計表!J9 -> 公斤 | I19: =G19*1000/$I$4 -> 2.6737968 | L19: =G19*K19 -> 0 | N19: =午餐設計表!H18 -> 芹菜(切段) | R19: =午餐設計表!I18 -> 2 | S19: =午餐設計表!J18 -> 公斤 | T19: =R19*1000/$T$4 -> 5.3475936 | W19: =V19*R19 -> 0 | Y19: =午餐設計表!H27 -> 薑片(0.3K) | AC19: =午餐設計表!I27 -> 1 | AD19: =午餐設計表!J27 -> 包 | AE19: =AC19*1000/$AE$4 -> 2.6737968 | AH19: =AG19*AC19 -> 0 | AJ19: =午餐設計表!H36 -> 木耳(切絲)(QR) | AN19: =午餐設計表!I36 -> 0.5 | AO19: =午餐設計表!J36 -> 公斤 | AP19: =AN19*1000/$AP$4 -> 1.3368984 | AS19: =AR19*AN19 -> 0 | AU19: =午餐設計表!H45 -> 0 | AY19: =午餐設計表!I45 -> 0 | AZ19: =午餐設計表!J45 -> 0 | BA19: =AY19*1000/$BA$4 -> 0 | BD19: =BC19*AY19 -> 0
C20: =午餐設計表!H10 -> 蝦米 | G20: =午餐設計表!I10 -> 0.1 | H20: =午餐設計表!J10 -> 公斤 | I20: =G20*1000/$I$4 -> 0.26737968 | L20: =G20*K20 -> 0 | N20: =午餐設計表!H19 -> 0 | R20: =午餐設計表!I19 -> 0 | S20: =午餐設計表!J19 -> 0 | T20: =R20*1000/$T$4 -> 0 | W20: =V20*R20 -> 0 | Y20: =午餐設計表!H28 -> 0 | AC20: =午餐設計表!I28 -> 0 | AD20: =午餐設計表!J28 -> 0 | AE20: =AC20*1000/$AE$4 -> 0 | AH20: =AG20*AC20 -> 0 | AJ20: =午餐設計表!H37 -> 非基改豆皮(Ｋ) | AN20: =午餐設計表!I37 -> 0.3 | AO20: =午餐設計表!J37 -> 公斤 | AP20: =AN20*1000/$AP$4 -> 0.80213904 | AS20: =AR20*AN20 -> 0 | AU20: =午餐設計表!H46 -> 0 | AY20: =午餐設計表!I46 -> 0 | AZ20: =午餐設計表!J46 -> 0 | BA20: =AY20*1000/$BA$4 -> 0 | BD20: =BC20*AY20 -> 0
C21: =午餐設計表!H11 -> 0 | G21: =午餐設計表!I11 -> 0 | H21: =午餐設計表!J11 -> 0 | I21: =G21*1000/$I$4 -> 0 | L21: =G21*K21 -> 0 | N21: =午餐設計表!H20 -> 0 | R21: =午餐設計表!I20 -> 0 | S21: =午餐設計表!J20 -> 0 | T21: =R21*1000/$T$4 -> 0 | W21: =V21*R21 -> 0 | Y21: =午餐設計表!H29 -> 0 | AC21: =午餐設計表!I29 -> 0 | AD21: =午餐設計表!J29 -> 0 | AE21: =AC21*1000/$AE$4 -> 0 | AH21: =AG21*AC21 -> 0 | AJ21: =午餐設計表!H38 -> 冬蝦 | AN21: =午餐設計表!I38 -> 0.1 | AO21: =午餐設計表!J38 -> 公斤 | AP21: =AN21*1000/$AP$4 -> 0.26737968 | AS21: =AR21*AN21 -> 0 | AU21: =午餐設計表!H47 -> 0 | AY21: =午餐設計表!I47 -> 0 | AZ21: =午餐設計表!J47 -> 0 | BA21: =AY21*1000/$BA$4 -> 0 | BD21: =BC21*AY21 -> 0
L22: =G22*K22 -> 0 | W22: =V22*R22 -> 0 | AH22: =AG22*AC22 -> 0 | AS22: =AR22*AN22 -> 0 | BD22: =BC22*AY22 -> 0
A23: 青菜 | B23: =午餐設計表!K4 -> 培根拌青花 | C23: =午餐設計表!K5 -> 冷凍綠花椰菜(CAS) | G23: =午餐設計表!L5 -> 28 | H23: =午餐設計表!M5 -> 公斤 | I23: =G23*1000/$I$4 -> 74.86631 | L23: =G23*K23 -> 0 | M23: =午餐設計表!K13 -> 黃瓜什錦 | N23: =午餐設計表!K14 -> 大黃瓜(切大丁) | R23: =午餐設計表!L14 -> 18 | S23: =午餐設計表!M14 -> 公斤 | T23: =R23*1000/$T$4 -> 48.128342 | W23: =V23*R23 -> 0 | X23: =午餐設計表!K22 -> 甜不辣豆干片 | Y23: =午餐設計表!K23 -> 非基改豆干片(榮洲) | AC23: =午餐設計表!L23 -> 15 | AD23: =午餐設計表!M23 -> 公斤 | AE23: =AC23*1000/$AE$4 -> 40.106952 | AH23: =AG23*AC23 -> 0 | AI23: =午餐設計表!K31 -> 蕃茄炒蛋 | AJ23: =午餐設計表!K32 -> 洗選蛋(QR) | AN23: =午餐設計表!L32 -> 22 | AO23: =午餐設計表!M32 -> 公斤 | AP23: =AN23*1000/$AP$4 -> 58.823529 | AS23: =AR23*AN23 -> 0 | AT23: =午餐設計表!K40 -> 螞蟻上樹 | AU23: =午餐設計表!K41 -> 高麗菜(切實重) | AY23: =午餐設計表!L41 -> 10 | AZ23: =午餐設計表!M41 -> 公斤 | BA23: =AY23*1000/$BA$4 -> 26.737968 | BD23: =BC23*AY23 -> 0
C24: =午餐設計表!K6 -> 碎培根(黑橋牌) | G24: =午餐設計表!L6 -> 4 | H24: =午餐設計表!M6 -> 公斤 | I24: =G24*1000/$I$4 -> 10.695187 | L24: =G24*K24 -> 0 | N24: =午餐設計表!K15 -> 水發魷魚 | R24: =午餐設計表!L15 -> 4 | S24: =午餐設計表!M15 -> 公斤 | T24: =R24*1000/$T$4 -> 10.695187 | W24: =V24*R24 -> 0 | Y24: =午餐設計表!K24 -> 黑輪(甜不辣絲)(CAS) | AC24: =午餐設計表!L24 -> 9 | AD24: =午餐設計表!M24 -> 公斤 | AE24: =AC24*1000/$AE$4 -> 24.064171 | AH24: =AG24*AC24 -> 0 | AJ24: =午餐設計表!K33 -> 蕃茄(切中丁) | AN24: =午餐設計表!L33 -> 9 | AO24: =午餐設計表!M33 -> 公斤 | AP24: =AN24*1000/$AP$4 -> 24.064171 | AS24: =AR24*AN24 -> 0 | AU24: =午餐設計表!K42 -> 冬粉(3K) | AY24: =午餐設計表!L42 -> 2 | AZ24: =午餐設計表!M42 -> 包 | BA24: =AY24*1000/$BA$4 -> 5.3475936 | BD24: =BC24*AY24 -> 0
C25: =午餐設計表!K7 -> 美白菇(QR) | G25: =午餐設計表!L7 -> 3 | H25: =午餐設計表!M7 -> 公斤 | I25: =G25*1000/$I$4 -> 8.0213904 | L25: =G25*K25 -> 0 | N25: =午餐設計表!K16 -> 溫體肉片(小)(瘦)陞輝 | R25: =午餐設計表!L16 -> 4 | S25: =午餐設計表!M16 -> 公斤 | T25: =R25*1000/$T$4 -> 10.695187 | W25: =V25*R25 -> 0 | Y25: =午餐設計表!K25 -> 紅蘿蔔(切片) | AC25: =午餐設計表!L25 -> 2 | AD25: =午餐設計表!M25 -> 公斤 | AE25: =AC25*1000/$AE$4 -> 5.3475936 | AH25: =AG25*AC25 -> 0 | AJ25: =午餐設計表!K34 -> 蕃茄醬(3K)可果美 | AN25: =午餐設計表!L34 -> 1 | AO25: =午餐設計表!M34 -> 罐 | AP25: =AN25*1000/$AP$4 -> 2.6737968 | AS25: =AR25*AN25 -> 0 | AU25: =午餐設計表!K43 -> 溫體絞肉(陞輝)(臺灣) | AY25: =午餐設計表!L43 -> 2 | AZ25: =午餐設計表!M43 -> 公斤 | BA25: =AY25*1000/$BA$4 -> 5.3475936 | BD25: =BC25*AY25 -> 0
C26: =午餐設計表!K8 -> 0 | G26: =午餐設計表!L8 -> 0 | H26: =午餐設計表!M8 -> 0 | I26: =G26*1000/$I$4 -> 0 | L26: =G26*K26 -> 0 | N26: =午餐設計表!K17 -> 濕香菇(小朵)(QR) | R26: =午餐設計表!L17 -> 1.5 | S26: =午餐設計表!M17 -> 公斤 | T26: =R26*1000/$T$4 -> 4.0106952 | W26: =V26*R26 -> 0 | Y26: =午餐設計表!K26 -> 芹菜(去葉) | AC26: =午餐設計表!L26 -> 2 | AD26: =午餐設計表!M26 -> 公斤 | AE26: =AC26*1000/$AE$4 -> 5.3475936 | AH26: =AG26*AC26 -> 0 | AJ26: =午餐設計表!K35 -> 蔥(0.5K/把) | AN26: =午餐設計表!L35 -> 0.5 | AO26: =午餐設計表!M35 -> 把 | AP26: =AN26*1000/$AP$4 -> 1.3368984 | AS26: =AR26*AN26 -> 0 | AU26: =午餐設計表!K44 -> 木耳(切絲) | AY26: =午餐設計表!L44 -> 1 | AZ26: =午餐設計表!M44 -> 公斤 | BA26: =AY26*1000/$BA$4 -> 2.6737968 | BD26: =BC26*AY26 -> 0
C27: =午餐設計表!K9 -> 0 | G27: =午餐設計表!L9 -> 0 | H27: =午餐設計表!M9 -> 0 | I27: =G27*1000/$I$4 -> 0 | L27: =G27*K27 -> 0 | N27: =午餐設計表!K18 -> 金針菇(QR) | R27: =午餐設計表!L18 -> 1.5 | S27: =午餐設計表!M18 -> 公斤 | T27: =R27*1000/$T$4 -> 4.0106952 | W27: =V27*R27 -> 0 | Y27: =午餐設計表!K27 -> 0 | AC27: =午餐設計表!L27 -> 0 | AD27: =午餐設計表!M27 -> 0 | AE27: =AC27*1000/$AE$4 -> 0 | AH27: =AG27*AC27 -> 0 | AJ27: =午餐設計表!K36 -> 0 | AN27: =午餐設計表!L36 -> 0 | AO27: =午餐設計表!M36 -> 0 | AP27: =AN27*1000/$AP$4 -> 0 | AS27: =AR27*AN27 -> 0 | AU27: =午餐設計表!K45 -> 紅蘿蔔(切絲) | AY27: =午餐設計表!L45 -> 1 | AZ27: =午餐設計表!M45 -> 公斤 | BA27: =AY27*1000/$BA$4 -> 2.6737968 | BD27: =BC27*AY27 -> 0
A28: 湯 | B28: =午餐設計表!Q4 -> 金針肉絲湯 | C28: =午餐設計表!Q5 -> 溫體肉絲(陞輝)(臺灣) | G28: =午餐設計表!R5 -> 3 | H28: =午餐設計表!S5 -> 公斤 | I28: =G28*1000/$I$4 -> 8.0213904 | L28: =G28*K28 -> 0 | M28: =午餐設計表!Q13 -> 翡翠羹湯 | N28: =午餐設計表!Q14 -> 翡翠羹(0.3K) | R28: =午餐設計表!R14 -> 7 | S28: =午餐設計表!S14 -> 盒 | T28: =R28*1000/$T$4 -> 18.716578 | W28: =V28*R28 -> 0 | X28: =午餐設計表!Q22 -> 冬瓜排骨湯 | Y28: =午餐設計表!Q23 -> 冬瓜(切中丁) | AC28: =午餐設計表!R23 -> 13 | AD28: =午餐設計表!S23 -> 公斤 | AE28: =AC28*1000/$AE$4 -> 34.759358 | AH28: =AG28*AC28 -> 0 | AI28: =午餐設計表!Q31 -> 排骨貢丸湯 | AJ28: =午餐設計表!Q32 -> 貢丸(小)(國產) | AN28: =午餐設計表!R32 -> 5 | AO28: =午餐設計表!S32 -> 公斤 | AP28: =AN28*1000/$AP$4 -> 13.368984 | AS28: =AR28*AQ28 -> 0 | AT28: =午餐設計表!Q40 -> 羅宋湯 | AU28: =午餐設計表!Q41 -> 洋芋(切中丁) | AY28: =午餐設計表!R41 -> 9 | AZ28: =午餐設計表!S41 -> 公斤 | BA28: =AY28*1000/$BA$4 -> 24.064171 | BD28: =BC28*AY28 -> 0
C29: =午餐設計表!Q6 -> 金針菇(QR) | G29: =午餐設計表!R6 -> 3 | H29: =午餐設計表!S6 -> 公斤 | I29: =G29*1000/$I$4 -> 8.0213904 | L29: =G29*K29 -> 0 | N29: =午餐設計表!Q15 -> 洗選蛋(QR) | R29: =午餐設計表!R15 -> 6 | S29: =午餐設計表!S15 -> 公斤 | T29: =R29*1000/$T$4 -> 16.042781 | W29: =V29*R29 -> 0 | Y29: =午餐設計表!Q24 -> 小排骨(肉)陞輝 | AC29: =午餐設計表!R24 -> 3 | AD29: =午餐設計表!S24 -> 公斤 | AE29: =AC29*1000/$AE$4 -> 8.0213904 | AH29: =AG29*AC29 -> 0 | AJ29: =午餐設計表!Q33 -> 小排骨(肉)陞輝 | AN29: =午餐設計表!R33 -> 3 | AO29: =午餐設計表!S33 -> 公斤 | AP29: =AN29*1000/$AP$4 -> 8.0213904 | AS29: =AR29*AQ29 -> 0 | AU29: =午餐設計表!Q42 -> 洋蔥(切小丁) | AY29: =午餐設計表!R42 -> 2 | AZ29: =午餐設計表!S42 -> 公斤 | BA29: =AY29*1000/$BA$4 -> 5.3475936 | BD29: =BC29*AY29 -> 0
C30: =午餐設計表!Q7 -> 薑絲(0.6K/包) | G30: =午餐設計表!R7 -> 0.5 | H30: =午餐設計表!S7 -> 包 | I30: =G30*1000/$I$4 -> 1.3368984 | L30: =G30*K30 -> 0 | N30: =午餐設計表!Q16 -> 0 | R30: =午餐設計表!R16 -> 0 | S30: =午餐設計表!S16 -> 0 | T30: =R30*1000/$T$4 -> 0 | W30: =V30*R30 -> 0 | Y30: =午餐設計表!Q25 -> 薑絲(0.6K/包) | AC30: =午餐設計表!R25 -> 0.5 | AD30: =午餐設計表!S25 -> 包 | AE30: =AC30*1000/$AE$4 -> 1.3368984 | AH30: =AG30*AC30 -> 0 | AJ30: =午餐設計表!Q34 -> 芹菜(末) | AN30: =午餐設計表!R34 -> 0.5 | AO30: =午餐設計表!S34 -> 公斤 | AP30: =AN30*1000/$AP$4 -> 1.3368984 | AS30: =AR30*AQ30 -> 0 | AU30: =午餐設計表!Q43 -> 蕃茄(QR) | AY30: =午餐設計表!R43 -> 2 | AZ30: =午餐設計表!S43 -> 公斤 | BA30: =AY30*1000/$BA$4 -> 5.3475936 | BD30: =BC30*AY30 -> 0
C31: =午餐設計表!Q8 -> 乾金針 | G31: =午餐設計表!R8 -> 0.3 | H31: =午餐設計表!S8 -> 公斤 | I31: =G31*1000/$I$4 -> 0.80213904 | L31: =G31*K31 -> 0 | N31: =午餐設計表!Q17 -> 0 | R31: =午餐設計表!R17 -> 0 | S31: =午餐設計表!S17 -> 0 | T31: =R31*1000/$T$4 -> 0 | W31: =V31*R31 -> 0 | Y31: =午餐設計表!Q26 -> 0 | AC31: =午餐設計表!R26 -> 0 | AD31: =午餐設計表!S26 -> 0 | AE31: =AC31*1000/$AE$4 -> 0 | AH31: =AG31*AC31 -> 0 | AJ31: =午餐設計表!Q35 -> 0 | AN31: =午餐設計表!R35 -> 0 | AO31: =午餐設計表!S35 -> 0 | AP31: =AN31*1000/$AP$4 -> 0 | AS31: =AR31*AQ31 -> 0 | AU31: =午餐設計表!Q44 -> 溫體肉絲(陞輝)(臺灣) | AY31: =午餐設計表!R44 -> 1.5 | AZ31: =午餐設計表!S44 -> 公斤 | BA31: =AY31*1000/$BA$4 -> 4.0106952 | BD31: =BC31*AY31 -> 0
C32: =午餐設計表!Q9 -> 0 | G32: =午餐設計表!R9 -> 0 | H32: =午餐設計表!S9 -> 0 | I32: =G32*1000/$I$4 -> 0 | L32: =G32*K32 -> 0 | N32: =午餐設計表!Q18 -> 0 | R32: =午餐設計表!R18 -> 0 | S32: =午餐設計表!S18 -> 0 | T32: =R32*1000/$T$4 -> 0 | W32: =V32*R32 -> 0 | Y32: =午餐設計表!Q27 -> 0 | AC32: =午餐設計表!R27 -> 0 | AD32: =午餐設計表!S27 -> 0 | AE32: =AC32*1000/$AE$4 -> 0 | AH32: =AG32*AC32 -> 0 | AJ32: =午餐設計表!Q36 -> 0 | AN32: =午餐設計表!R36 -> 0 | AO32: =午餐設計表!S36 -> 0 | AP32: =AN32*1000/$AP$4 -> 0 | AS32: =AR32*AQ32 -> 0 | AU32: =午餐設計表!Q45 -> 西芹菜(切片) | AY32: =午餐設計表!R45 -> 1.5 | AZ32: =午餐設計表!S45 -> 公斤 | BA32: =AY32*1000/$BA$4 -> 4.0106952 | BD32: =BC32*AY32 -> 0
C33: =午餐設計表!Q10 -> 0 | G33: =午餐設計表!R10 -> 0 | H33: =午餐設計表!S10 -> 0 | I33: =G33*1000/$I$4 -> 0 | L33: =G33*K33 -> 0 | N33: =午餐設計表!Q19 -> 0 | R33: =午餐設計表!R19 -> 0 | S33: =午餐設計表!S19 -> 0 | T33: =R33*1000/$T$4 -> 0 | W33: =V33*R33 -> 0 | Y33: =午餐設計表!Q28 -> 0 | AC33: =午餐設計表!R28 -> 0 | AD33: =午餐設計表!S28 -> 0 | AE33: =AC33*1000/$AE$4 -> 0 | AH33: =AG33*AC33 -> 0 | AJ33: =午餐設計表!Q37 -> 0 | AN33: =午餐設計表!R37 -> 0 | AO33: =午餐設計表!S37 -> 0 | AP33: =AN33*1000/$AP$4 -> 0 | AS33: =AR33*AQ33 -> 0 | AU33: =午餐設計表!Q46 -> 紅蘿蔔(切中丁) | AY33: =午餐設計表!R46 -> 1 | AZ33: =午餐設計表!S46 -> 公斤 | BA33: =AY33*1000/$BA$4 -> 2.6737968 | BD33: =BC33*AY33 -> 0
C34: =午餐設計表!Q11 -> 0 | G34: =午餐設計表!R11 -> 0 | H34: =午餐設計表!S11 -> 0 | I34: =G34*1000/$I$4 -> 0 | L34: =G34*K34 -> 0 | N34: =午餐設計表!Q20 -> 0 | R34: =午餐設計表!R20 -> 0 | S34: =午餐設計表!S20 -> 0 | T34: =R34*1000/$T$4 -> 0 | W34: =V34*R34 -> 0 | Y34: =午餐設計表!Q29 -> 0 | AC34: =午餐設計表!R29 -> 0 | AD34: =午餐設計表!S29 -> 0 | AE34: =AC34*1000/$AE$4 -> 0 | AH34: =AG34*AC34 -> 0 | AJ34: =午餐設計表!Q38 -> 0 | AN34: =午餐設計表!R38 -> 0 | AO34: =午餐設計表!S38 -> 0 | AP34: =AN34*1000/$AP$4 -> 0 | AS34: =AR34*AQ34 -> 0 | AU34: =午餐設計表!Q47 -> 0 | AY34: =午餐設計表!R47 -> 0 | AZ34: =午餐設計表!S47 -> 0 | BA34: =AY34*1000/$BA$4 -> 0 | BD34: =BC34*AY34 -> 0
A35: 水果 | C35: =午餐設計表!T4 -> 履歷豆奶(376+10獎勵金) | L35: =G35*K35 -> 0 | M35: =午餐設計表!T13 -> 0 | W35: =V35*R35 -> 0 | X35: =午餐設計表!T22 -> 光泉保久乳(精進18元) | AH35: =AG35*AC35 -> 0 | AI35: =午餐設計表!T31 -> 0 | AS35: =AR35*AN35 -> 0 | AT35: =午餐設計表!T40 -> 水果(精進20元) | BD35: =BC35*AY35 -> 0
A36: 營養分析 | B36: 營養素合計 | E36: 蛋白質g | F36: 脂肪g | G36: 醣類g | H36: 熱量Kcal | J36: =SUM(L6:L35) -> 0 | M36: 營養素合計 | P36: 蛋白質g | Q36: 脂肪g | R36: 醣類g | S36: 熱量Kcal | U36: =SUM(W6:W35) -> 0 | X36: 營養素合計 | AA36: 蛋白質g | AB36: 脂肪g | AC36: 醣類g | AD36: 熱量Kcal | AF36: =SUM(AH6:AH35) -> 0 | AI36: 營養素合計 | AL36: 蛋白質g | AM36: 脂肪g | AN36: 醣類g | AO36: 熱量Kcal | AQ36: =SUM(AS6:AS35) -> 0 | AT36: 營養素合計 | AW36: 蛋白質g | AX36: 脂肪g | AY36: 醣類g | AZ36: 熱量Kcal | BB36: =SUM(BD6:BD35) -> 0
E37: =MID(午餐設計表!V7,1,LEN(午餐設計表!V7)-2) -> 45.7 | F37: =MID(午餐設計表!V6,1,LEN(午餐設計表!V6)-2) -> 22.7 | G37: =MID(午餐設計表!V5,1,LEN(午餐設計表!V5)-2) -> 110.0 | H37: =MID(午餐設計表!V4,1,LEN(午餐設計表!V4)-2) -> 862 | P37: =MID(午餐設計表!V16,1,LEN(午餐設計表!V16)-2) -> 36.8 | Q37: =MID(午餐設計表!V15,1,LEN(午餐設計表!V15)-2) -> 24.5 | R37: =MID(午餐設計表!V14,1,LEN(午餐設計表!V14)-2) -> 108.9 | S37: =MID(午餐設計表!V13,1,LEN(午餐設計表!V13)-2) -> 826 | AA37: =MID(午餐設計表!V25,1,LEN(午餐設計表!V25)-2) -> 42.4 | AB37: =MID(午餐設計表!V24,1,LEN(午餐設計表!V24)-2) -> 25.5 | AC37: =MID(午餐設計表!V23,1,LEN(午餐設計表!V23)-2) -> 110.2 | AD37: =MID(午餐設計表!V22,1,LEN(午餐設計表!V22)-2) -> 878 | AL37: =MID(午餐設計表!V34,1,LEN(午餐設計表!V34)-2) -> 34.7 | AM37: =MID(午餐設計表!V33,1,LEN(午餐設計表!V33)-2) -> 23.5 | AN37: =MID(午餐設計表!V32,1,LEN(午餐設計表!V32)-2) -> 109.4 | AO37: =MID(午餐設計表!V31,1,LEN(午餐設計表!V31)-2) -> 802 | AW37: =MID(午餐設計表!V43,1,LEN(午餐設計表!V43)-2) -> 34.5 | AX37: =MID(午餐設計表!V42,1,LEN(午餐設計表!V42)-2) -> 24.9 | AY37: =MID(午餐設計表!V41,1,LEN(午餐設計表!V41)-2) -> 116.3 | AZ37: =MID(午餐設計表!V40,1,LEN(午餐設計表!V40)-2) -> 856
B38: 營養素比例 | E38: =(E37*4)/H37 -> 0.21206497 | F38: =(F37*9)/H37 -> 0.23700696 | G38: =(G37*4)/H37 -> 0.51044084 | H38: =E38+F38+G38 -> 0.95951276 | M38: 營養素比例 | P38: =(P37*4)/S37 -> 0.17820823 | Q38: =(Q37*9)/S37 -> 0.26694915 | R38: =(R37*4)/S37 -> 0.52736077 | S38: =P38+Q38+R38 -> 0.97251816 | X38: 營養素比例 | AA38: =(AA37*4)/AD37 -> 0.19316629 | AB38: =(AB37*9)/AD37 -> 0.26138952 | AC38: =(AC37*4)/AD37 -> 0.50205011 | AD38: =AA38+AB38+AC38 -> 0.95660592 | AI38: 營養素比例 | AL38: =(AL37*4)/AO37 -> 0.17306733 | AM38: =(AM37*9)/AO37 -> 0.26371571 | AN38: =(AN37*4)/AO37 -> 0.54563591 | AO38: =AL38+AM38+AN38 -> 0.98241895 | AT38: 營養素比例 | AW38: =(AW37*4)/AZ37 -> 0.16121495 | AX38: =(AX37*9)/AZ37 -> 0.26179907 | AY38: =(AY37*4)/AZ37 -> 0.54345794 | AZ38: =AW38+AX38+AY38 -> 0.96647196
B39: 食物分類 | C39: 全穀雜糧 | D39: 豆魚蛋肉 | E39: 蔬菜 | F39: 水果 | G39: 油脂與堅果 | H39: 熱量 | I39: 乳品 | M39: 食物分類 | N39: 全穀雜糧 | O39: 豆魚蛋肉 | P39: 蔬菜 | Q39: 水果 | R39: 油脂與堅果 | S39: 熱量 | T39: 乳品 | X39: 食物分類 | Y39: 全穀雜糧 | Z39: 豆魚蛋肉 | AA39: 蔬菜 | AB39: 水果 | AC39: 油脂與堅果 | AD39: 熱量 | AE39: 乳品 | AI39: 食物分類 | AJ39: 全穀雜糧 | AK39: 豆魚蛋肉 | AL39: 蔬菜 | AM39: 水果 | AN39: 油脂與堅果 | AO39: 熱量 | AP39: 乳品 | AT39: 食物分類 | AU39: 全穀雜糧 | AV39: 豆魚蛋肉 | AW39: 蔬菜 | AX39: 水果 | AY39: 油脂與堅果 | AZ39: 熱量 | BA39: 乳品
B40: 供應份數 | C40: =MID(午餐設計表!X4,1,LEN(午餐設計表!X4)-1) -> 5.2 | D40: =MID(午餐設計表!X6,1,LEN(午餐設計表!X6)-1) -> 3.2 | E40: =MID(午餐設計表!X7,1,LEN(午餐設計表!X7)-1) -> 2.3 | F40: =MID(午餐設計表!X8,1,LEN(午餐設計表!X8)-1) -> 0.0 | G40: =MID(午餐設計表!X9,1,LEN(午餐設計表!X9)-1) -> 2.3 | H40: =H37 -> 862 | I40: =MID(午餐設計表!X5,1,LEN(午餐設計表!X5)-1) -> 0.0 | M40: 供應份數 | N40: =MID(午餐設計表!X13,1,LEN(午餐設計表!X13)-1) -> 5.7 | O40: =MID(午餐設計表!X15,1,LEN(午餐設計表!X15)-1) -> 3.8 | P40: =MID(午餐設計表!X16,1,LEN(午餐設計表!X16)-1) -> 1.8 | Q40: =MID(午餐設計表!X17,1,LEN(午餐設計表!X17)-1) -> 0.0 | R40: =MID(午餐設計表!X18,1,LEN(午餐設計表!X18)-1) -> 2.1 | S40: =S37 -> 826 | T40: =MID(午餐設計表!X14,1,LEN(午餐設計表!X14)-1) -> 0.0 | X40: 供應份數 | Y40: =MID(午餐設計表!X22,1,LEN(午餐設計表!X22)-1) -> 4.4 | Z40: =MID(午餐設計表!X24,1,LEN(午餐設計表!X24)-1) -> 4.1 | AA40: =MID(午餐設計表!X25,1,LEN(午餐設計表!X25)-1) -> 1.5 | AB40: =MID(午餐設計表!X26,1,LEN(午餐設計表!X26)-1) -> 0.0 | AC40: =MID(午餐設計表!X27,1,LEN(午餐設計表!X27)-1) -> 2.3 | AD40: =AD37 -> 878 | AE40: =MID(午餐設計表!X23,1,LEN(午餐設計表!X23)-1) -> 0.9 | AI40: 供應份數 | AJ40: =MID(午餐設計表!X31,1,LEN(午餐設計表!X31)-1) -> 7.1 | AK40: =MID(午餐設計表!X33,1,LEN(午餐設計表!X33)-1) -> 1.6 | AL40: =MID(午餐設計表!X34,1,LEN(午餐設計表!X34)-1) -> 2.0 | AM40: =MID(午餐設計表!X35,1,LEN(午餐設計表!X35)-1) -> 0.0 | AN40: =MID(午餐設計表!X36,1,LEN(午餐設計表!X36)-1) -> 2.7 | AO40: =AO37 -> 802 | AP40: =MID(午餐設計表!X32,1,LEN(午餐設計表!X32)-1) -> 0.0 | AT40: 供應份數 | AU40: =MID(午餐設計表!X40,1,LEN(午餐設計表!X40)-1) -> 6.8 | AV40: =MID(午餐設計表!X42,1,LEN(午餐設計表!X42)-1) -> 2.5 | AW40: =MID(午餐設計表!X43,1,LEN(午餐設計表!X43)-1) -> 1.4 | AX40: =MID(午餐設計表!X44,1,LEN(午餐設計表!X44)-1) -> 1.0 | AY40: =MID(午餐設計表!X45,1,LEN(午餐設計表!X45)-1) -> 2.6 | AZ40: =AZ37 -> 856 | BA40: =MID(午餐設計表!X41,1,LEN(午餐設計表!X41)-1) -> 0.0
...

Sheet 午餐設計表 (三菜)
B1: =午餐設計表!B1 -> 0129 彰化縣線西鄉線西國中 112學年度第2學期第5週午餐菜單
B2: 菜單組成
B3: 日期 | C3: 星期 | D3: 主食 | E3: 主菜 | H3: 副菜 | K3: 副菜 | N3: 副菜 | Q3: 湯 | T3: 水果 | U3: 營養分析
B4: =午餐設計表!B4 -> 3 | C4: =午餐設計表!C4 -> 0 | D4: =午餐設計表!D4 -> 白米飯(354葷+22素) | E4: =午餐設計表!E4 -> 檸檬雞翅 | H4: =午餐設計表!H4 -> 蘿蔔燴肉羹 | K4: =午餐設計表!K4 -> 培根拌青花 | N4: =午餐設計表!N4 -> 炒高麗菜 | Q4: =午餐設計表!Q4 -> 金針肉絲湯 | T4: =午餐設計表!T4 -> 履歷豆奶(376+10獎勵金) | U4: =午餐設計表!U4 -> 熱量： | V4: =午餐設計表!V4 -> 862大卡
B5: =午餐設計表!B5 -> 月 | E5: =午餐設計表!E5 -> 檸檬雞翅(W7強匠) | F5: =午餐設計表!F5 -> 354 | G5: =午餐設計表!G5 -> 支 | H5: =午餐設計表!H5 -> 菜頭(切中丁) | I5: =午餐設計表!I5 -> 18 | J5: =午餐設計表!J5 -> 公斤 | K5: =午餐設計表!K5 -> 冷凍綠花椰菜(CAS) | L5: =午餐設計表!L5 -> 28 | ... S5: =午餐設計表!S5 -> 公斤 | U5: =午餐設計表!U5 -> 醣類： | V5: =午餐設計表!V5 -> 110.0 g
B6: =午餐設計表!B6 -> 11 | E6: =午餐設計表!E6 -> 檸檬雞翅(W7強匠)備品 | F6: =午餐設計表!F6 -> 30 | G6: =午餐設計表!G6 -> 支 | H6: =午餐設計表!H6 -> 手工肉羹(台灣) | I6: =午餐設計表!I6 -> 6 | J6: =午餐設計表!J6 -> 公斤 | K6: =午餐設計表!K6 -> 碎培根(黑橋牌) | L6: =午餐設計表!L6 -> 4 | ... S6: =午餐設計表!S6 -> 公斤 | U6: =午餐設計表!U6 -> 脂肪： | V6: =午餐設計表!V6 -> 22.7 g
B7: =午餐設計表!B7 -> 日 | E7: =午餐設計表!E7 -> 蒜仁(0.6K/包) | F7: =午餐設計表!F7 -> 1 | G7: =午餐設計表!G7 -> 包 | H7: =午餐設計表!H7 -> 紅蘿蔔(切片) | I7: =午餐設計表!I7 -> 1.5 | J7: =午餐設計表!J7 -> 公斤 | K7: =午餐設計表!K7 -> 美白菇(QR) | L7: =午餐設計表!L7 -> 3 | ... S7: =午餐設計表!S7 -> 包 | U7: =午餐設計表!U7 -> 蛋白質： | V7: =午餐設計表!V7 -> 45.7 g
B8: =午餐設計表!B8 -> 星期一 | E8: =午餐設計表!E8 -> 蔥(0.5K/把) | F8: =午餐設計表!F8 -> 1 | G8: =午餐設計表!G8 -> 把 | H8: =午餐設計表!H8 -> 袖珍菇(QR) | I8: =午餐設計表!I8 -> 1.5 | J8: =午餐設計表!J8 -> 公斤 | K8: =午餐設計表!K8 -> 0 | L8: =午餐設計表!L8 -> 0 | ... S8: =午餐設計表!S8 -> 公斤 | U8: =午餐設計表!U8 -> 0 | V8: =午餐設計表!V8 -> 0
E9: =午餐設計表!E9 -> 0 | F9: =午餐設計表!F9 -> 0 | G9: =午餐設計表!G9 -> 0 | H9: =午餐設計表!H9 -> 木耳(切絲) | I9: =午餐設計表!I9 -> 1 | J9: =午餐設計表!J9 -> 公斤 | K9: =午餐設計表!K9 -> 0 | L9: =午餐設計表!L9 -> 0 | ... S9: =午餐設計表!S9 -> 0 | U9: =午餐設計表!U9 -> 0 | V9: =午餐設計表!V9 -> 0
C10: =午餐設計表!C10 -> 0 | E10: =午餐設計表!E10 -> 0 | F10: =午餐設計表!F10 -> 0 | G10: =午餐設計表!G10 -> 0 | H10: =午餐設計表!H10 -> 蝦米 | I10: =午餐設計表!I10 -> 0.1 | J10: =午餐設計表!J10 -> 公斤 | K10: =午餐設計表!K10 -> 0 | L10: =午餐設計表!L10 -> 0 | ... S10: =午餐設計表!S10 -> 0 | U10: =午餐設計表!U10 -> 0 | V10: =午餐設計表!V10 -> 0
B11: =午餐設計表!B11 -> 餐數 | C11: =午餐設計表!C11 -> 0 | E11: =午餐設計表!E11 -> 0 | F11: =午餐設計表!F11 -> 0 | G11: =午餐設計表!G11 -> 0 | H11: =午餐設計表!H11 -> 0 | I11: =午餐設計表!I11 -> 0 | J11: =午餐設計表!J11 -> 0 | K11: =午餐設計表!K11 -> 0 | L11: =午餐設計表!L11 -> 0 | ... S11: =午餐設計表!S11 -> 0 | U11: =午餐設計表!U11 -> 0 | V11: =午餐設計表!V11 -> 0
B12: =午餐設計表!B12 -> 374 | C12: =午餐設計表!C12 -> 0 | E12: =午餐設計表!E12 -> 全穀雜糧類:6.8份 乳品類:0.0份 豆魚蛋肉類:4.0份 蔬菜類:1.8份 水果類:0.0份 油脂與堅果種子類:2.0份 | U12: =午餐設計表!U12 -> 0 | V12: =午餐設計表!V12 -> 0
B13: =午餐設計表!B13 -> 3 | C13: =午餐設計表!C13 -> 0 | D13: =午餐設計表!D13 -> 小米飯 | E13: =午餐設計表!E13 -> 御膳大排 | H13: =午餐設計表!H13 -> 炒雙結 | K13: =午餐設計表!K13 -> 黃瓜什錦 | N13: =午餐設計表!N13 -> 炒履歷油菜 | Q13: =午餐設計表!Q13 -> 翡翠羹湯 | T13: =午餐設計表!T13 -> 0 | U13: =午餐設計表!U13 -> 熱量： | V13: =午餐設計表!V13 -> 826大卡
B14: =午餐設計表!B14 -> 月 | E14: =午餐設計表!E14 -> 強匠御膳大排(75g)-片 | F14: =午餐設計表!F14 -> 354 | G14: =午餐設計表!G14 -> 片 | H14: =午餐設計表!H14 -> 非基改豆干結 | I14: =午餐設計表!I14 -> 12 | J14: =午餐設計表!J14 -> 公斤 | K14: =午餐設計表!K14 -> 大黃瓜(切大丁) | L14: =午餐設計表!L14 -> 18 | ... S14: =午餐設計表!S14 -> 盒 | U14: =午餐設計表!U14 -> 醣類： | V14: =午餐設計表!V14 -> 108.9 g
B15: =午餐設計表!B15 -> 12 | E15: =午餐設計表!E15 -> 強匠御膳大排(75g)備品-片 | F15: =午餐設計表!F15 -> 30 | G15: =午餐設計表!G15 -> 片 | H15: =午餐設計表!H15 -> 海帶結 | I15: =午餐設計表!I15 -> 8 | J15: =午餐設計表!J15 -> 公斤 | K15: =午餐設計表!K15 -> 水發魷魚 | L15: =午餐設計表!L15 -> 4 | ... S15: =午餐設計表!S15 -> 公斤 | U15: =午餐設計表!U15 -> 脂肪： | V15: =午餐設計表!V15 -> 24.5 g
B16: =午餐設計表!B16 -> 日 | E16: =午餐設計表!E16 -> 蒜仁(0.6K/包) | F16: =午餐設計表!F16 -> 1 | G16: =午餐設計表!G16 -> 包 | H16: =午餐設計表!H16 -> 杏鮑菇(頭)(QR) | I16: =午餐設計表!I16 -> 3 | J16: =午餐設計表!J16 -> 公斤 | K16: =午餐設計表!K16 -> 溫體肉片(小)(瘦)陞輝 | L16: =午餐設計表!L16 -> 4 | ... S16: =午餐設計表!S16 -> 0 | U16: =午餐設計表!U16 -> 蛋白質： | V16: =午餐設計表!V16 -> 36.8 g
B17: =午餐設計表!B17 -> 星期二 | E17: =午餐設計表!E17 -> 蔥(0.5K/把) | F17: =午餐設計表!F17 -> 1 | G17: =午餐設計表!G17 -> 把 | H17: =午餐設計表!H17 -> 紅蘿蔔(切中丁) | I17: =午餐設計表!I17 -> 2 | J17: =午餐設計表!J17 -> 公斤 | K17: =午餐設計表!K17 -> 濕香菇(小朵)(QR) | L17: =午餐設計表!L17 -> 1.5 | ... S17: =午餐設計表!S17 -> 0 | U17: =午餐設計表!U17 -> 0 | V17: =午餐設計表!V17 -> 0
E18: =午餐設計表!E18 -> 0 | F18: =午餐設計表!F18 -> 0 | G18: =午餐設計表!G18 -> 0 | H18: =午餐設計表!H18 -> 芹菜(切段) | I18: =午餐設計表!I18 -> 2 | J18: =午餐設計表!J18 -> 公斤 | K18: =午餐設計表!K18 -> 金針菇(QR) | L18: =午餐設計表!L18 -> 1.5 | ... S18: =午餐設計表!S18 -> 0 | U18: =午餐設計表!U18 -> 0 | V18: =午餐設計表!V18 -> 0
C19: =午餐設計表!C19 -> 0 | E19: =午餐設計表!E19 -> 0 | F19: =午餐設計表!F19 -> 0 | G19: =午餐設計表!G19 -> 0 | H19: =午餐設計表!H19 -> 0 | I19: =午餐設計表!I19 -> 0 | J19: =午餐設計表!J19 -> 0 | K19: =午餐設計表!K19 -> 紅蘿蔔(切中丁) | L19: =午餐設計表!L19 -> 1 | ... S19: =午餐設計表!S19 -> 0 | U19: =午餐設計表!U19 -> 0 | V19: =午餐設計表!V19 -> 0
B20: =午餐設計表!B20 -> 餐數 | C20: =午餐設計表!C20 -> 0 | E20: =午餐設計表!E20 -> 0 | F20: =午餐設計表!F20 -> 0 | G20: =午餐設計表!G20 -> 0 | H20: =午餐設計表!H20 -> 0 | I20: =午餐設計表!I20 -> 0 | J20: =午餐設計表!J20 -> 0 | K20: =午餐設計表!K20 -> 0 | L20: =午餐設計表!L20 -> 0 | ... S20: =午餐設計表!S20 -> 0 | U20: =午餐設計表!U20 -> 0 | V20: =午餐設計表!V20 -> 0
B21: =午餐設計表!B21 -> 374 | C21: =午餐設計表!C21 -> 0 | E21: =午餐設計表!E21 -> 全穀雜糧類:6.5份 乳品類:0.0份 豆魚蛋肉類:3.4份 蔬菜類:2.1份 水果類:0.0份 油脂與堅果種子類:2.2份 | U21: =午餐設計表!U21 -> 0 | V21: =午餐設計表!V21 -> 0
B22: =午餐設計表!B22 -> 3 | C22: =午餐設計表!C22 -> 0 | D22: =午餐設計表!D22 -> 五穀米飯 | E22: =午餐設計表!E22 -> 茄汁魚片(獎勵金) | H22: =午餐設計表!H22 -> 花生麵筋 | K22: =午餐設計表!K22 -> 甜不辣豆干片 | N22: =午餐設計表!N22 -> 炒履歷蚵白菜 | Q22: =午餐設計表!Q22 -> 冬瓜排骨湯 | T22: =午餐設計表!T22 -> 光泉保久乳(精進18元) | U22: =午餐設計表!U22 -> 熱量： | V22: =午餐設計表!V22 -> 878大卡
B23: =午餐設計表!B23 -> 月 | E23: =午餐設計表!E23 -> 水鯊魚片(7-8)(QR)(pc) | F23: =午餐設計表!F23 -> 354 | G23: =午餐設計表!G23 -> 片 | H23: =午餐設計表!H23 -> 麵筋泡(Ｋ) | I23: =午餐設計表!I23 -> 9 | J23: =午餐設計表!J23 -> 公斤 | K23: =午餐設計表!K23 -> 非基改豆干片(榮洲) | L23: =午餐設計表!L23 -> 15 | ... S23: =午餐設計表!S23 -> 公斤 | U23: =午餐設計表!U23 -> 醣類： | V23: =午餐設計表!V23 -> 110.2 g
B24: =午餐設計表!B24 -> 13 | E24: =午餐設計表!E24 -> 水鯊魚片(7-8)備品(QR)(pc) | F24: =午餐設計表!F24 -> 30 | G24: =午餐設計表!G24 -> 片 | H24: =午餐設計表!H24 -> 溫體絞肉(陞輝)(臺灣) | I24: =午餐設計表!I24 -> 3 | J24: =午餐設計表!J24 -> 公斤 | K24: =午餐設計表!K24 -> 黑輪(甜不辣絲)(CAS) | L24: =午餐設計表!L24 -> 9 | ... S24: =午餐設計表!S24 -> 公斤 | U24: =午餐設計表!U24 -> 脂肪： | V24: =午餐設計表!V24 -> 25.5 g
B25: =午餐設計表!B25 -> 日 | E25: =午餐設計表!E25 -> 洋蔥(切小丁) | F25: =午餐設計表!F25 -> 5 | G25: =午餐設計表!G25 -> 公斤 | H25: =午餐設計表!H25 -> 熟花生 | I25: =午餐設計表!I25 -> 3 | J25: =午餐設計表!J25 -> 公斤 | K25: =午餐設計表!K25 -> 紅蘿蔔(切片) | L25: =午餐設計表!L25 -> 2 | ... S25: =午餐設計表!S25 -> 包 | U25: =午餐設計表!U25 -> 蛋白質： | V25: =午餐設計表!V25 -> 42.4 g
B26: =午餐設計表!B26 -> 星期三 | E26: =午餐設計表!E26 -> 蒜仁(0.6K/包) | F26: =午餐設計表!F26 -> 1 | G26: =午餐設計表!G26 -> 包 | H26: =午餐設計表!H26 -> 紅蘿蔔(切小丁) | I26: =午餐設計表!I26 -> 3 | J26: =午餐設計表!J26 -> 公斤 | K26: =午餐設計表!K26 -> 芹菜(去葉) | L26: =午餐設計表!L26 -> 2 | ... S26: =午餐設計表!S26 -> 0 | U26: =午餐設計表!U26 -> 0 | V26: =午餐設計表!V26 -> 0
E27: =午餐設計表!E27 -> 蔥(0.5K/把) | F27: =午餐設計表!F27 -> 1 | G27: =午餐設計表!G27 -> 把 | H27: =午餐設計表!H27 -> 薑片(0.3K) | I27: =午餐設計表!I27 -> 1 | J27: =午餐設計表!J27 -> 包 | K27: =午餐設計表!K27 -> 0 | L27: =午餐設計表!L27 -> 0 | ... S27: =午餐設計表!S27 -> 0 | U27: =午餐設計表!U27 -> 0 | V27: =午餐設計表!V27 -> 0
C28: =午餐設計表!C28 -> 0 | E28: =午餐設計表!E28 -> 蕃茄醬(3K)可果美 | F28: =午餐設計表!F28 -> 1 | G28: =午餐設計表!G28 -> 罐 | H28: =午餐設計表!H28 -> 0 | I28: =午餐設計表!I28 -> 0 | J28: =午餐設計表!J28 -> 0 | K28: =午餐設計表!K28 -> 0 | L28: =午餐設計表!L28 -> 0 | ... S28: =午餐設計表!S28 -> 0 | U28: =午餐設計表!U28 -> 0 | V28: =午餐設計表!V28 -> 0
B29: =午餐設計表!B29 -> 餐數 | C29: =午餐設計表!C29 -> 0 | E29: =午餐設計表!E29 -> 薑絲(0.6K/包) | F29: =午餐設計表!F29 -> 1 | G29: =午餐設計表!G29 -> 包 | H29: =午餐設計表!H29 -> 0 | I29: =午餐設計表!I29 -> 0 | J29: =午餐設計表!J29 -> 0 | K29: =午餐設計表!K29 -> 0 | L29: =午餐設計表!L29 -> 0 | ... S29: =午餐設計表!S29 -> 0 | U29: =午餐設計表!U29 -> 0 | V29: =午餐設計表!V29 -> 0
B30: =午餐設計表!B30 -> 374 | C30: =午餐設計表!C30 -> 0 | E30: =午餐設計表!E30 -> 全穀雜糧類:6.8份 乳品類:1.0份 豆魚蛋肉類:3.2份 蔬菜類:1.5份 水果類:0.0份 油脂與堅果種子類:2.0份 | U30: =午餐設計表!U30 -> 0 | V30: =午餐設計表!V30 -> 0
B31: =午餐設計表!B31 -> 3 | C31: =午餐設計表!C31 -> 0 | D31: =午餐設計表!D31 -> 紫米飯 | E31: =午餐設計表!E31 -> 瓜仔肉燥 | H31: =午餐設計表!H31 -> 白菜滷 | K31: =午餐設計表!K31 -> 蕃茄炒蛋 | N31: =午餐設計表!N31 -> 炒履歷青江菜 | Q31: =午餐設計表!Q31 -> 排骨貢丸湯 | T31: =午餐設計表!T31 -> 0 | U31: =午餐設計表!U31 -> 熱量： | V31: =午餐設計表!V31 -> 802大卡
B32: =午餐設計表!B32 -> 月 | E32: =午餐設計表!E32 -> 溫體絞肉(粗瘦)陞輝 | F32: =午餐設計表!F32 -> 27 | G32: =午餐設計表!G32 -> 公斤 | H32: =午餐設計表!H32 -> 大白菜(切實重) | I32: =午餐設計表!I32 -> 27 | J32: =午餐設計表!J32 -> 公斤 | K32: =午餐設計表!K32 -> 洗選蛋(QR) | L32: =午餐設計表!L32 -> 22 | ... S32: =午餐設計表!S32 -> 公斤 | U32: =午餐設計表!U32 -> 醣類： | V32: =午餐設計表!V32 -> 109.4 g
B33: =午餐設計表!B33 -> 14 | E33: =午餐設計表!E33 -> 碎瓜(玖順) | F33: =午餐設計表!F33 -> 4 | G33: =午餐設計表!G33 -> 公斤 | H33: =午餐設計表!H33 -> 溫體肉絲(陞輝)(臺灣) | I33: =午餐設計表!I33 -> 3 | J33: =午餐設計表!J33 -> 公斤 | K33: =午餐設計表!K33 -> 蕃茄(切中丁) | L33: =午餐設計表!L33 -> 9 | ... S33: =午餐設計表!S33 -> 公斤 | U33: =午餐設計表!U33 -> 脂肪： | V33: =午餐設計表!V33 -> 23.5 g
B34: =午餐設計表!B34 -> 日 | E34: =午餐設計表!E34 -> 油蔥酥(大-600g) | F34: =午餐設計表!F34 -> 1 | G34: =午餐設計表!G34 -> 包 | H34: =午餐設計表!H34 -> 金針菇(QR) | I34: =午餐設計表!I34 -> 3 | J34: =午餐設計表!J34 -> 公斤 | K34: =午餐設計表!K34 -> 蕃茄醬(3K)可果美 | L34: =午餐設計表!L34 -> 1 | ... S34: =午餐設計表!S34 -> 公斤 | U34: =午餐設計表!U34 -> 蛋白質： | V34: =午餐設計表!V34 -> 34.7 g
B35: =午餐設計表!B35 -> 星期四 | E35: =午餐設計表!E35 -> 蒜仁(0.6K/包) | F35: =午餐設計表!F35 -> 1 | G35: =午餐設計表!G35 -> 包 | H35: =午餐設計表!H35 -> 紅蘿蔔(切絲) | I35: =午餐設計表!I35 -> 1 | J35: =午餐設計表!J35 -> 公斤 | K35: =午餐設計表!K35 -> 蔥(0.5K/把) | L35: =午餐設計表!L35 -> 0.5 | ... S35: =午餐設計表!S35 -> 0 | U35: =午餐設計表!U35 -> 0 | V35: =午餐設計表!V35 -> 0
E36: =午餐設計表!E36 -> 蔥(0.5K/把) | F36: =午餐設計表!F36 -> 1 | G36: =午餐設計表!G36 -> 把 | H36: =午餐設計表!H36 -> 木耳(切絲)(QR) | I36: =午餐設計表!I36 -> 0.5 | J36: =午餐設計表!J36 -> 公斤 | K36: =午餐設計表!K36 -> 0 | L36: =午餐設計表!L36 -> 0 | ... S36: =午餐設計表!S36 -> 0 | U36: =午餐設計表!U36 -> 0 | V36: =午餐設計表!V36 -> 0
C37: =午餐設計表!C37 -> 0 | E37: =午餐設計表!E37 -> 乾香菇(小) | F37: =午餐設計表!F37 -> 0.3 | G37: =午餐設計表!G37 -> 公斤 | H37: =午餐設計表!H37 -> 非基改豆皮(Ｋ) | I37: =午餐設計表!I37 -> 0.3 | J37: =午餐設計表!J37 -> 公斤 | K37: =午餐設計表!K37 -> 0 | L37: =午餐設計表!L37 -> 0 | ... S37: =午餐設計表!S37 -> 0 | U37: =午餐設計表!U37 -> 0 | V37: =午餐設計表!V37 -> 0
B38: =午餐設計表!B38 -> 餐數 | C38: =午餐設計表!C38 -> 0 | E38: =午餐設計表!E38 -> 0 | F38: =午餐設計表!F38 -> 0 | G38: =午餐設計表!G38 -> 0 | H38: =午餐設計表!H38 -> 冬蝦 | I38: =午餐設計表!I38 -> 0.1 | J38: =午餐設計表!J38 -> 公斤 | K38: =午餐設計表!K38 -> 0 | L38: =午餐設計表!L38 -> 0 | ... S38: =午餐設計表!S38 -> 0 | U38: =午餐設計表!U38 -> 0 | V38: =午餐設計表!V38 -> 0
B39: =午餐設計表!B39 -> 374 | C39: =午餐設計表!C39 -> 0 | E39: =午餐設計表!E39 -> 全穀雜糧類:6.5份 乳品類:0.0份 豆魚蛋肉類:2.8份 蔬菜類:2.0份 水果類:0.0份 油脂與堅果種子類:2.5份 | U39: =午餐設計表!U39 -> 0 | V39: =午餐設計表!V39 -> 0
B40: =午餐設計表!B40 -> 3 | C40: =午餐設計表!C40 -> 0 | D40: =午餐設計表!D40 -> 白米飯 | E40: =午餐設計表!E40 -> 紅燒豬腳 | H40: =午餐設計表!H40 -> 玉米四寶 | K40: =午餐設計表!K40 -> 螞蟻上樹 | N40: =午餐設計表!N40 -> 炒有機油菜 | Q40: =午餐設計表!Q40 -> 羅宋湯 | T40: =午餐設計表!T40 -> 水果(精進20元) | U40: =午餐設計表!U40 -> 熱量： | V40: =午餐設計表!V40 -> 856大卡
...
