Workbook

Sheet 午餐設計表
B1: 0129 彰化縣線西鄉線西國中 111學年度第2學期第5週午餐菜單
B2: 材料用量 | T2: 9車
B3: 日期 | C3: 星期 | D3: 主食 | E3: 主菜 | H3: 副菜 | K3: 副菜 | N3: 副菜 | Q3: 湯 | T3: 水果 | U3: 營養分析
B4: 3 | D4: 白米飯(385+16素)主食雜糧先送 | E4: 瓜仔肉燥 | H4: 三杯百頁 | K4: 桂竹筍炒肉絲 | N4: 炒高麗菜 | Q4: 菜頭龍骨湯 | U4: 熱量： | V4: 791大卡 | W4: 全穀雜糧類 | X4: 6.1份
B5: 月 | E5: 絞肉香里(粗) | F5: 30 | G5: 公斤 | H5: 杏鮑菇(A)(QR) | I5: 15 | J5: 公斤 | K5: 熟桂竹筍(切)淨重 | L5: 28 | M5: 公斤 | N5: 高麗菜(去心)實重 | O5: 36 | P5: 公斤 | Q5: 菜頭(去皮) | R5: 15 | S5: 公斤 | U5: 醣類： | V5: 103.6 g | W5: 乳品類 | X5: 0.0份
B6: 13 | E6: 碎瓜(玖順) | F6: 5 | G6: 公斤 | H6: 百頁丁(中丁)榮洲 | I6: 15 | J6: 公斤 | K6: 肉絲香里 | L6: 6 | M6: 公斤 | N6: 碎蒜(0.6K/包) | O6: 1 | P6: 包 | Q6: 龍骨丁(CAS) | R6: 3 | S6: 公斤 | U6: 脂肪： | V6: 22.3 g | W6: 豆魚蛋肉類 | X6: 3.7份
B7: 日 | E7: 非基改小小豆干丁榮洲 | F7: 5 | G7: 公斤 | H7: 紅蘿蔔(去皮) | I7: 2 | J7: 公斤 | K7: 木耳(整朵) | L7: 1 | M7: 公斤 | N7: 紅蘿蔔(去皮) | O7: 1 | P7: 公斤 | Q7: 香菜(150g/把) | R7: 1 | S7: 把 | U7: 蛋白質： | V7: 33.1 g | W7: 蔬菜類 | X7: 2.4份
B8: 星期一 | E8: 油蔥酥(大-600g) | F8: 1 | G8: 包 | H8: 九層塔 | I8: 0.3 | J8: 公斤 | K8: 紅蘿蔔(去皮) | L8: 1 | M8: 公斤 | W8: 水果類 | X8: 0.0份
E9: 蒜仁(0.6K/包) | F9: 0.5 | G9: 包 | H9: 薑母 | I9: 0.3 | J9: 公斤 | K9: 新鮮辣椒 | L9: 0.3 | M9: 公斤 | W9: 油脂與堅果種子類 | X9: 2.3份
E10: 蔥(0.5K/把) | F10: 0.5 | G10: 把 | K10: 薑母 | L10: 0.3 | M10: 公斤
B11: 餐數
B12: 401 | E12: 全穀雜糧類:5.1份 乳品類:0.0份 豆魚蛋肉類:2.7份 蔬菜類:1.8份 水果類:0.0份 油脂與堅果種子類:2.0份
B13: 3 | D13: 小米飯 | E13: 清蒸石斑魚 | H13: 洋蔥炒肉絲 | K13: 黃瓜什錦 | N13: 炒青江菜 | Q13: 五福芋圓湯 | T13: 茂谷(主菜換401+10) | U13: 熱量： | V13: 849大卡 | W13: 全穀雜糧類 | X13: 5.9份
B14: 月 | E14: 石斑魚丁(QR農委會) | F14: 31 | G14: 公斤 | H14: 洋蔥 | I14: 18 | J14: 公斤 | K14: 大黃瓜(去皮籽實重) | L14: 27 | M14: 公斤 | N14: 青江菜(去頭)實重 | O14: 36 | P14: 公斤 | Q14: 二砂台糖(1K/包) | R14: 10 | S14: 包 | U14: 醣類： | V14: 118.0 g | W14: 乳品類 | X14: 0.0份
B15: 14 | E15: 玻璃紙 | F15: 20 | G15: 張 | H15: 肉絲香里 | I15: 12 | J15: 公斤 | K15: 黑輪條(小)(如記) | L15: 6 | M15: 公斤 | N15: 碎蒜(0.6K/包) | O15: 1 | P15: 包 | Q15: 五彩芋圓(0.6k/包) | R15: 10 | S15: 包 | U15: 脂肪： | V15: 23.3 g | W15: 豆魚蛋肉類 | X15: 3.7份
B16: 日 | E16: 剝皮辣椒(450g) | F16: 5 | G16: 罐 | H16: 杏鮑菇(A)(QR) | I16: 6 | J16: 公斤 | K16: 木耳(整朵) | L16: 1.5 | M16: 公斤 | Q16: 大粉圓 | R16: 6 | S16: 公斤 | U16: 蛋白質： | V16: 36.8 g | W16: 蔬菜類 | X16: 2.4份
B17: 星期二 | E17: 豆腐榮洲(約4.5K)非基因 | F17: 2 | G17: 板 | H17: 彩色椒(混合) | I17: 3 | J17: 公斤 | K17: 紅蘿蔔(去皮) | L17: 1.5 | M17: 公斤 | W17: 水果類 | X17: 0.0份
E18: 紅蘿蔔(去皮) | F18: 1.5 | G18: 公斤 | K18: 冬蝦 | L18: 0.3 | M18: 公斤 | W18: 油脂與堅果種子類 | X18: 1.4份
E19: 袖珍菇(QR) | F19: 1.5 | G19: 公斤
B20: 餐數 | E20: 鴻喜菇 (QR) 1.5公斤,蔥(1K/把) 1把,薑絲(0.6K/包) 1包,魚露(360ml/罐) 1罐
B21: 401 | E21: 全穀雜糧類:5.9份 乳品類:0.0份 豆魚蛋肉類:3.7份 蔬菜類:1.8份 水果類:0.0份 油脂與堅果種子類:1.8份
B22: 3 | D22: 燕麥飯(327+16素) | E22: 御膳大排 | H22: 田園咖哩 | K22: 客家小炒 | N22: 炒油菜 | Q22: 味噌海芽湯 | U22: 熱量： | V22: 815大卡 | W22: 全穀雜糧類 | X22: 6.3份
B23: 月 | E23: 強匠御膳大排(75g)-片 | F23: 327 | G23: 片 | H23: 洋芋(去皮-泡水) | I23: 10 | J23: 公斤 | K23: 西芹菜(去頭葉) | L23: 10 | M23: 公斤 | N23: 油菜(去頭)實重 | O23: 28 | P23: 公斤 | Q23: 味噌(Ｋ) | R23: 4 | S23: 公斤 | U23: 醣類： | V23: 110.7 g | W23: 乳品類 | X23: 0.0份
B24: 15 | E24: 強匠御膳大排(75g)備品-片 | F24: 30 | G24: 片 | H24: 蕃薯(去皮) | I24: 6 | J24: 公斤 | K24: 非基改豆干片(榮洲) | L24: 10 | M24: 公斤 | N24: 碎蒜(0.6K/包) | O24: 1 | P24: 包 | Q24: 大骨(CAS) | R24: 3 | S24: 公斤 | U24: 脂肪： | V24: 24.4 g | W24: 豆魚蛋肉類 | X24: 2.8份
B25: 日 | H25: 洋蔥 | I25: 5 | J25: 公斤 | K25: 肉絲香里 | L25: 5 | M25: 公斤 | Q25: 海帶芽(乾)(廠牌/日期) | R25: 0.4 | S25: 公斤 | U25: 蛋白質： | V25: 32.1 g | W25: 蔬菜類 | X25: 1.4份
B26: 星期三 | H26: 瘦絞肉粗(1比9)香里 | I26: 5 | J26: 公斤 | K26: 杏鮑菇(A)(QR) | L26: 3 | M26: 公斤 | W26: 水果類 | X26: 0.0份
H27: 紅蘿蔔(去皮) | I27: 3 | J27: 公斤 | K27: 魷魚絲(乾) | L27: 0.3 | M27: 公斤 | W27: 油脂與堅果種子類 | X27: 2.3份
H28: 咖哩粉小磨坊(600g) | I28: 1 | J28: 盒
B29: 餐數
B30: 343 | E30: 全穀雜糧類:6.0份 乳品類:0.0份 豆魚蛋肉類:2.8份 蔬菜類:1.5份 水果類:0.0份 油脂與堅果種子類:2.0份
B31: 3 | D31: 紫米飯 | E31: 泰式酸辣魚丁(獎勵金) | H31: 蔥燒肉末豆腐 | K31: 白玉什錦 | N31: 炒蚵白菜 | Q31: 冬瓜大骨湯 | T31: 愛心牛奶球(401+10)(15元精進) | U31: 熱量： | V31: 842大卡 | W31: 全穀雜糧類 | X31: 6.9份
B32: 月 | E32: 鯰魚丁(QR)(Ｋ) | F32: 35 | G32: 公斤 | H32: 豆腐非基改(切大丁)(4.5K) | I32: 7 | J32: 板 | K32: 菜頭(去皮) | L32: 23 | M32: 公斤 | N32: 蚵白菜(去頭)實重 | O32: 36 | P32: 公斤 | Q32: 冬瓜(去皮籽實重) | R32: 15 | S32: 公斤 | U32: 醣類： | V32: 116.0 g | W32: 乳品類 | X32: 0.0份
B33: 16 | E33: 洋蔥 | F33: 6 | G33: 公斤 | H33: 瘦絞肉粗(1比9)香里 | I33: 6 | J33: 公斤 | K33: 肉絲香里 | L33: 6 | M33: 公斤 | N33: 薑絲(0.6K/包) | O33: 1 | P33: 包 | Q33: 大骨(CAS) | R33: 3 | S33: 公斤 | U33: 脂肪： | V33: 23.1 g | W33: 豆魚蛋肉類 | X33: 2.4份
B34: 日 | E34: 泰式酸辣醬(900g) | F34: 3 | G34: 罐 | H34: 蔥(0.5K/把) | I34: 0.5 | J34: 把 | K34: 杏鮑菇(A)(QR) | L34: 3 | M34: 公斤 | Q34: 薑絲(0.6K/包) | R34: 0.5 | S34: 包 | U34: 蛋白質： | V34: 32.1 g | W34: 蔬菜類 | X34: 1.9份
B35: 星期四 | E35: 蒜仁(0.6K/包) | F35: 1 | G35: 包 | K35: 紅蘿蔔(去皮) | L35: 1 | M35: 公斤 | W35: 水果類 | X35: 1.2份
E36: 蔥(0.5K/把) | F36: 1 | G36: 把 | W36: 油脂與堅果種子類 | X36: 2.6份
E37: 薑絲(0.6K/包) | F37: 1 | G37: 包
B38: 餐數
B39: 401 | E39: 全穀雜糧類:6.2份 乳品類:0.0份 豆魚蛋肉類:2.8份 蔬菜類:1.9份 水果類:1.2份 油脂與堅果種子類:2.0份
B40: 3 | D40: 五穀米飯 | E40: 芋頭燒雞 | H40: 白菜燴肉羹 | K40: 蔥花碎脯蛋 | N40: 炒有機青松菜 | Q40: 牛蒡雞湯 | T40: 光泉優酪乳(20元精進)(401+10備) | U40: 熱量： | V40: 862大卡 | W40: 全穀雜糧類 | X40: 4.4份
...

Sheet 意見表
B2: =SUBSTITUTE(午餐設計表!B1,"食譜設計","意見調查表") -> 0129 彰化縣線西鄉線西國中 111學年度第2學期第5週午餐菜單
B3: （ ）年（ ）班 級任老師：
B4: 日期 | C4: 星期 | D4: 品名 | E4: 色、香、味 | H4: 數量 | K4: 衛生安全 | N4: 建議事項
E5: 滿意 | F5: 尚可 | G5: 改進 | H5: 太多 | I5: 適量 | J5: 不足 | K5: 滿意 | L5: 尚可 | M5: 改進
B6: =IF(午餐設計表!B4<>"",午餐設計表!B4,"") -> 3 | C6: =RIGHT(IF(午餐設計表!B8<>"",午餐設計表!B8,""),1) -> 一 | D6: =IF(午餐設計表!D4>"",午餐設計表!D4,"") -> 白米飯(385+16素)主食雜糧先送
B7: 月 | D7: =IF(午餐設計表!E4>"",午餐設計表!E4,"") -> 瓜仔肉燥
B8: =IF(午餐設計表!B6<>"",午餐設計表!B6,"") -> 13 | D8: =IF(午餐設計表!H4>"",午餐設計表!H4,"") -> 三杯百頁
B9: 日 | D9: =IF(午餐設計表!K4>"",午餐設計表!K4,"") -> 桂竹筍炒肉絲
D10: =IF(午餐設計表!N4>"",午餐設計表!N4,"") -> 炒高麗菜
D11: =IF(午餐設計表!Q4>"",午餐設計表!Q4,"") -> 菜頭龍骨湯
D12: =IF(午餐設計表!T4>"",午餐設計表!T4,"")
B13: =IF(午餐設計表!B13<>"",午餐設計表!B13,"") -> 3 | C13: =RIGHT(IF(午餐設計表!B17<>"",午餐設計表!B17,""),1) -> 二 | D13: =IF(午餐設計表!D13>"",午餐設計表!D13,"") -> 小米飯
B14: 月 | D14: =IF(午餐設計表!E13>"",午餐設計表!E13,"") -> 清蒸石斑魚
B15: =IF(午餐設計表!B15<>"",午餐設計表!B15,"") -> 14 | D15: =IF(午餐設計表!H13>"",午餐設計表!H13,"") -> 洋蔥炒肉絲
B16: 日 | D16: =IF(午餐設計表!K13>"",午餐設計表!K13,"") -> 黃瓜什錦
D17: =IF(午餐設計表!N13>"",午餐設計表!N13,"") -> 炒青江菜
D18: =IF(午餐設計表!Q13>"",午餐設計表!Q13,"") -> 五福芋圓湯
D19: =IF(午餐設計表!T13>"",午餐設計表!T13,"") -> 茂谷(主菜換401+10)
B20: =IF(午餐設計表!B22<>"",午餐設計表!B22,"") -> 3 | C20: =RIGHT(IF(午餐設計表!B26<>"",午餐設計表!B26,""),1) -> 三 | D20: =IF(午餐設計表!D22>"",午餐設計表!D22,"") -> 燕麥飯(327+16素)
B21: 月 | D21: =IF(午餐設計表!E22>"",午餐設計表!E22,"") -> 御膳大排
B22: =IF(午餐設計表!B24<>"",午餐設計表!B24,"") -> 15 | D22: =IF(午餐設計表!H22>"",午餐設計表!H22,"") -> 田園咖哩
B23: 日 | D23: =IF(午餐設計表!K22>"",午餐設計表!K22,"") -> 客家小炒
D24: =IF(午餐設計表!N22>"",午餐設計表!N22,"") -> 炒油菜
D25: =IF(午餐設計表!Q22>"",午餐設計表!Q22,"") -> 味噌海芽湯
D26: =IF(午餐設計表!T22>"",午餐設計表!T22,"")
B27: =IF(午餐設計表!B31<>"",午餐設計表!B31,"") -> 3 | C27: =RIGHT(IF(午餐設計表!B35<>"",午餐設計表!B35,""),1) -> 四 | D27: =IF(午餐設計表!D31>"",午餐設計表!D31,"") -> 紫米飯
B28: 月 | D28: =IF(午餐設計表!E31>"",午餐設計表!E31,"") -> 泰式酸辣魚丁(獎勵金)
B29: =IF(午餐設計表!B33<>"",午餐設計表!B33,"") -> 16 | D29: =IF(午餐設計表!H31>"",午餐設計表!H31,"") -> 蔥燒肉末豆腐
B30: 日 | D30: =IF(午餐設計表!K31>"",午餐設計表!K31,"") -> 白玉什錦
D31: =IF(午餐設計表!N31>"",午餐設計表!N31,"") -> 炒蚵白菜
D32: =IF(午餐設計表!Q31>"",午餐設計表!Q31,"") -> 冬瓜大骨湯
D33: =IF(午餐設計表!T31>"",午餐設計表!T31,"") -> 愛心牛奶球(401+10)(15元精進)
B34: =IF(午餐設計表!B40<>"",午餐設計表!B40,"") -> 3 | C34: =RIGHT(IF(午餐設計表!B44<>"",午餐設計表!B44,""),1) -> 五 | D34: =IF(午餐設計表!D40>"",午餐設計表!D40,"") -> 五穀米飯
B35: 月 | D35: =IF(午餐設計表!E40>"",午餐設計表!E40,"") -> 芋頭燒雞
B36: =IF(午餐設計表!B42<>"",午餐設計表!B42,"") -> 17 | D36: =IF(午餐設計表!H40>"",午餐設計表!H40,"") -> 白菜燴肉羹
B37: 日 | D37: =IF(午餐設計表!K40>"",午餐設計表!K40,"") -> 蔥花碎脯蛋
D38: =IF(午餐設計表!N40>"",午餐設計表!N40,"") -> 炒有機青松菜
D39: =IF(午餐設計表!Q40>"",午餐設計表!Q40,"") -> 牛蒡雞湯
D40: =IF(午餐設計表!T40>"",午餐設計表!T40,"") -> 光泉優酪乳(20元精進)(401+10備)
B42: 備註：此資料為全班人數之滿意程度統計（50%↑滿意；25-49% 尚可；25%↓需改進）
...

Sheet 彰化公版
A1: =午餐設計表!B1 -> 0129 彰化縣線西鄉線西國中 111學年度第2學期第5週午餐菜單
A2: 食材以可食量標示
A3: 日期 | B3: 主食 | C3: 備註 | E3: 主菜 | F3: 備註 | H3: 副菜 | I3: 備註 | K3: 副菜 | L3: 備註 | N3: 副菜 | O3: 備註 | Q3: 湯 | R3: 備註 | T3: 水果 | U3: 營養分析 | V3: 食物類別 | W3: 份數
A4: =午餐設計表!B4 -> 3 | B4: =午餐設計表!D4 -> 白米飯(385+16素)主食雜糧先送 | C4: 蒸 | D4: 個人量(克) | E4: =午餐設計表!E4 -> 瓜仔肉燥 | G4: 個人量(克) | H4: =午餐設計表!H4 -> 三杯百頁 | J4: 個人量(克) | K4: =午餐設計表!K4 -> 桂竹筍炒肉絲 | M4: 個人量(克) | N4: =午餐設計表!N4 -> 炒高麗菜 | P4: 個人量(克) | Q4: =午餐設計表!Q4 -> 菜頭龍骨湯 | S4: 個人量(克) | T4: =午餐設計表!T4 -> 0 | U4: 醣類： | V4: 全穀雜糧類 | W4: =午餐設計表!X4 -> 6.1份
A5: 月 | E5: =午餐設計表!E5 -> 絞肉香里(粗) | G5: =午餐設計表!F5 -> 30 | H5: =午餐設計表!H5 -> 杏鮑菇(A)(QR) | J5: =午餐設計表!I5 -> 15 | K5: =午餐設計表!K5 -> 熟桂竹筍(切)淨重 | M5: =午餐設計表!L5 -> 28 | N5: =午餐設計表!N5 -> 高麗菜(去心)實重 | P5: =午餐設計表!O5 -> 36 | Q5: =午餐設計表!Q5 -> 菜頭(去皮) | S5: =午餐設計表!R5 -> 15 | U5: =午餐設計表!V5 -> 103.6 g | V5: 乳品類 | W5: =午餐設計表!X5 -> 0.0份
A6: =午餐設計表!B6 -> 13 | E6: =午餐設計表!E6 -> 碎瓜(玖順) | G6: =午餐設計表!F6 -> 5 | H6: =午餐設計表!H6 -> 百頁丁(中丁)榮洲 | J6: =午餐設計表!I6 -> 15 | K6: =午餐設計表!K6 -> 肉絲香里 | M6: =午餐設計表!L6 -> 6 | N6: =午餐設計表!N6 -> 碎蒜(0.6K/包) | P6: =午餐設計表!O6 -> 1 | Q6: =午餐設計表!Q6 -> 龍骨丁(CAS) | S6: =午餐設計表!R6 -> 3 | U6: 脂肪： | V6: 豆魚蛋肉類 | W6: =午餐設計表!X6 -> 3.7份
A7: 日 | E7: =午餐設計表!E7 -> 非基改小小豆干丁榮洲 | G7: =午餐設計表!F7 -> 5 | H7: =午餐設計表!H7 -> 紅蘿蔔(去皮) | J7: =午餐設計表!I7 -> 2 | K7: =午餐設計表!K7 -> 木耳(整朵) | M7: =午餐設計表!L7 -> 1 | N7: =午餐設計表!N7 -> 紅蘿蔔(去皮) | P7: =午餐設計表!O7 -> 1 | Q7: =午餐設計表!Q7 -> 香菜(150g/把) | S7: =午餐設計表!R7 -> 1 | U7: =午餐設計表!V6 -> 22.3 g | V7: 蔬菜類 | W7: =午餐設計表!X7 -> 2.4份
A8: 星期一 | B8: =午餐設計表!E8 -> 油蔥酥(大-600g) | D8: =午餐設計表!F8 -> 1 | E8: =午餐設計表!E8 -> 油蔥酥(大-600g) | G8: =午餐設計表!F8 -> 1 | H8: =午餐設計表!H8 -> 九層塔 | J8: =午餐設計表!I8 -> 0.3 | K8: =午餐設計表!K8 -> 紅蘿蔔(去皮) | M8: =午餐設計表!L8 -> 1 | N8: =午餐設計表!N8 -> 0 | P8: =午餐設計表!O8 -> 0 | Q8: =午餐設計表!Q8 -> 0 | S8: =午餐設計表!R8 -> 0 | U8: 蛋白質： | V8: 水果類 | W8: =午餐設計表!X8 -> 0.0份
B9: =午餐設計表!E9 -> 蒜仁(0.6K/包) | D9: =午餐設計表!F9 -> 0.5 | E9: =午餐設計表!E9 -> 蒜仁(0.6K/包) | G9: =午餐設計表!F9 -> 0.5 | H9: =午餐設計表!H9 -> 薑母 | J9: =午餐設計表!I9 -> 0.3 | K9: =午餐設計表!K9 -> 新鮮辣椒 | M9: =午餐設計表!L9 -> 0.3 | N9: =午餐設計表!N9 -> 0 | P9: =午餐設計表!O9 -> 0 | Q9: =午餐設計表!Q9 -> 0 | S9: =午餐設計表!R9 -> 0 | U9: =午餐設計表!V7 -> 33.1 g | V9: 油脂與堅果種子類 | W9: =午餐設計表!X9 -> 2.3份
A10: 餐數 | B10: =午餐設計表!E10 -> 蔥(0.5K/把) | D10: =午餐設計表!F10 -> 0.5 | E10: =午餐設計表!E10 -> 蔥(0.5K/把) | G10: =午餐設計表!F10 -> 0.5 | H10: =午餐設計表!H10 -> 0 | J10: =午餐設計表!I10 -> 0 | K10: =午餐設計表!K10 -> 薑母 | M10: =午餐設計表!L10 -> 0.3 | N10: =午餐設計表!N10 -> 0 | P10: =午餐設計表!O10 -> 0 | Q10: =午餐設計表!Q10 -> 0 | S10: =午餐設計表!R10 -> 0 | U10: 熱量：
A11: =午餐設計表!B12 -> 401 | B11: =午餐設計表!E11 -> 0 | D11: =午餐設計表!F11 -> 0 | E11: =午餐設計表!E11 -> 0 | G11: =午餐設計表!F11 -> 0 | H11: =午餐設計表!H11 -> 0 | J11: =午餐設計表!I11 -> 0 | K11: =午餐設計表!K11 -> 0 | M11: =午餐設計表!L11 -> 0 | N11: =午餐設計表!N11 -> 0 | P11: =午餐設計表!O11 -> 0 | Q11: =午餐設計表!Q11 -> 0 | S11: =午餐設計表!R11 -> 0 | U11: =午餐設計表!V4 -> 791大卡
A12: =午餐設計表!B13 -> 3 | B12: =午餐設計表!D13 -> 小米飯 | C12: 蒸 | E12: =午餐設計表!E13 -> 清蒸石斑魚 | H12: =午餐設計表!H13 -> 洋蔥炒肉絲 | K12: =午餐設計表!K13 -> 黃瓜什錦 | N12: =午餐設計表!N13 -> 炒青江菜 | Q12: =午餐設計表!Q13 -> 五福芋圓湯 | T12: =午餐設計表!T13 -> 茂谷(主菜換401+10) | U12: 醣類： | V12: 全穀雜糧類 | W12: =午餐設計表!X13 -> 5.9份
A13: 月 | E13: =午餐設計表!E14 -> 石斑魚丁(QR農委會) | G13: =午餐設計表!F14 -> 31 | H13: =午餐設計表!H14 -> 洋蔥 | J13: =午餐設計表!I14 -> 18 | K13: =午餐設計表!K14 -> 大黃瓜(去皮籽實重) | M13: =午餐設計表!L14 -> 27 | N13: =午餐設計表!N14 -> 青江菜(去頭)實重 | P13: =午餐設計表!O14 -> 36 | Q13: =午餐設計表!Q14 -> 二砂台糖(1K/包) | S13: =午餐設計表!R14 -> 10 | U13: =午餐設計表!V14 -> 118.0 g | V13: 乳品類 | W13: =午餐設計表!X14 -> 0.0份
A14: =午餐設計表!B15 -> 14 | E14: =午餐設計表!E15 -> 玻璃紙 | G14: =午餐設計表!F15 -> 20 | H14: =午餐設計表!H16 -> 杏鮑菇(A)(QR) | J14: =午餐設計表!I16 -> 6 | K14: =午餐設計表!K15 -> 黑輪條(小)(如記) | M14: =午餐設計表!L15 -> 6 | N14: =午餐設計表!N15 -> 碎蒜(0.6K/包) | P14: =午餐設計表!O15 -> 1 | Q14: =午餐設計表!Q15 -> 五彩芋圓(0.6k/包) | S14: =午餐設計表!R15 -> 10 | U14: 脂肪： | V14: 豆魚蛋肉類 | W14: =午餐設計表!X15 -> 3.7份
A15: 日 | E15: =午餐設計表!E16 -> 剝皮辣椒(450g) | G15: =午餐設計表!F16 -> 5 | H15: =午餐設計表!H15 -> 肉絲香里 | J15: =午餐設計表!I15 -> 12 | K15: =午餐設計表!K16 -> 木耳(整朵) | M15: =午餐設計表!L16 -> 1.5 | N15: =午餐設計表!N16 -> 0 | P15: =午餐設計表!O16 -> 0 | Q15: =午餐設計表!Q16 -> 大粉圓 | S15: =午餐設計表!R16 -> 6 | U15: =午餐設計表!V15 -> 23.3 g | V15: 蔬菜類 | W15: =午餐設計表!X16 -> 2.4份
A16: 星期二 | E16: =午餐設計表!E17 -> 豆腐榮洲(約4.5K)非基因 | G16: =午餐設計表!F17 -> 2 | H16: =午餐設計表!H17 -> 彩色椒(混合) | J16: =午餐設計表!I17 -> 3 | K16: =午餐設計表!K17 -> 紅蘿蔔(去皮) | M16: =午餐設計表!L17 -> 1.5 | N16: =午餐設計表!N17 -> 0 | P16: =午餐設計表!O17 -> 0 | Q16: =午餐設計表!Q17 -> 0 | S16: =午餐設計表!R17 -> 0 | U16: 蛋白質： | V16: 水果類 | W16: =午餐設計表!X17 -> 0.0份
E17: =午餐設計表!E18 -> 紅蘿蔔(去皮) | G17: =午餐設計表!F18 -> 1.5 | H17: =午餐設計表!#REF! -> #REF! | J17: =午餐設計表!#REF! -> #REF! | K17: =午餐設計表!K18 -> 冬蝦 | M17: =午餐設計表!L18 -> 0.3 | N17: =午餐設計表!N18 -> 0 | P17: =午餐設計表!O18 -> 0 | Q17: =午餐設計表!Q18 -> 0 | S17: =午餐設計表!R18 -> 0 | U17: =午餐設計表!V16 -> 36.8 g | V17: 油脂與堅果種子類 | W17: =午餐設計表!X18 -> 1.4份
A18: 餐數 | E18: =午餐設計表!E19 -> 袖珍菇(QR) | G18: =午餐設計表!F19 -> 1.5 | H18: =午餐設計表!H19 -> 0 | J18: =午餐設計表!I19 -> 0 | K18: =午餐設計表!K19 -> 0 | M18: =午餐設計表!L19 -> 0 | N18: =午餐設計表!N19 -> 0 | P18: =午餐設計表!O19 -> 0 | Q18: =午餐設計表!Q19 -> 0 | S18: =午餐設計表!R19 -> 0 | U18: 熱量：
E19: =午餐設計表!E20 -> 鴻喜菇 (QR) 1.5公斤,蔥(1K/把) 1把,薑絲(0.6K/包) 1包,魚露(360ml/罐) 1罐 | G19: =午餐設計表!F20 -> 0 | H19: =午餐設計表!H20 -> 0 | J19: =午餐設計表!I20 -> 0 | K19: =午餐設計表!K20 -> 0 | M19: =午餐設計表!L20 -> 0 | N19: =午餐設計表!N20 -> 0 | P19: =午餐設計表!O20 -> 0 | Q19: =午餐設計表!Q20 -> 0 | S19: =午餐設計表!R20 -> 0 | U19: =午餐設計表!V13 -> 849大卡
A20: =午餐設計表!B22 -> 3 | B20: =午餐設計表!D22 -> 燕麥飯(327+16素) | C20: 蒸 | E20: =午餐設計表!E22 -> 御膳大排 | H20: =午餐設計表!H22 -> 田園咖哩 | K20: =午餐設計表!K22 -> 客家小炒 | N20: =午餐設計表!N22 -> 炒油菜 | Q20: =午餐設計表!Q22 -> 味噌海芽湯 | T20: =午餐設計表!T22 -> 0 | U20: 醣類： | V20: 全穀雜糧類 | W20: =午餐設計表!X22 -> 6.3份
A21: 月 | E21: =午餐設計表!E23 -> 強匠御膳大排(75g)-片 | G21: =午餐設計表!F23 -> 327 | H21: =午餐設計表!H23 -> 洋芋(去皮-泡水) | J21: =午餐設計表!I23 -> 10 | K21: =午餐設計表!K23 -> 西芹菜(去頭葉) | M21: =午餐設計表!L23 -> 10 | N21: =午餐設計表!N23 -> 油菜(去頭)實重 | P21: =午餐設計表!O23 -> 28 | Q21: =午餐設計表!Q23 -> 味噌(Ｋ) | S21: =午餐設計表!R23 -> 4 | U21: =午餐設計表!V23 -> 110.7 g | V21: 乳品類 | W21: =午餐設計表!X23 -> 0.0份
A22: =午餐設計表!B24 -> 15 | E22: =午餐設計表!E24 -> 強匠御膳大排(75g)備品-片 | G22: =午餐設計表!F24 -> 30 | H22: =午餐設計表!H24 -> 蕃薯(去皮) | J22: =午餐設計表!I24 -> 6 | K22: =午餐設計表!K24 -> 非基改豆干片(榮洲) | M22: =午餐設計表!L24 -> 10 | N22: =午餐設計表!N24 -> 碎蒜(0.6K/包) | P22: =午餐設計表!O24 -> 1 | Q22: =午餐設計表!Q24 -> 大骨(CAS) | S22: =午餐設計表!R24 -> 3 | U22: 脂肪： | V22: 豆魚蛋肉類 | W22: =午餐設計表!X24 -> 2.8份
A23: 日 | E23: =午餐設計表!E25 -> 0 | G23: =午餐設計表!F25 -> 0 | H23: =午餐設計表!H25 -> 洋蔥 | J23: =午餐設計表!I25 -> 5 | K23: =午餐設計表!K25 -> 肉絲香里 | M23: =午餐設計表!L25 -> 5 | N23: =午餐設計表!N25 -> 0 | P23: =午餐設計表!O25 -> 0 | Q23: =午餐設計表!Q25 -> 海帶芽(乾)(廠牌/日期) | S23: =午餐設計表!R25 -> 0.4 | U23: =午餐設計表!V24 -> 24.4 g | V23: 蔬菜類 | W23: =午餐設計表!X25 -> 1.4份
A24: 星期三 | E24: =午餐設計表!E26 -> 0 | G24: =午餐設計表!F26 -> 0 | H24: =午餐設計表!H26 -> 瘦絞肉粗(1比9)香里 | J24: =午餐設計表!I26 -> 5 | K24: =午餐設計表!K26 -> 杏鮑菇(A)(QR) | M24: =午餐設計表!L26 -> 3 | N24: =午餐設計表!N26 -> 0 | P24: =午餐設計表!O26 -> 0 | Q24: =午餐設計表!Q26 -> 0 | S24: =午餐設計表!R26 -> 0 | U24: 蛋白質： | V24: 水果類 | W24: =午餐設計表!X26 -> 0.0份
E25: =午餐設計表!E27 -> 0 | G25: =午餐設計表!F27 -> 0 | H25: =午餐設計表!H27 -> 紅蘿蔔(去皮) | J25: =午餐設計表!I27 -> 3 | K25: =午餐設計表!K27 -> 魷魚絲(乾) | M25: =午餐設計表!L27 -> 0.3 | N25: =午餐設計表!N27 -> 0 | P25: =午餐設計表!O27 -> 0 | Q25: =午餐設計表!Q27 -> 0 | S25: =午餐設計表!R27 -> 0 | U25: =午餐設計表!V25 -> 32.1 g | V25: 油脂與堅果種子類 | W25: =午餐設計表!X27 -> 2.3份
A26: 餐數 | E26: =午餐設計表!E28 -> 0 | G26: =午餐設計表!F28 -> 0 | H26: =午餐設計表!H28 -> 咖哩粉小磨坊(600g) | J26: =午餐設計表!I28 -> 1 | K26: =午餐設計表!K28 -> 0 | M26: =午餐設計表!L28 -> 0 | N26: =午餐設計表!N28 -> 0 | P26: =午餐設計表!O28 -> 0 | Q26: =午餐設計表!Q28 -> 0 | S26: =午餐設計表!R28 -> 0 | U26: 熱量：
A27: =午餐設計表!B30 -> 343 | E27: =午餐設計表!E29 -> 0 | G27: =午餐設計表!F29 -> 0 | H27: =午餐設計表!H29 -> 0 | J27: =午餐設計表!I29 -> 0 | K27: =午餐設計表!K29 -> 0 | M27: =午餐設計表!L29 -> 0 | N27: =午餐設計表!N29 -> 0 | P27: =午餐設計表!O29 -> 0 | Q27: =午餐設計表!Q29 -> 0 | S27: =午餐設計表!R29 -> 0 | U27: =午餐設計表!V22 -> 815大卡
A28: =午餐設計表!B31 -> 3 | B28: =午餐設計表!D31 -> 紫米飯 | C28: 蒸 | E28: =午餐設計表!E31 -> 泰式酸辣魚丁(獎勵金) | H28: =午餐設計表!H31 -> 蔥燒肉末豆腐 | K28: =午餐設計表!K31 -> 白玉什錦 | N28: =午餐設計表!N31 -> 炒蚵白菜 | Q28: =午餐設計表!Q31 -> 冬瓜大骨湯 | T28: =午餐設計表!T31 -> 愛心牛奶球(401+10)(15元精進) | U28: 醣類： | V28: 全穀雜糧類 | W28: =午餐設計表!X31 -> 6.9份
A29: 月 | E29: =午餐設計表!E32 -> 鯰魚丁(QR)(Ｋ) | G29: =午餐設計表!F32 -> 35 | H29: =午餐設計表!H32 -> 豆腐非基改(切大丁)(4.5K) | J29: =午餐設計表!I32 -> 7 | K29: =午餐設計表!K32 -> 菜頭(去皮) | M29: =午餐設計表!L32 -> 23 | N29: =午餐設計表!N32 -> 蚵白菜(去頭)實重 | P29: =午餐設計表!O32 -> 36 | Q29: =午餐設計表!Q32 -> 冬瓜(去皮籽實重) | S29: =午餐設計表!R32 -> 15 | U29: =午餐設計表!V32 -> 116.0 g | V29: 乳品類 | W29: =午餐設計表!X32 -> 0.0份
A30: =午餐設計表!B33 -> 16 | E30: =午餐設計表!E33 -> 洋蔥 | G30: =午餐設計表!F33 -> 6 | H30: =午餐設計表!H33 -> 瘦絞肉粗(1比9)香里 | J30: =午餐設計表!I33 -> 6 | K30: =午餐設計表!K33 -> 肉絲香里 | M30: =午餐設計表!L33 -> 6 | N30: =午餐設計表!N33 -> 薑絲(0.6K/包) | P30: =午餐設計表!O33 -> 1 | Q30: =午餐設計表!Q33 -> 大骨(CAS) | S30: =午餐設計表!R33 -> 3 | U30: 脂肪： | V30: 豆魚蛋肉類 | W30: =午餐設計表!X33 -> 2.4份
A31: 日 | E31: =午餐設計表!E34 -> 泰式酸辣醬(900g) | G31: =午餐設計表!F34 -> 3 | H31: =午餐設計表!H34 -> 蔥(0.5K/把) | J31: =午餐設計表!I34 -> 0.5 | K31: =午餐設計表!K34 -> 杏鮑菇(A)(QR) | M31: =午餐設計表!L34 -> 3 | N31: =午餐設計表!N34 -> 0 | P31: =午餐設計表!O34 -> 0 | Q31: =午餐設計表!Q34 -> 薑絲(0.6K/包) | S31: =午餐設計表!R34 -> 0.5 | U31: =午餐設計表!V33 -> 23.1 g | V31: 蔬菜類 | W31: =午餐設計表!X34 -> 1.9份
A32: 星期四 | E32: =午餐設計表!E35 -> 蒜仁(0.6K/包) | G32: =午餐設計表!F35 -> 1 | H32: =午餐設計表!H35 -> 0 | J32: =午餐設計表!I35 -> 0 | K32: =午餐設計表!K35 -> 紅蘿蔔(去皮) | M32: =午餐設計表!L35 -> 1 | N32: =午餐設計表!N35 -> 0 | P32: =午餐設計表!O35 -> 0 | Q32: =午餐設計表!Q35 -> 0 | S32: =午餐設計表!R35 -> 0 | U32: 蛋白質： | V32: 水果類 | W32: =午餐設計表!X35 -> 1.2份
E33: =午餐設計表!E36 -> 蔥(0.5K/把) | G33: =午餐設計表!F36 -> 1 | H33: =午餐設計表!H36 -> 0 | J33: =午餐設計表!I36 -> 0 | K33: =午餐設計表!K36 -> 0 | M33: =午餐設計表!L36 -> 0 | N33: =午餐設計表!N36 -> 0 | P33: =午餐設計表!O36 -> 0 | Q33: =午餐設計表!Q36 -> 0 | S33: =午餐設計表!R36 -> 0 | U33: =午餐設計表!V34 -> 32.1 g | V33: 油脂與堅果種子類 | W33: =午餐設計表!X36 -> 2.6份
A34: 餐數 | E34: =午餐設計表!E37 -> 薑絲(0.6K/包) | G34: =午餐設計表!F37 -> 1 | H34: =午餐設計表!H37 -> 0 | J34: =午餐設計表!I37 -> 0 | K34: =午餐設計表!K37 -> 0 | M34: =午餐設計表!L37 -> 0 | N34: =午餐設計表!N37 -> 0 | P34: =午餐設計表!O37 -> 0 | Q34: =午餐設計表!Q37 -> 0 | S34: =午餐設計表!R37 -> 0 | U34: 熱量：
A35: =午餐設計表!B39 -> 401 | E35: =午餐設計表!E38 -> 0 | G35: =午餐設計表!F38 -> 0 | H35: =午餐設計表!H38 -> 0 | J35: =午餐設計表!I38 -> 0 | K35: =午餐設計表!K38 -> 0 | M35: =午餐設計表!L38 -> 0 | N35: =午餐設計表!N38 -> 0 | P35: =午餐設計表!O38 -> 0 | Q35: =午餐設計表!Q38 -> 0 | S35: =午餐設計表!R38 -> 0 | U35: =午餐設計表!V31 -> 842大卡
A36: =午餐設計表!B40 -> 3 | B36: =午餐設計表!D40 -> 五穀米飯 | C36: 蒸 | E36: =午餐設計表!E40 -> 芋頭燒雞 | H36: =午餐設計表!H40 -> 白菜燴肉羹 | K36: =午餐設計表!K40 -> 蔥花碎脯蛋 | N36: =午餐設計表!N40 -> 炒有機青松菜 | Q36: =午餐設計表!Q40 -> 牛蒡雞湯 | T36: =午餐設計表!T40 -> 光泉優酪乳(20元精進)(401+10備) | U36: 醣類： | V36: 全穀雜糧類 | W36: =午餐設計表!X40 -> 4.4份
A37: 月 | E37: =午餐設計表!E41 -> 骨腿丁(CAS) | G37: =午餐設計表!F41 -> 33 | H37: =午餐設計表!H41 -> 大白菜(剖半) | J37: =午餐設計表!I41 -> 28 | K37: =午餐設計表!K41 -> 洗選蛋(QR) | M37: =午餐設計表!L41 -> 25 | N37: =午餐設計表!N41 -> 有機青松菜(彰) | P37: =午餐設計表!O41 -> 38 | Q37: =午餐設計表!Q41 -> 牛蒡 | S37: =午餐設計表!R41 -> 7 | U37: =午餐設計表!V41 -> 118.0 g | V37: 乳品類 | W37: =午餐設計表!X41 -> 1.0份
A38: =午餐設計表!B42 -> 17 | E38: =午餐設計表!E42 -> 芋頭(切大丁) | G38: =午餐設計表!F42 -> 12 | H38: =午餐設計表!H42 -> 赤肉羹(慶豐) | J38: =午餐設計表!I42 -> 6 | K38: =午餐設計表!K42 -> 碎脯(細) | M38: =午餐設計表!L42 -> 8 | N38: =午餐設計表!N42 -> 碎蒜(0.6K/包) | P38: =午餐設計表!O42 -> 1 | Q38: =午餐設計表!Q42 -> 骨腿丁(CAS) | S38: =午餐設計表!R42 -> 6 | U38: 脂肪： | V38: 豆魚蛋肉類 | W38: =午餐設計表!X42 -> 3.8份
A39: 日 | E39: =午餐設計表!E43 -> 蒜仁(0.6K/包) | G39: =午餐設計表!F43 -> 1 | H39: =午餐設計表!H43 -> 金針菇(QR) | J39: =午餐設計表!I43 -> 3 | K39: =午餐設計表!K43 -> 紅蘿蔔(去皮) | M39: =午餐設計表!L43 -> 2 | N39: =午餐設計表!N43 -> 0 | P39: =午餐設計表!O43 -> 0 | Q39: =午餐設計表!Q43 -> 美白菇(QR) | S39: =午餐設計表!R43 -> 2 | U39: =午餐設計表!V42 -> 23.9 g | V39: 蔬菜類 | W39: =午餐設計表!X43 -> 2.1份
A40: 星期五 | E40: =午餐設計表!E44 -> 蔥(0.5K/把) | G40: =午餐設計表!F44 -> 1 | H40: =午餐設計表!H44 -> 木耳(整朵) | J40: =午餐設計表!I44 -> 1 | K40: =午餐設計表!K44 -> 蔥(0.5K/把) | M40: =午餐設計表!L44 -> 0.5 | N40: =午餐設計表!N44 -> 0 | P40: =午餐設計表!O44 -> 0 | Q40: =午餐設計表!Q44 -> 薑片(0.3K) | S40: =午餐設計表!R44 -> 1 | U40: 蛋白質： | V40: 水果類 | W40: =午餐設計表!X44 -> 0.0份
...
